BEGIN:VCALENDAR
VERSION:2.0
PRODID:-//aktiefslip.nl - ECPv6.15.10//NONSGML v1.0//EN
CALSCALE:GREGORIAN
METHOD:PUBLISH
X-ORIGINAL-URL:https://aktiefslip.nl
X-WR-CALDESC:Events for aktiefslip.nl
REFRESH-INTERVAL;VALUE=DURATION:PT1H
X-Robots-Tag:noindex
X-PUBLISHED-TTL:PT1H
BEGIN:VTIMEZONE
TZID:Europe/Amsterdam
BEGIN:DAYLIGHT
TZOFFSETFROM:+0100
TZOFFSETTO:+0200
TZNAME:CEST
DTSTART:20240331T010000
END:DAYLIGHT
BEGIN:STANDARD
TZOFFSETFROM:+0200
TZOFFSETTO:+0100
TZNAME:CET
DTSTART:20241027T010000
END:STANDARD
BEGIN:DAYLIGHT
TZOFFSETFROM:+0100
TZOFFSETTO:+0200
TZNAME:CEST
DTSTART:20250330T010000
END:DAYLIGHT
BEGIN:STANDARD
TZOFFSETFROM:+0200
TZOFFSETTO:+0100
TZNAME:CET
DTSTART:20251026T010000
END:STANDARD
BEGIN:DAYLIGHT
TZOFFSETFROM:+0100
TZOFFSETTO:+0200
TZNAME:CEST
DTSTART:20260329T010000
END:DAYLIGHT
BEGIN:STANDARD
TZOFFSETFROM:+0200
TZOFFSETTO:+0100
TZNAME:CET
DTSTART:20261025T010000
END:STANDARD
END:VTIMEZONE
BEGIN:VEVENT
DTSTART;TZID=Europe/Amsterdam:20251201T193000
DTEND;TZID=Europe/Amsterdam:20251201T220000
DTSTAMP:20260419T183954
CREATED:20251128T094237Z
LAST-MODIFIED:20251128T094247Z
UID:27034-1764617400-1764626400@aktiefslip.nl
SUMMARY:Bob Ross [Akcie]
DESCRIPTION:🎨🌲 Bob Ross Painting Workshop ☁️🖌️Date 🗓️: December 1stTime 🕙: 19:30–22:00Price 🏷️: €1.5Location 📍: B0417 Hello dear Aktief Slippers!Feeling a little stressed after period 2? 🫠 Need to let your creative side flow like happy little rivers? 🌊 Then grab your brushes and join us for a cozy evening of painting\, laughter\, and Christmas vibes! 🫶Akcie invites you to channel your inner Bob Ross as we follow along with one of his iconic tutorials — no experience needed\, just bring your smile and a willingness to make some happy little accidents! ✨👩‍🎨 All materials (and snacks) will be provides\, so come ready to relax\, paint\, and vibe. 🎨💫 Don’t forget a cup for drinks.See you there!
URL:https://aktiefslip.nl/event/bob-ross-akcie/
ATTACH;FMTTYPE=image/jpeg:https://aktiefslip.nl/wp-content/uploads/2025/11/4e1b66e2-454f-4a56-a723-85b2d1c20088_Max-Bruyninckx.jpeg
END:VEVENT
BEGIN:VEVENT
DTSTART;TZID=Europe/Amsterdam:20251203T193000
DTEND;TZID=Europe/Amsterdam:20251203T223000
DTSTAMP:20260419T183955
CREATED:20251104T123424Z
LAST-MODIFIED:20251123T211306Z
UID:26880-1764790200-1764801000@aktiefslip.nl
SUMMARY:Sinterklaas [FYC]
DESCRIPTION:Aktief Slip Sinterklaas PartyWhen: Wednesday\, 3 December — 19:30Where: Location TBD \n\n\n\nHey Aktief Slip members!Get ready for a cozy and festive evening — we’re bringing you a Sinterklaas Party packed with fun\, games\, and holiday spirit from all around the world! \n\n\n\nWe’ve got:🎁 Optional gift exchange — bring a €3 gift (funny or nice) if you want to take part🎲 Games from different cultures🎉 Activities to keep everyone entertained🍫Snacks for the perfect festive vibe🍪Cookie decorating station \n\n\n\nWhether you’re joining for the games\, the cultural mix\, or just to relax and enjoy the evening\, this is the place to be! \n\n\n\nWe can’t wait to see you there!—Your FYC Committee
URL:https://aktiefslip.nl/event/sinterklaas-fyc-2/
ATTACH;FMTTYPE=image/png:https://aktiefslip.nl/wp-content/uploads/2025/11/Sinterklaas-2_Maia-Nica-Vecerdea.png
END:VEVENT
BEGIN:VEVENT
DTSTART;TZID=Europe/Amsterdam:20251204T190000
DTEND;TZID=Europe/Amsterdam:20251204T210000
DTSTAMP:20260419T183955
CREATED:20251201T152717Z
LAST-MODIFIED:20251201T152721Z
UID:27080-1764874800-1764882000@aktiefslip.nl
SUMMARY:Documentary Night [Educacie]
DESCRIPTION:EducaCie presents: Documentary Night!!📽 \n\n\n\nStay out of the cold and join us on a cozy evening to dive into the marine world\, and learn a little more about human impact on marine biodiversity🐠🐋. (PS: free snacks and drinks provided!) \n\n\n\nDate: Thursday\, December 4thTime: 7-9 pmLocation: Forum\, room B0214 \n\n\n\nSee you there 🌊
URL:https://aktiefslip.nl/event/documentary-night-educacie/
ATTACH;FMTTYPE=image/png:https://aktiefslip.nl/wp-content/uploads/2025/12/docu-night-promo-2_Hannah-Boer-de.png
END:VEVENT
BEGIN:VEVENT
DTSTART;TZID=Europe/Amsterdam:20251208T090000
DTEND;TZID=Europe/Amsterdam:20251212T180000
DTSTAMP:20260419T183955
CREATED:20251127T164251Z
LAST-MODIFIED:20251127T164335Z
UID:27031-1765184400-1765562400@aktiefslip.nl
SUMMARY:Study Room [Board]
DESCRIPTION:Hey cuties\, \n\n\n\nIs the library getting too crowded? Struggling to find the perfect spot to focus\, or simply want a quieter place to study with friends? We’ve got your back !!!! Study rooms are available for all BES\, MES\, MUE and MCL students. Come whenever you want from 9 to 6 on Monday\, Tuesday\, Wednesday\, Thursday and Friday. Whether you need a place to focus or take a break with friends\, you don’t have to worry anymore! We also have plenty of snacks\, coffee and tea to keep you energized. So\, relax and come study with us. \n\n\n\nWhen: December 8th to December 12thTime: 09:00 – 18:00Where: Forum B0313Free\, open event !!! \n\n\n\nWith loveAktief Slip board
URL:https://aktiefslip.nl/event/study-room-board/
ATTACH;FMTTYPE=image/png:https://aktiefslip.nl/wp-content/uploads/2025/11/study-room-pic_Lola-Patterson-Cass.png
END:VEVENT
BEGIN:VEVENT
DTSTART;TZID=Europe/Amsterdam:20251209T193000
DTEND;TZID=Europe/Amsterdam:20251209T203000
DTSTAMP:20260419T183955
CREATED:20251127T164026Z
LAST-MODIFIED:20251127T164104Z
UID:27028-1765308600-1765312200@aktiefslip.nl
SUMMARY:Yoga Session [Sportcie]
DESCRIPTION:Do you feel like taking a break from studying? Is your body tired from staying in the same posture all day? 📚Take a well-deserved break and join our Yoga Session on Tuesday\, December 9th starting at 19:30 in Forum [TBD] 🧘‍♀✨ \n\n\n\nThe session will be guided by Spectrum\, Wageningen’s student organisation focused on spirituality\, personal growth\, connection\, philosophy and creativity. \n\n\n\nBring a yoga mat if you have one at home. Otherwise\, we’ve got you covered. No sign-up necessary 🙂 \n\n\n\nWe can’t wait to see you there for a relaxing study break! 🌿🧘‍♂
URL:https://aktiefslip.nl/event/yoga-session-sportcie/
ATTACH;FMTTYPE=image/png:https://aktiefslip.nl/wp-content/uploads/2025/11/Yoga-session_Hannah-Boer-de.png
END:VEVENT
BEGIN:VEVENT
DTSTART;TZID=Europe/Amsterdam:20251210T190000
DTEND;TZID=Europe/Amsterdam:20251210T200000
DTSTAMP:20260419T183955
CREATED:20251127T163206Z
LAST-MODIFIED:20251127T163217Z
UID:27021-1765393200-1765396800@aktiefslip.nl
SUMMARY:General Members Meeting [Board]
DESCRIPTION:It’s that time again! Join us for the Aktief Slip General Members Meeting (GMM) — an essential moment where we come together as a community to shape the future of our association.📅 Date: [December 10th 2025] 🕒 Time: [19:00-20:00] 📍 Location: [Forum B0103]This GMM will focus on two major topics: 📘 The Charter – Let’s walk through the core foundation of our association and ensure it truly reflects who we are today. ⚖️ Updated Regulations – We’ll present and discuss proposed updates to our rules and policies. Your feedback and vote are key to making sure the changes serve all members.Come and give your input on making our association!
URL:https://aktiefslip.nl/event/general-members-meeting-board/
ATTACH;FMTTYPE=image/png:https://aktiefslip.nl/wp-content/uploads/2025/11/GMM-December-10th-2025_Hafsah-Ali.png
END:VEVENT
BEGIN:VEVENT
DTSTART;TZID=Europe/Amsterdam:20251212T080000
DTEND;TZID=Europe/Amsterdam:20251212T180000
DTSTAMP:20260419T183955
CREATED:20251130T192310Z
LAST-MODIFIED:20251130T192314Z
UID:27056-1765526400-1765562400@aktiefslip.nl
SUMMARY:Purple Friday [Board]
DESCRIPTION:Hello dearest slippers🩴\, \n\n\n\nFriday 12 December is purple Friday💜! This is a day where we invite you to wear purple to show your support of the LGBTQ+ community🏳️‍🌈. Whether you show up fully decked out in a purple suit 🕴️\, or just chose to wear some nail polish💅\, a touch of purple shows that you want everyone to be unapologetically themselves🌈!We will have purple nail polish and makeup available in the Hok. Hope to see you there! \n\n\n\nWith love\,Aktief Slip❤️
URL:https://aktiefslip.nl/event/purple-friday-board/
ATTACH;FMTTYPE=image/png:https://aktiefslip.nl/wp-content/uploads/2025/11/Purple-Friday_Raphaelle-Vroemen.png
END:VEVENT
END:VCALENDAR