BEGIN:VCALENDAR
VERSION:2.0
PRODID:-//aktiefslip.nl - ECPv6.15.10//NONSGML v1.0//EN
CALSCALE:GREGORIAN
METHOD:PUBLISH
X-ORIGINAL-URL:https://aktiefslip.nl
X-WR-CALDESC:Events for aktiefslip.nl
REFRESH-INTERVAL;VALUE=DURATION:PT1H
X-Robots-Tag:noindex
X-PUBLISHED-TTL:PT1H
BEGIN:VTIMEZONE
TZID:Europe/Amsterdam
BEGIN:DAYLIGHT
TZOFFSETFROM:+0100
TZOFFSETTO:+0200
TZNAME:CEST
DTSTART:20240331T010000
END:DAYLIGHT
BEGIN:STANDARD
TZOFFSETFROM:+0200
TZOFFSETTO:+0100
TZNAME:CET
DTSTART:20241027T010000
END:STANDARD
BEGIN:DAYLIGHT
TZOFFSETFROM:+0100
TZOFFSETTO:+0200
TZNAME:CEST
DTSTART:20250330T010000
END:DAYLIGHT
BEGIN:STANDARD
TZOFFSETFROM:+0200
TZOFFSETTO:+0100
TZNAME:CET
DTSTART:20251026T010000
END:STANDARD
BEGIN:DAYLIGHT
TZOFFSETFROM:+0100
TZOFFSETTO:+0200
TZNAME:CEST
DTSTART:20260329T010000
END:DAYLIGHT
BEGIN:STANDARD
TZOFFSETFROM:+0200
TZOFFSETTO:+0100
TZNAME:CET
DTSTART:20261025T010000
END:STANDARD
END:VTIMEZONE
BEGIN:VEVENT
DTSTART;TZID=Europe/Amsterdam:20250903T131000
DTEND;TZID=Europe/Amsterdam:20250903T140000
DTSTAMP:20260419T144813
CREATED:20250617T101352Z
LAST-MODIFIED:20250814T074240Z
UID:17130-1756905000-1756908000@aktiefslip.nl
SUMMARY:First-year bachelor lunch [Board x FYC] 
DESCRIPTION:Wednesday September 3rdTime⏰: 13:10 – 14:00Where📍: Outside ForumFree lunch event! 🥪☀️ \n\n\n\n \n\n\n\nFirst-years\, this one’s for you!BoRaD x FYC invite you to a Free First Year Bachelor Lunch — a relaxed chance to meet your new classmates\, enjoy some food together\, and get to know what Aktief Slip is all about 💬🌿 \n\n\n\nWhether you’re already curious about joining or just want to see what we do\, this is the perfect opportunity to connect and ask questions in a super chill setting. \n\n\n\nNo registration needed – just bring yourself (and maybe a friend) and we’ll handle the rest 💚
URL:https://aktiefslip.nl/event/first-year-bachelor-lunch-board-x-fyc/
ATTACH;FMTTYPE=image/jpeg:https://aktiefslip.nl/wp-content/uploads/2025/06/WhatsApp-Image-2025-08-14-at-00.22.57_db213e0f.jpg
END:VEVENT
BEGIN:VEVENT
DTSTART;TZID=Europe/Amsterdam:20250904T173000
DTEND;TZID=Europe/Amsterdam:20250904T235900
DTSTAMP:20260419T144813
CREATED:20250623T183820Z
LAST-MODIFIED:20250830T221545Z
UID:17174-1757007000-1757030340@aktiefslip.nl
SUMMARY:Mini-Golf [Akcie]
DESCRIPTION:Mini golf tournament🏆⛳️☀️Hello dear members\,What better way to start the year by beating your friends (or friends to be😉) in an epic mini golf tournament?? Join us on the first Thursday of the academic year for a mini golf tournament in Rhenen! It’s also a perfect way to start your night\, should you want to prolong it😈 We’ll provide drinks\, directions and FREE mini golf\, so sign up in the link below!Note: we will cycle to Rhenen all together\, meeting at the W in front of Forum at 17:30\, leaving at 17:45. We aim be back in Wageningen around 21:00
URL:https://aktiefslip.nl/event/mini-golf-akcie/
ATTACH;FMTTYPE=image/png:https://aktiefslip.nl/wp-content/uploads/2025/06/IMG_9447_Ines-Farah.png
END:VEVENT
BEGIN:VEVENT
DTSTART;TZID=Europe/Amsterdam:20250905T130000
DTEND;TZID=Europe/Amsterdam:20250905T140000
DTSTAMP:20260419T144813
CREATED:20250617T101513Z
LAST-MODIFIED:20250814T142336Z
UID:17132-1757077200-1757080800@aktiefslip.nl
SUMMARY:First-year master lunch [Board] 
DESCRIPTION:🥗 Masters (First Year) Lunch – Hosted by the Aktief Slip Board 🥗 \n\n\n\n \n\n\n\nHey first-year Master’s students! 🎓Kick off the semester by joining us for a relaxed and friendly lunch with the Aktief Slip Board. It’s the perfect chance to meet your fellow classmates\, connect with the board\, and learn more about what’s happening this year! \n\n\n\n \n\n\n\n📍 Location: TBD🕐 Time: 13:00 – 14:00📅 Date: 5th September 2025 \n\n\n\n \n\n\n\nCome hungry\, bring your questions\, and let’s make your first year unforgettable!Stay tuned for the location announcement – we can’t wait to see you there!
URL:https://aktiefslip.nl/event/first-year-master-lunch-board/
ATTACH;FMTTYPE=image/png:https://aktiefslip.nl/wp-content/uploads/2025/06/Vibrant-Red-Illustrated-Local-Store-Square-Po_Uzma-Hussain.png
END:VEVENT
BEGIN:VEVENT
DTSTART;TZID=Europe/Amsterdam:20250908T131500
DTEND;TZID=Europe/Amsterdam:20250912T140000
DTSTAMP:20260419T144813
CREATED:20250813T215555Z
LAST-MODIFIED:20250813T215557Z
UID:17235-1757337300-1757685600@aktiefslip.nl
SUMMARY:BES Hok Visits [Board]
DESCRIPTION:Did you know Aktief Slip has an awesome office\, called the HOK? Located in Forum on the first floor\, it’s available to all members and always open during lunchtime 🕛 \n\n\n\nThe HOK is the perfect spot to chill\, meet new people or just relax between classes. We’ve got comfy coaches\, a desk\, and even a Wii 🎮 for some fun ! \n\n\n\nWant to check it out? BES students are invited to stop by during Week 2 of September\, where we’ll have free snacks waiting for you 🍪🥤!
URL:https://aktiefslip.nl/event/bes-hok-visits-board/
ATTACH;FMTTYPE=image/png:https://aktiefslip.nl/wp-content/uploads/2025/08/BES-Hok-visits_Coline-Renardy.png
END:VEVENT
BEGIN:VEVENT
DTSTART;TZID=Europe/Amsterdam:20250909T180000
DTEND;TZID=Europe/Amsterdam:20250909T210000
DTSTAMP:20260419T144813
CREATED:20250713T152224Z
LAST-MODIFIED:20250826T105230Z
UID:17189-1757440800-1757451600@aktiefslip.nl
SUMMARY:Orientation Run [BataCie]
DESCRIPTION:Aktief Slip Orientation Race🏃‍♂🏃‍♀ \n\n\n\n📆Date: Tuesday\, September 9📌Location: Somewhere in Wageningen💰Cost: free!! \n\n\n\n \n\n\n\nDear Aktief Slippers\, \n\n\n\n \n\n\n\nDo you like running\, or more importantly\, do you want to get to know your fellow students and the beautiful nature around Wageningen? 🏃‍♀🏃‍♂ Then\, the Aktief Slip Orientation Race is something for you!On the 9th of September\, from 6:00 pm\, we will go to a secret location in the nature of Wageningen and practice our navigation skills while battling each other in minigames🧭🗺. We will end the evening with some pizza and snacks!🍕The race will take place in groups of two or three. You can sign up with your friends using the link below\, or you can register alone\, and we’ll assign you to a group. 💚 \n\n\n\nJoin the WhatsApp group here: https://chat.whatsapp.com/J34J5zj2stq8tYN7AWh493Please note that the sign-up deadline is Sunday\, September 7\, at 11:59 PM. \n\n\n\n \n\n\n\nWe hope to see you there!BataCie
URL:https://aktiefslip.nl/event/orientation-run-batacie/
ATTACH;FMTTYPE=image/png:https://aktiefslip.nl/wp-content/uploads/2025/07/Orientation-Run_Justin-Bruns.png
END:VEVENT
BEGIN:VEVENT
DTSTART;TZID=Europe/Amsterdam:20250910T220000
DTEND;TZID=Europe/Amsterdam:20250911T030000
DTSTAMP:20260419T144813
CREATED:20250617T101635Z
LAST-MODIFIED:20250814T085843Z
UID:17134-1757541600-1757559600@aktiefslip.nl
SUMMARY:Beginning of the year Party [Board] 
DESCRIPTION:🗓 10 September\, 22:00–03:00📍 De Bunker🎭 Iconic Duos — partner up & dress as an iconic pair \n\n\n\n \n\n\n\nHello Aktief Slippers! \n\n\n\nIts that time to start another year off with a bang. This year\, we invite you all to Aktief Slip’s very own beginning of the year party. The theme for this years party is… “ICONIC DUO.” \n\n\n\n \n\n\n\nSo grab a friend\, pick an iconic duo\, and own the night. Think Mario & Luigi\, Sherlock & Watson\, Beyoncé & Jay-Z—surprise us with your spin. Two costumes\, one legend. \n\n\n\n \n\n\n\nPut the date in your agenda and see you on the floor! 🫶🍀 Aktief Slip 🍀
URL:https://aktiefslip.nl/event/beginning-of-the-year-party-board/
ATTACH;FMTTYPE=image/png:https://aktiefslip.nl/wp-content/uploads/2025/06/Beginning-of-the-year-party-promo.png
END:VEVENT
BEGIN:VEVENT
DTSTART;TZID=Europe/Amsterdam:20250912T131500
DTEND;TZID=Europe/Amsterdam:20250912T140000
DTSTAMP:20260419T144813
CREATED:20250908T194508Z
LAST-MODIFIED:20250908T194511Z
UID:26553-1757682900-1757685600@aktiefslip.nl
SUMMARY:Board Interest Presentation [Board]
DESCRIPTION:Do you wanna know what the board of Aktief Slip does?🤔 Are you maybe interested in joining the board?Then join our Board Interest Presentation on Friday 12th of September from 13:15 to 14:00 in Forum B0229!You’ll get the chance to chat with current board members😎\, hear what a board year is really like— the fun parts🎉\, the challenges💪 and all the behind-the-scenes stories🎬. Whether you’re considering joining the board or just a bit curious\, this is the perfect moment to learn more👀
URL:https://aktiefslip.nl/event/board-interest-presentation-board/
ATTACH;FMTTYPE=image/png:https://aktiefslip.nl/wp-content/uploads/2025/09/Board-Interest-Presentation_Coline-Renardy.png
END:VEVENT
BEGIN:VEVENT
DTSTART;TZID=Europe/Amsterdam:20250915T131500
DTEND;TZID=Europe/Amsterdam:20250919T140000
DTSTAMP:20260419T144813
CREATED:20250813T215752Z
LAST-MODIFIED:20250814T142601Z
UID:17238-1757942100-1758290400@aktiefslip.nl
SUMMARY:Master Hok Visits [Board]
DESCRIPTION:Did you know Aktief Slip has an awesome office\, called the HOK? Located in Forum on the first floor\, it’s available to all members and always open during lunchtime 🕛 \n\n\n\n \n\n\n\nThe HOK is the perfect spot to chill\, meet new people or just relax between classes. We’ve got comfy coaches\, a desk\, and even a Wii 🎮 for some fun ! \n\n\n\n \n\n\n\nWant to check it out? Master students are invited to stop by during Week 3 of September (preferably MES on Monday\, MUE on Tuesday and MCL on Wednesday). We’ll also have free snacks waiting for you🍪🥤
URL:https://aktiefslip.nl/event/master-hok-visits-board/
ATTACH;FMTTYPE=image/png:https://aktiefslip.nl/wp-content/uploads/2025/08/Master-Hok-visits_Coline-Renardy.png
END:VEVENT
BEGIN:VEVENT
DTSTART;TZID=Europe/Amsterdam:20250916T180000
DTEND;TZID=Europe/Amsterdam:20250916T210000
DTSTAMP:20260419T144813
CREATED:20250623T183320Z
LAST-MODIFIED:20250901T144111Z
UID:17172-1758045600-1758056400@aktiefslip.nl
SUMMARY:Book Club [EducaCie]
DESCRIPTION:✨ Join us for the first Book Club meeting of the year! ✨ \n\n\n\n \n\n\n\nWe’re starting the year with tea\, snacks\, and plenty of bookish conversation. At this meeting\, we’ll be choosing our reading list together — so bring your favorite recommendations (any genre\, any style) or just come to listen and discover new reads. \n\n\n\n \n\n\n\nOur book club is all about sharing ideas and enjoying discussion — not racing to the last page. Whether you’re a casual reader\, a devoted bookworm\, or just curious to join the conversation\, you’re welcome. \n\n\n\n \n\n\n\n📅 September 16th\, 18:00📍 Haarweg 103
URL:https://aktiefslip.nl/event/book-club-educacie-10/
ATTACH;FMTTYPE=image/png:https://aktiefslip.nl/wp-content/uploads/2025/06/White-Book-Fair-Instagram-Post_Emi-Khayat.png
END:VEVENT
BEGIN:VEVENT
DTSTART;TZID=Europe/Amsterdam:20250917T193000
DTEND;TZID=Europe/Amsterdam:20250917T220000
DTSTAMP:20260419T144813
CREATED:20250617T101722Z
LAST-MODIFIED:20250813T222032Z
UID:17136-1758137400-1758146400@aktiefslip.nl
SUMMARY:Get to know aktief slip drinks [Papi x Board] 
DESCRIPTION:What❓: Get to know Aktief Slip drinksWhen🗓: 17th of September 19:30The location will be announced in the first week of uni🥳 \n\n\n\n \n\n\n\nHi everyone!What better way to start the schoolyear than with Free drinks with your fellow students👩‍🎓👨‍🎓? During this event you can get to know your fellow study mates as well as getting to know our wonderful study association🏃🩴🍀 During this event we will provide lovely games🃏along free fancy drinks and snacks😋🍻 \n\n\n\n \n\n\n\nPut the date in your agenda and hope to see you there🫶 \n\n\n\n \n\n\n\n🍀Aktief Slip🍀 \n\n\n\n \n\n\n\np.s. please bring your own cup🏆
URL:https://aktiefslip.nl/event/beginning-of-the-year-drinks-board-x-papi/
ATTACH;FMTTYPE=image/png:https://aktiefslip.nl/wp-content/uploads/2025/06/Get-to-know-aktief-slip-drinks-1_Feline-Boer-de.png
END:VEVENT
BEGIN:VEVENT
DTSTART;TZID=Europe/Amsterdam:20250918T183000
DTEND;TZID=Europe/Amsterdam:20250918T190000
DTSTAMP:20260419T144813
CREATED:20250617T101803Z
LAST-MODIFIED:20250901T144355Z
UID:17138-1758220200-1758222000@aktiefslip.nl
SUMMARY:First Year Free Fries [ESG Artio] 
DESCRIPTION:Hey new students!Join us on Thursday 18 September at 18:30 in front of Forum for some free fries🍟🍟🍟👉 We have limited stock\, so first come\, first served!This event is for all first-years (BSc + MSc) of E.S.G. Artio🐻\, the Environmental Sciences Group composed of 8 awesome study associations: Aktief Slip • Artemis • Genius Loci • Licere • Minoa • Pyrus • Nitocra • SylvaticaIt’s the perfect chance to meet fellow students from other studies and kick off the year together!We hope to see you there!Ciaooo\,E.S.G. ArtioPs. Please sign up with the following link: https://forms.office.com/e/S9njKfgPAy
URL:https://aktiefslip.nl/event/first-year-free-fries-esg-artio/
ATTACH;FMTTYPE=image/jpeg:https://aktiefslip.nl/wp-content/uploads/2025/06/Free-Fries_Coline-Renardy.jpg
END:VEVENT
BEGIN:VEVENT
DTSTART;TZID=Europe/Amsterdam:20250921T150000
DTEND;TZID=Europe/Amsterdam:20250921T180000
DTSTAMP:20260419T144813
CREATED:20250623T184007Z
LAST-MODIFIED:20250915T113502Z
UID:17176-1758466800-1758477600@aktiefslip.nl
SUMMARY:CharityCie
DESCRIPTION:Please don’t stop the summer – Drinks & dance for charity \n\n\n\nLocation: Costerweg outside common area (in case of rain: Costerweg common room)Time: 15:00-18:00Theme: Beach Vibe🏝️ \n\n\n\nRaising money for: Surf Rider EU 🏄‍♀️ 🏄🏻‍♂️ \n\n\n\nCome celebrate the last day of summer with us on Sunday 21st September at Costerweg\, from 15:00! We’ll have DJs\, various homemade drinks (alcoholic and non alcoholic) and some tasty snacks/ baked goods all in the theme of summer and sustainability🌞🌱🍋 First come first served! The theme is Beach Vibe\, so come dressed in your favourite beach attire. Best dressed wins a free drink! \n\n\n\nAll profits will go to our charity of the year: Surf Rider EU\, a charity fighting for the protection of the ocean with a focus on 3 main issues- marine litter\, coastal development and water quality & health.
URL:https://aktiefslip.nl/event/charitycie/
ATTACH;FMTTYPE=image/jpeg:https://aktiefslip.nl/wp-content/uploads/2025/06/WhatsApp-Image-2025-09-14-at-21.05.06_1e0b71a8.jpg
END:VEVENT
BEGIN:VEVENT
DTSTART;TZID=Europe/Amsterdam:20250923T160000
DTEND;TZID=Europe/Amsterdam:20250923T190000
DTSTAMP:20260419T144813
CREATED:20250626T135245Z
LAST-MODIFIED:20250901T143811Z
UID:17180-1758643200-1758654000@aktiefslip.nl
SUMMARY:Beach Volleyball [SportCie]
DESCRIPTION:Hey Aktief Slippers! Get ready for the first Sportcie event of the year🎉 . The 23rd of September from 16:00 to 19:00 we’ll gather outside the Bongerd for an afternoon of beach volleyball🏐🏖️ . Doesn’t matter if you are a pro or you just want to try out this fun sport\, all skill levels are welcomed! So\, bring your friends to play with and against them. We’ll also have some snacks for you to enjoy during and after the games🧃🍧. See you there!!
URL:https://aktiefslip.nl/event/beach-volleyball-2/
ATTACH;FMTTYPE=image/jpeg:https://aktiefslip.nl/wp-content/uploads/2025/06/WhatsApp-Image-2025-08-19-at-15.17.44_a5060672.jpg
END:VEVENT
BEGIN:VEVENT
DTSTART;TZID=Europe/Amsterdam:20250924T170000
DTEND;TZID=Europe/Amsterdam:20250924T203000
DTSTAMP:20260419T144813
CREATED:20250617T101938Z
LAST-MODIFIED:20250922T201508Z
UID:17140-1758733200-1758745800@aktiefslip.nl
SUMMARY:Master MUN [Educacie x Mastercie x WURMUN] 
DESCRIPTION:🌿 Debate Evening 🌿Curious about how Indigenous voices shape global climate action?Join us for a MUN-style debate on the role of Indigenous peoples in environmental policy. Step into the shoes of international delegates\, exchange perspectives\, and explore how traditional knowledge meets modern challenges. \n\n\n\n📍 Location TBD📅 September 24th\, 17:00 – 20:30✨ Open to anyone – whether you’re a seasoned debater or just curious! \n\n\n\nSign up now!https://forms.gle/9HyKdE9FEwvdTgmMA
URL:https://aktiefslip.nl/event/master-mun-educacie-x-mastercie-x-wurmun/
ATTACH;FMTTYPE=image/png:https://aktiefslip.nl/wp-content/uploads/2025/06/Yellow-Illustrated-Debates-Presentation-940_Twan-Ooink-1.png
END:VEVENT
BEGIN:VEVENT
DTSTART;TZID=Europe/Amsterdam:20250926T080000
DTEND;TZID=Europe/Amsterdam:20250926T170000
DTSTAMP:20260419T144813
CREATED:20250903T162346Z
LAST-MODIFIED:20250922T201319Z
UID:26528-1758873600-1758906000@aktiefslip.nl
SUMMARY:Masters Network Drinks [MasterCie]
DESCRIPTION:🍻✨ Ready to meet new people and expand your network? Join the MasterCie Networking Drinks on 25 September at 20:30! This is the perfect chance to connect with fellow students\, share experiences\, and build friendships — all in a relaxed and fun setting. Whether you’re new in Wageningen or already know your way around\, grab a drink\, start a conversation\, and enjoy the evening with your peers. Don’t miss it!
URL:https://aktiefslip.nl/event/masters-network-drinks-mastercie/
ATTACH;FMTTYPE=image/jpeg:https://aktiefslip.nl/wp-content/uploads/2025/09/WhatsApp-Image-2025-09-22-at-17.09.54_b82e2b91.jpg
END:VEVENT
BEGIN:VEVENT
DTSTART;TZID=Europe/Amsterdam:20250930T183000
DTEND;TZID=Europe/Amsterdam:20250930T220000
DTSTAMP:20260419T144813
CREATED:20250617T102014Z
LAST-MODIFIED:20250813T213239Z
UID:17142-1759257000-1759269600@aktiefslip.nl
SUMMARY:FGMM 
DESCRIPTION:Tuesday\, September 30thRoom: TBDTime: 18:30-22:00 \n\n\n\nAs the financial year comes to a close\, it is time to allocate the new budget! 💸 Come the the annual FGMM (Financial general members’ meeting) to get an overview of the last bookyear and the allocation of budget for the new bookyear. Free drinks and snacks provided. Come have your voice heard regarding Aktief Slip’s finances or just come to be informed. See you there!
URL:https://aktiefslip.nl/event/fgmm-3/
ATTACH;FMTTYPE=image/jpeg:https://aktiefslip.nl/wp-content/uploads/2025/06/SAVE_20250731_162331_Vilem-Cech.jpg
END:VEVENT
END:VCALENDAR