BEGIN:VCALENDAR
VERSION:2.0
PRODID:-//aktiefslip.nl - ECPv6.15.10//NONSGML v1.0//EN
CALSCALE:GREGORIAN
METHOD:PUBLISH
X-WR-CALNAME:aktiefslip.nl
X-ORIGINAL-URL:https://aktiefslip.nl
X-WR-CALDESC:Events for aktiefslip.nl
REFRESH-INTERVAL;VALUE=DURATION:PT1H
X-Robots-Tag:noindex
X-PUBLISHED-TTL:PT1H
BEGIN:VTIMEZONE
TZID:Europe/Amsterdam
BEGIN:DAYLIGHT
TZOFFSETFROM:+0100
TZOFFSETTO:+0200
TZNAME:CEST
DTSTART:20250330T010000
END:DAYLIGHT
BEGIN:STANDARD
TZOFFSETFROM:+0200
TZOFFSETTO:+0100
TZNAME:CET
DTSTART:20251026T010000
END:STANDARD
BEGIN:DAYLIGHT
TZOFFSETFROM:+0100
TZOFFSETTO:+0200
TZNAME:CEST
DTSTART:20260329T010000
END:DAYLIGHT
BEGIN:STANDARD
TZOFFSETFROM:+0200
TZOFFSETTO:+0100
TZNAME:CET
DTSTART:20261025T010000
END:STANDARD
BEGIN:DAYLIGHT
TZOFFSETFROM:+0100
TZOFFSETTO:+0200
TZNAME:CEST
DTSTART:20270328T010000
END:DAYLIGHT
BEGIN:STANDARD
TZOFFSETFROM:+0200
TZOFFSETTO:+0100
TZNAME:CET
DTSTART:20271031T010000
END:STANDARD
END:VTIMEZONE
BEGIN:VEVENT
DTSTART;TZID=Europe/Amsterdam:20260408T183000
DTEND;TZID=Europe/Amsterdam:20260408T213000
DTSTAMP:20260420T085600
CREATED:20260302T155843Z
LAST-MODIFIED:20260326T114217Z
UID:27434-1775673000-1775683800@aktiefslip.nl
SUMMARY:Chocolate Tasting [Akcie]
DESCRIPTION:Heya slippers!Do you love chocolate 🍫? Did you always wanted to compare many flavours side by side? Or do you want to elevate your taste palette? You can do all these things and learn many others on a Chocolate tasting event 8th of April in Forum! Many types\, brands and fun facts will be provided. The entry for you is 3 euros and for non-slippers 5 if you want to bring a friend aside from good vibes.We’re starting at 18.30 with a lot of fun facts and knowledge about the industry so be on time!See you there\, the more people the more flavours we’ll try!!
URL:https://aktiefslip.nl/event/chocolate-tasting-akcie/
ATTACH;FMTTYPE=image/png:https://aktiefslip.nl/wp-content/uploads/2026/03/Chocolate-tasting-Event_Joanna-Puszczynska.png
END:VEVENT
BEGIN:VEVENT
DTSTART;TZID=Europe/Amsterdam:20260410T000000
DTEND;TZID=Europe/Amsterdam:20260412T170000
DTSTAMP:20260420T085600
CREATED:20250922T185127Z
LAST-MODIFIED:20260318T221418Z
UID:26600-1775779200-1776013200@aktiefslip.nl
SUMMARY:Weekend Trip to Calais [ESG Artio]
DESCRIPTION:Dear Cubs🐻\,The moment we have all been waiting for\, THE E.S.G. ARTIO WEEKEND TRIP!!!🍷🇫🇷🧀 On Friday April 10th we set sail to the coastal city of Calais at 17:00! Let’s enjoy the white cliffs\, eat baguette’s\, drink wine and take in the fresh sea air.⛵🐚 On Sunday April 12th we will return to Wageningen and maybe even make a stop underway. For only €75\, – you can join us on this adventure\, and this includes all meals! 🥐🥖🥖 So\, join the E.S.G. Artio weekend trip to Callais\, and be quick! There are limited spots! \n\n\n\nSign up here: https://docs.google.com/forms/d/e/1FAIpQLSdgsR9O3ZdNa_hjJU-0cjEZgH5qy8HWOUyt_MdBRSWhhkhtVQ/viewform?usp=publish-editor \n\n\n\nWith love\,E.S.G. Artio💚🍷
URL:https://aktiefslip.nl/event/excursion-esg/
ATTACH;FMTTYPE=image/jpeg:https://aktiefslip.nl/wp-content/uploads/2025/09/WhatsApp-Image-2026-03-17-at-16.09.46.jpeg
END:VEVENT
BEGIN:VEVENT
DTSTART;TZID=Europe/Amsterdam:20260415T200000
DTEND;TZID=Europe/Amsterdam:20260415T213000
DTSTAMP:20260420T085600
CREATED:20260302T155929Z
LAST-MODIFIED:20260402T092038Z
UID:27437-1776283200-1776288600@aktiefslip.nl
SUMMARY:Pool Night [PaPi]
DESCRIPTION:Pool night 🎱Wednesday 15th of April19:45 – 21:15 @Pool Café InfinityTicket price €3.99🤑 \n\n\n\nDo you want to break the week in half with a fun activity with your friends🪓🗓️ Well\, PaPi is organizing a pool night at pool cafe infinity in the city centre🎱 for only €3.99 you can pool for over an hour and enjoy not one but two FREE drinks🤑🍻So come join us for this wonderful activity\, but be weary\, there are limited spots available so be quick💨
URL:https://aktiefslip.nl/event/infinity-pool-papi/
ATTACH;FMTTYPE=image/png:https://aktiefslip.nl/wp-content/uploads/2026/03/poolcafe-promo_Mark-Pasman-1.png
END:VEVENT
BEGIN:VEVENT
DTSTART;TZID=Europe/Amsterdam:20260417T200000
DTEND;TZID=Europe/Amsterdam:20260417T200000
DTSTAMP:20260420T085600
CREATED:20260416T111951Z
LAST-MODIFIED:20260416T111954Z
UID:27659-1776456000-1776456000@aktiefslip.nl
SUMMARY:Gala Ticket Sale Opening 17/04 20.00
DESCRIPTION:TICKET SALE FRIDAY AT 20:00!!! \n\n\n\nWhen: 12th of MayTime: 20:30Where: International Club Association \n\n\n\nThe gala committees of Aktief Slip and Nitocra cordially invite all members to a witchy masquerade ball on the 12th of May. Put on your best outfit\, mask and maybe a flying broom to come join us for a lovely night of music\, drinks and Spanish tapas.Limited tickets are available until the 4th so reserve your spot now!https://aktiefslip.nl/events/ \n\n\n\nLove Aktief Slip and Nitocra
URL:https://aktiefslip.nl/event/gala-ticket-sale-opening-17-04-20-00/
ATTACH;FMTTYPE=image/png:https://aktiefslip.nl/wp-content/uploads/2026/04/pic-for-galacie-1.png
END:VEVENT
BEGIN:VEVENT
DTSTART;TZID=Europe/Amsterdam:20260509T080000
DTEND;TZID=Europe/Amsterdam:20260509T170000
DTSTAMP:20260420T085600
CREATED:20260224T140819Z
LAST-MODIFIED:20260224T140824Z
UID:27385-1778313600-1778346000@aktiefslip.nl
SUMMARY:Batavieren race [Batacie]
DESCRIPTION:i think we already have this\, otherwise \n\n\n\nThis year in May\, the biggest relayrun in the world is back in full glory🐦‍🔥🏆! We\, batacie\, are busy with all the preparations for this event. And we still need you for our 25-person team! Together\, we will run from Nijmegen to Enschede\, a distance of 175km. Each runner will run between 3.5 and 10km\, so there is a distance for everyone! Our goal is to finish the race and have fun⛄. During the race we’ve got you covered with transportation🚐 and *food*. Afterwards\, to celebrate our results\, there is a large festival in Enschede. 🎶🎉 So if you hadn’t already\, please *sign up* with the following link this week. And convince your friends to join too 🙂https://forms.office.com/e/jgCkJ1qCmwHope to see you there!The Batacie🎽👟
URL:https://aktiefslip.nl/event/batavieren-race-batacie/
ATTACH;FMTTYPE=image/jpeg:https://aktiefslip.nl/wp-content/uploads/2026/02/IMG-20260220-WA0001_Hannah-Boer-de.jpg
END:VEVENT
BEGIN:VEVENT
DTSTART;TZID=Europe/Amsterdam:20260512T203000
DTEND;TZID=Europe/Amsterdam:20260512T233000
DTSTAMP:20260420T085600
CREATED:20260417T200629Z
LAST-MODIFIED:20260417T221106Z
UID:27647-1778617800-1778628600@aktiefslip.nl
SUMMARY:Gala [Aktief Slip x Nitocra]
DESCRIPTION:When: Tue 12th of MayTime: 20:30Where: International Club AssociationPrice: 10 euros for members\, 15 euros for non-members \n\n\n\nThe gala committees of Aktief Slip and Nitocra cordially invite all members to a witchy masquerade ball on the 12th of May. Put on your best outfit\, mask and maybe a flying broom to come join us for a lovely night of music\, drinks and Spanish tapas.Limited tickets are available until the 4th so reserve your spot now!https://aktiefslip.nl/event/gala-aktief-slip-x-nitocra/ \n\n\n\nLove Aktief Slip and Nitocra
URL:https://aktiefslip.nl/event/gala-aktief-slip-x-nitocra/
ATTACH;FMTTYPE=image/png:https://aktiefslip.nl/wp-content/uploads/2026/04/pic-for-galacie-21-1.png
END:VEVENT
END:VCALENDAR