BEGIN:VCALENDAR
VERSION:2.0
PRODID:-//aktiefslip.nl - ECPv6.15.10//NONSGML v1.0//EN
CALSCALE:GREGORIAN
METHOD:PUBLISH
X-WR-CALNAME:aktiefslip.nl
X-ORIGINAL-URL:https://aktiefslip.nl
X-WR-CALDESC:Events for aktiefslip.nl
REFRESH-INTERVAL;VALUE=DURATION:PT1H
X-Robots-Tag:noindex
X-PUBLISHED-TTL:PT1H
BEGIN:VTIMEZONE
TZID:Europe/Helsinki
BEGIN:DAYLIGHT
TZOFFSETFROM:+0200
TZOFFSETTO:+0300
TZNAME:EEST
DTSTART:20200329T010000
END:DAYLIGHT
BEGIN:STANDARD
TZOFFSETFROM:+0300
TZOFFSETTO:+0200
TZNAME:EET
DTSTART:20201025T010000
END:STANDARD
BEGIN:DAYLIGHT
TZOFFSETFROM:+0200
TZOFFSETTO:+0300
TZNAME:EEST
DTSTART:20210328T010000
END:DAYLIGHT
BEGIN:STANDARD
TZOFFSETFROM:+0300
TZOFFSETTO:+0200
TZNAME:EET
DTSTART:20211031T010000
END:STANDARD
BEGIN:DAYLIGHT
TZOFFSETFROM:+0200
TZOFFSETTO:+0300
TZNAME:EEST
DTSTART:20220327T010000
END:DAYLIGHT
BEGIN:STANDARD
TZOFFSETFROM:+0300
TZOFFSETTO:+0200
TZNAME:EET
DTSTART:20221030T010000
END:STANDARD
BEGIN:DAYLIGHT
TZOFFSETFROM:+0200
TZOFFSETTO:+0300
TZNAME:EEST
DTSTART:20230326T010000
END:DAYLIGHT
BEGIN:STANDARD
TZOFFSETFROM:+0300
TZOFFSETTO:+0200
TZNAME:EET
DTSTART:20231029T010000
END:STANDARD
END:VTIMEZONE
BEGIN:VTIMEZONE
TZID:Europe/Amsterdam
BEGIN:DAYLIGHT
TZOFFSETFROM:+0100
TZOFFSETTO:+0200
TZNAME:CEST
DTSTART:20210328T010000
END:DAYLIGHT
BEGIN:STANDARD
TZOFFSETFROM:+0200
TZOFFSETTO:+0100
TZNAME:CET
DTSTART:20211031T010000
END:STANDARD
BEGIN:DAYLIGHT
TZOFFSETFROM:+0100
TZOFFSETTO:+0200
TZNAME:CEST
DTSTART:20220327T010000
END:DAYLIGHT
BEGIN:STANDARD
TZOFFSETFROM:+0200
TZOFFSETTO:+0100
TZNAME:CET
DTSTART:20221030T010000
END:STANDARD
BEGIN:DAYLIGHT
TZOFFSETFROM:+0100
TZOFFSETTO:+0200
TZNAME:CEST
DTSTART:20230326T010000
END:DAYLIGHT
BEGIN:STANDARD
TZOFFSETFROM:+0200
TZOFFSETTO:+0100
TZNAME:CET
DTSTART:20231029T010000
END:STANDARD
END:VTIMEZONE
BEGIN:VEVENT
DTSTART;TZID=Europe/Helsinki:20220118T080000
DTEND;TZID=Europe/Helsinki:20220118T170000
DTSTAMP:20260420T041133
CREATED:20220110T113708Z
LAST-MODIFIED:20220110T113710Z
UID:2404-1642492800-1642525200@aktiefslip.nl
SUMMARY:Home Cooking Challenge: Winter Edition
DESCRIPTION:“Ladies and gentlemen. We hope you’re hungry because Foodcie is back with the first event of the year. This time it is your turn to cook and show off your skills.👨‍🍳👩‍🍳 On the 18th of January you can pick up your surprise bag of ingredients. Your task: follow the recipe we give you or impress us with your own creation\, to make a meal utilizing all the ingredients. You then have one week to share pictures of what you made.Sign up and join the Home Cooking Challenge\, Winter Edition! https://forms.gle/YR6qjqXNW36YNhrs8 “
URL:https://aktiefslip.nl/event/home-cooking-challenge-winter-edition/
END:VEVENT
BEGIN:VEVENT
DTSTART;TZID=Europe/Helsinki:20220117T235500
DTEND;TZID=Europe/Helsinki:20220117T235900
DTSTAMP:20260420T041133
CREATED:20220113T215154Z
LAST-MODIFIED:20220113T215157Z
UID:2431-1642463700-1642463940@aktiefslip.nl
SUMMARY:Deadline to register to get GreenInk at home [GreenInk]
DESCRIPTION:GreenInk’s second edition of the academic year is about to be released\, and can make it all the way to your door if you wish so! Fill in this form Monday night (Jan 17th) at the latest if you want to receive a GreenInk at home (for free!!!)\, or you can always drop by the Hok (Forum room 112) during lunch hour to pick up a copy (for free!!). Of course\, you will also receive a digital copy in your inbox as usual. This edition’s theme is water\, so get ready to read about floods\, swimming\, (farming by) the sea and many other wet topics\, and as an added bonus\, your will get to meet the new Aktief Slip board\, or rather\, date them… So hurry up and sign up to get a copy shipped directly to you\, on your couch. 
URL:https://aktiefslip.nl/event/deadline-to-register-to-get-greenink-at-home-greenink/
END:VEVENT
BEGIN:VEVENT
DTSTART;TZID=Europe/Helsinki:20220117T080000
DTEND;TZID=Europe/Helsinki:20220123T170000
DTSTAMP:20260420T041133
CREATED:20220119T130048Z
LAST-MODIFIED:20220119T130051Z
UID:2466-1642406400-1642957200@aktiefslip.nl
SUMMARY:Puzzle of the Week [Board]
DESCRIPTION:This week’s puzzle is a logic puzzle! Generate a puzzle with a 4 by 5 grid and at the moderate level on this website (https://logic.puzzlebaron.com/init.php)\, and complete it for a chance to win! Send a screenshot of the completed puzzle to intern.aktiefslip@wur.nl for a chance to win this weeks puzzle competition and some chocolate.  \n\n\n\nP.S. A link was sent in the slip news and another was posted on instagram\, but they both didn’t work\, as we later learned that once the puzzle was completed by one person\, the link didn’t work for anyone else. We are sorry about this inconvenience.
URL:https://aktiefslip.nl/event/puzzle-of-the-week-board/
END:VEVENT
BEGIN:VEVENT
DTSTART;TZID=Europe/Helsinki:20220116T080000
DTEND;TZID=Europe/Helsinki:20220116T170000
DTSTAMP:20260420T041133
CREATED:20220105T111922Z
LAST-MODIFIED:20220105T111925Z
UID:2318-1642320000-1642352400@aktiefslip.nl
SUMMARY:Dutch speaking circles
DESCRIPTION:Have you been taking social dutch 1\, 2? Maybe even 3? But are you still uncomfortable speaking with dutchies? Then join our dutch speaking circles and practice your dutch with other beginners! Join the group chat where you’ll learn in the chat’s description when\, where\, and how you can join us while complying with the corona guidelines of the moment. https://chat.whatsapp.com/B6nPuGmqb26FyeEEBCmigm
URL:https://aktiefslip.nl/event/dutch-speaking-circles-4/
END:VEVENT
BEGIN:VEVENT
DTSTART;TZID=Europe/Amsterdam:20220114T230000
DTEND;TZID=Europe/Amsterdam:20220128T235900
DTSTAMP:20260420T041133
CREATED:20220119T125141Z
LAST-MODIFIED:20220119T130217Z
UID:2463-1642201200-1643414340@aktiefslip.nl
SUMMARY:Almanac Drawing Competition [Alco]
DESCRIPTION:Dear Aktief Slipers! As you may know this year we will be releasing the Almanac which is a yearbook released every five years to celebrate our dear association! Among countless pictures and interesting nature facts\, we would like to include a drawing section. The theme of the Almanac is “oasis” 🐪🌴 so get ready to grab your pencils and brushes to submit a beautiful or hilarious creation following the theme! The best drawings will be picked and featured in the book 😚 Please upload your creations before the 28 of January by clicking on this link: https://wageningenur4.sharepoint.com/:f:/r/sites/AktiefSlip/Shared%20Documents/Committee%20Files/Luco%20en%20Alco/2022/ALCO/drawing%20competition?csf=1&web=1&e=eYyvMJ
URL:https://aktiefslip.nl/event/almanac-drawing-competition-deadline-alco/
END:VEVENT
BEGIN:VEVENT
DTSTART;TZID=Europe/Helsinki:20220114T120000
DTEND;TZID=Europe/Helsinki:20220114T130000
DTSTAMP:20260420T041133
CREATED:20211206T133910Z
LAST-MODIFIED:20220107T121227Z
UID:2179-1642161600-1642165200@aktiefslip.nl
SUMMARY:Lunch lecture Deltares [Extern]
DESCRIPTION:Friday the 14th of January12:00-13:00Costs: Free!Online\, via TeamsNo registration required \n\n\n\nHi there Slippers! We hope you enjoyed the break and are ready for the new year🎆! To start off the new year with a fun activity\, we have organized an amazing lunch lecture from our sponsor Deltares. They research both water 💦 and soil🪨. If you’re interested\, come join us on the 14th of January at 12:00 in Teams via the link below. See you! \n\n\n\nLink to the teams meeting: https://teams.microsoft.com/l/meetup-join/19%3ameeting_NDQ0MDhmYjgtYjBkMS00ZTA5LWFkNzItZDRhYzM2MmQzOWVk%40thread.v2/0?context=%7b%22Tid%22%3a%2227d137e5-761f-4dc1-af88-d26430abb18f%22%2c%22Oid%22%3a%22ad4983a0-2fe1-4858-ae1e-63fadf648890%22%7d
URL:https://aktiefslip.nl/event/extern-lunch-lecture/
END:VEVENT
BEGIN:VEVENT
DTSTART;TZID=Europe/Helsinki:20220113T190000
DTEND;TZID=Europe/Helsinki:20220113T203000
DTSTAMP:20260420T041133
CREATED:20211129T234705Z
LAST-MODIFIED:20220106T130705Z
UID:2156-1642100400-1642105800@aktiefslip.nl
SUMMARY:Masters Career Event [Mastercie]
DESCRIPTION:What kind of jobs do alumni of MCL\, MES\, and MUE do after graduation? What is the labor market like for the graduates of these MSc programs? The Mastercie has partnered up with the Student Career Services to bring you an event that will answer this and any other related questions you might have about possible futures after your study. You will also be able to meet some alumni and hear their experiences. \n\n\n\n \n\n\n\nThe meeting will be held in Microsoft teams. Sign Up below to indicate you are attending – you will receive the MS Teams invite via e-mail.   \n\n\n\n \n\n\n\nA free snack/drink will be available for pickup for registered participants .  Alcohol & alcohol free drinks will be provided.  Vegan friendly snacks will be included. Participants who want the free drink/snack should sign up by Monday Jan 10.  Pickup Location:  Aktief Slip Office (Forum\, room 112) during office hours (12-14) Thursday Jan 13.
URL:https://aktiefslip.nl/event/masters-career-event/
END:VEVENT
BEGIN:VEVENT
DTSTART;TZID=Europe/Helsinki:20220109T080000
DTEND;TZID=Europe/Helsinki:20220109T170000
DTSTAMP:20260420T041133
CREATED:20220105T111814Z
LAST-MODIFIED:20220105T111817Z
UID:2315-1641715200-1641747600@aktiefslip.nl
SUMMARY:Dutch speaking circles
DESCRIPTION:Have you been taking social dutch 1\, 2? Maybe even 3? But are you still uncomfortable speaking with dutchies? Then join our dutch speaking circles and practice your dutch with other beginners! Join the group chat where you’ll learn in the chat’s description when\, where\, and how you can join us while complying with the corona guidelines of the moment. https://chat.whatsapp.com/B6nPuGmqb26FyeEEBCmigm
URL:https://aktiefslip.nl/event/dutch-speaking-circles-3/
END:VEVENT
BEGIN:VEVENT
DTSTART;TZID=Europe/Helsinki:20220106T191500
DTEND;TZID=Europe/Helsinki:20220106T213000
DTSTAMP:20260420T041133
CREATED:20211222T160915Z
LAST-MODIFIED:20211228T145005Z
UID:2261-1641496500-1641504600@aktiefslip.nl
SUMMARY:Drinks & Bites Tour [Akcie+Passief Pils]
DESCRIPTION:Register latest: Tuesday 4 JanHello there Slippers!Already tired of our current lockdown situation? We’ve got the perfect activity for you! In order to still have some social activities while maintaining safe distance\, Akcie and Passief Pils came up with a bike tour to several places in Wageningen. During this tour\, you and your (study)mate will get varying (alcoholic) drinks and varying snacks/dishes at different 5 spots. In the mean time you can have a small chat with the Slippers there and share some good Christmas break stories! So what are you waiting for\, grab your coat and scarf (yes do that\, it is fairly cold outside) and hop on your bike! Sign up below and see you there! \n\n\n\nPs: Please sign up in pairs of 2\, the capacity is limited so be on time!
URL:https://aktiefslip.nl/event/drinks-bites-tour-akciepassief-pils/
END:VEVENT
BEGIN:VEVENT
DTSTART;TZID=Europe/Helsinki:20211208T120000
DTEND;TZID=Europe/Helsinki:20211208T133000
DTSTAMP:20260420T041133
CREATED:20211109T124622Z
LAST-MODIFIED:20211128T111127Z
UID:1780-1638964800-1638970200@aktiefslip.nl
SUMMARY:Lustrum Cake Break
DESCRIPTION:Forum B0417 \n\n\n\nCosts: FREE \n\n\n\nWinter is near\, but that also means that Aktief slips 55th birthday is coming up🥳🎉💃!! To celebrate this (and to recharge during the study week) the Lustrum Committee invites YOU to a free cake break😋🎂 on December 8! You don’t have to sign up but don’t be too late\, it’s first come\, first serve!!🎊🎂🍰
URL:https://aktiefslip.nl/event/lustrum-cake-break/
END:VEVENT
BEGIN:VEVENT
DTSTART;TZID=Europe/Helsinki:20211207T193000
DTEND;TZID=Europe/Helsinki:20211207T220000
DTSTAMP:20260420T041133
CREATED:20211109T124529Z
LAST-MODIFIED:20211130T134014Z
UID:1777-1638905400-1638914400@aktiefslip.nl
SUMMARY:IB Christmas movie
DESCRIPTION:Hi everyone!Want some relaxing during your studysessions in the study week? We have the perfect activity! On the 7th of december we are organising a christmas movie night!Hope to see you there!Where: Forum room B0314When: 19:30 on the 7th of DecemberSign up via the link: https://forms.gle/MzgwR68zA9LYCh7GAPyrus\, Aktief slip and Nitocra
URL:https://aktiefslip.nl/event/ib-christmas-movie/
END:VEVENT
BEGIN:VEVENT
DTSTART;TZID=Europe/Helsinki:20211202T130000
DTEND;TZID=Europe/Helsinki:20211202T134500
DTSTAMP:20260420T041133
CREATED:20211118T010755Z
LAST-MODIFIED:20211130T181203Z
UID:1999-1638450000-1638452700@aktiefslip.nl
SUMMARY:Winter Food Market
DESCRIPTION:Time change + new sign up link (if you have registered before and you still want to join\, please fill in the new form!)Winter Food Gathering: Food MarketCurious to taste winter snacks from all over the world? \n\n\n\nAfter a tiring day of work\, you will get a chance to fulfill your pre-dinner hunger. Be ready to stimulate your appetite with mouth watering vegetarian snacks by walking through the market. You will get to experience these winter time snacks in the outdoor winter ambience of the amphitheatre. Bring your own plates\, cups\, cutlery and wear warm clothes for this event. There are limited spots\, so sign up quickly. Hope to see you there.-Foodcie of Aktief SlipDate: 2-12-21Time: 13:00-13:45Sign-up link: https://tinyurl.com/2p8f9edb
URL:https://aktiefslip.nl/event/international-holiday-food-market/
END:VEVENT
BEGIN:VEVENT
DTSTART;TZID=Europe/Helsinki:20211201T090000
DTEND;TZID=Europe/Helsinki:20211201T103000
DTSTAMP:20260420T041133
CREATED:20211109T124433Z
LAST-MODIFIED:20211129T234223Z
UID:1774-1638349200-1638354600@aktiefslip.nl
SUMMARY:Sinterklaas
DESCRIPTION:Dear Aktief Sliper\,Following the instructions we got from the university\, the Sintcie commitee decided to organize a Sinterklaas breakfast instead of the evening initially planned! You’ll be welcomed on Wednesday the 1st of December in Forum B0107 from 9:00 to 10:30 to savour pancakes\, hot chocolate\, pepernoten and even alcohol free gluhwein ! Bring your cup\, plate and cuttlery !You can then join some of our small activities organised for you : paper crane origami\, paper-stars\, poems writing\, boardgames\,…We are looking forward to seeing you there ! \n\n\n\nSinterklaas and its Sintcie board 🎅
URL:https://aktiefslip.nl/event/sinterklaas/
END:VEVENT
BEGIN:VEVENT
DTSTART;TZID=Europe/Helsinki:20211130T194500
DTEND;TZID=Europe/Helsinki:20211130T211500
DTSTAMP:20260420T041133
CREATED:20211110T172654Z
LAST-MODIFIED:20211129T161152Z
UID:1823-1638301500-1638306900@aktiefslip.nl
SUMMARY:Sportcie squashing
DESCRIPTION:UPDATE: Postponed in light of the new covid regulations  \n\n\n\nHey Aktief Slippers\,  \n\n\n\nAre you a competitive sportsperson who also wants to have fun and enjoys playing squash? Then\, this is the perfect opportunity for you to do so\, because Sportcie is organizing a squash tournament on the 30th of November from 19:45 until 21:15 at the Bongerd. There are limited spots\, so don’t hesitate and reserve your place in this exciting event to have the chance of being the new champion. If you have a racquet\, please bring it😉  \n\n\n\nHope to see you there! 
URL:https://aktiefslip.nl/event/sportcie-squashing/
END:VEVENT
BEGIN:VEVENT
DTSTART;TZID=Europe/Helsinki:20211130T190000
DTEND;TZID=Europe/Helsinki:20211130T200000
DTSTAMP:20260420T041133
CREATED:20211115T000324Z
LAST-MODIFIED:20211129T161032Z
UID:1970-1638298800-1638302400@aktiefslip.nl
SUMMARY:Dutch Speaking Cirlces
DESCRIPTION:UPDATE: Due to corona regulations\, the Spot will be closed at that time\, so we will meet in forum room B0229 \n\n\n\nHave you been taking social dutch 1\, 2? Maybe even 3? But you are still uncomfortable speaking with dutchies? (They talk so fast 😨) Then join Aktief Slip’s dutch speaking circles and practice your dutch with other beginners 🙂 Every Tuesday nights\, at The Spot\, starting in week 2 of period 2. P.S. if you are a native dutch speaker\, and you want to come help us\, feel free to join \n\n\n\nAnd join this whatsapp group 😊https://chat.whatsapp.com/B6nPuGmqb26FyeEEBCmigm
URL:https://aktiefslip.nl/event/dutch-speaking-cirlces/
END:VEVENT
BEGIN:VEVENT
DTSTART;TZID=Europe/Helsinki:20211127T140000
DTEND;TZID=Europe/Helsinki:20211127T190000
DTSTAMP:20260420T041133
CREATED:20211118T010651Z
LAST-MODIFIED:20211118T134248Z
UID:1997-1638021600-1638039600@aktiefslip.nl
SUMMARY:Exploring resilient farm series: Farm excursion+cooking
DESCRIPTION:Resilience of our food systems? What does that mean to farmers and us? Time to visit a farm and ask farmers questions about it! What opportunities and challenges do they face? You also get to cook delicious meals out of fresh ingredients and sustainable recipes at the Clock House building afterwards.  \n\n\n\nGather at Subway near Campus Plaza \n\n\n\nTo sign up:  https://tinyurl.com/3n8spk87 \n\n\n\nOrganised by Foodcie of Aktief Slip\, Boerengroup Wageningen\, and Wageningen Cooking Collective.
URL:https://aktiefslip.nl/event/foodcie-farm-visit/
END:VEVENT
BEGIN:VEVENT
DTSTART;TZID=Europe/Helsinki:20211124T193000
DTEND;TZID=Europe/Helsinki:20211124T220000
DTSTAMP:20260420T041133
CREATED:20211014T134122Z
LAST-MODIFIED:20211130T143235Z
UID:1288-1637782200-1637791200@aktiefslip.nl
SUMMARY:Akcie Drive n Dance
DESCRIPTION:By Akcie \n\n\n\n\n\n \n\n\n\nDear Aktief Slippers\, have you always wanted to drive and dance?? 🚗💃🏼🕺🏼 Then come to the Wii game night for some casual games with drinks included!Beat all your friends in the Mario Kart tournament! 🎮 Or dance the night away with your best moves in Just Dance 💃🏼🕺🏼 or bring your old Nintendo DS to relive your childhood together! 🤩 \n\n\n\nRegister latest Nov22nd \n\n\n\nThe Joyriding Akcie
URL:https://aktiefslip.nl/event/boardgame-night/
END:VEVENT
BEGIN:VEVENT
DTSTART;TZID=Europe/Helsinki:20211123T190000
DTEND;TZID=Europe/Helsinki:20211123T200000
DTSTAMP:20260420T041133
CREATED:20211115T000223Z
LAST-MODIFIED:20211115T000226Z
UID:1968-1637694000-1637697600@aktiefslip.nl
SUMMARY:Dutch Speaking Circles
DESCRIPTION:Have you been taking social dutch 1\, 2? Maybe even 3? But you are still uncomfortable speaking with dutchies? (They talk so fast 😨) Then join Aktief Slip’s dutch speaking circles and practice your dutch with other beginners 🙂 Every Tuesday nights\, at The Spot\, starting in week 2 of period 2. P.S. if you are a native dutch speaker\, and you want to come help us\, feel free to join\, and join this whatsapp group 😊https://chat.whatsapp.com/B6nPuGmqb26FyeEEBCmigm
URL:https://aktiefslip.nl/event/dutch-speaking-circles-2/
END:VEVENT
BEGIN:VEVENT
DTSTART;TZID=Europe/Helsinki:20211118T193000
DTEND;TZID=Europe/Helsinki:20211118T200000
DTSTAMP:20260420T041133
CREATED:20211109T123627Z
LAST-MODIFIED:20211117T095057Z
UID:1769-1637263800-1637265600@aktiefslip.nl
SUMMARY:ESG Board game night
DESCRIPTION:*Location moved to Forum B0417 due to the new regulations* \n\n\n\nDearest ESG’er\, \n\n\n\nTo be or not to be\, that is the question. 2B? B2! Bingo! \n\n\n\nOn Thursday the 18th of November\, the Environmental Sciences group is organizing an epic Bingo & Game Night at Proost! ♠️♦️Starting 19:30 you are welcome to challenge your friends and foes. We have gathered some cool games\, but feel free to bring your own! \n\n\n\nSign up as soon as possible to win epic prizes using the forms below\, because we have limited places and things are bound to get dicey! 🎲 \n\n\n\nhttps://forms.gle/4joq39qHJSzTaD5b8
URL:https://aktiefslip.nl/event/esg-board-game-night/
END:VEVENT
BEGIN:VEVENT
DTSTART;TZID=Europe/Helsinki:20211116T190000
DTEND;TZID=Europe/Helsinki:20211116T200000
DTSTAMP:20260420T041133
CREATED:20211114T235939Z
LAST-MODIFIED:20211115T000118Z
UID:1965-1637089200-1637092800@aktiefslip.nl
SUMMARY:Dutch Speaking Circles
DESCRIPTION:Have you been taking social dutch 1\, 2? Maybe even 3? But you are still uncomfortable speaking with dutchies? (They talk so fast 😨) Then join Aktief Slip’s dutch speaking circles and practice your dutch with other beginners 🙂 Every Tuesday nights\, at The Spot\, starting in week 2 of period 2. P.S. if you are a native dutch speaker\, and you want to come help us\, feel free to join\, and join this whatsapp group 😊https://chat.whatsapp.com/B6nPuGmqb26FyeEEBCmigm
URL:https://aktiefslip.nl/event/dutch-speaking-circles/
END:VEVENT
BEGIN:VEVENT
DTSTART;TZID=Europe/Helsinki:20211111T200000
DTEND;TZID=Europe/Helsinki:20211111T235900
DTSTAMP:20260420T041133
CREATED:20211020T160609Z
LAST-MODIFIED:20211111T162422Z
UID:1309-1636660800-1636675140@aktiefslip.nl
SUMMARY:Board Change Party
DESCRIPTION:!!Party time!! \n\n\n\n11th of November\, 20:00-24:00 at the Bunker (Dijkgraaf 6) \n\n\n\nTheme: Four Seasons \n\n\n\nCosts: Free entry! \n\n\n\nOn 11th of November there will be a party to congratulate the new board of Aktief Slip. The theme of the evening is ‘Four Seasons’ so come in your ugly Christmas sweater\, spring jacket or just your favorite summer dress\, whichever season you like the most!
URL:https://aktiefslip.nl/event/board-change-party-2/
END:VEVENT
BEGIN:VEVENT
DTSTART;TZID=Europe/Helsinki:20211109T193000
DTEND;TZID=Europe/Helsinki:20211109T203000
DTSTAMP:20260420T041133
CREATED:20210427T105733Z
LAST-MODIFIED:20210427T105733Z
UID:593-1636486200-1636489800@aktiefslip.nl
SUMMARY:GMM
DESCRIPTION:
URL:https://aktiefslip.nl/event/gmm-2/
END:VEVENT
BEGIN:VEVENT
DTSTART;TZID=Europe/Helsinki:20211106T110000
DTEND;TZID=Europe/Helsinki:20211106T170000
DTSTAMP:20260420T041133
CREATED:20211026T094659Z
LAST-MODIFIED:20211026T094701Z
UID:1408-1636196400-1636218000@aktiefslip.nl
SUMMARY:Climate March
DESCRIPTION:On the 6th of November there is a national climate march in Amsterdam. Interested in going? Aktief Slip is going as well. Join the whatsapp group chat and meet us at 11 o’clock at Ede-Wageningen. In the group we will also discuss the buying of group train tickets for those of us who do not have free travel. \n\n\n\nhttps://chat.whatsapp.com/GLix42o0ymf1hIgR6bpvYk \n\n\n\nSee you there! – The Board
URL:https://aktiefslip.nl/event/climate-march/
END:VEVENT
BEGIN:VEVENT
DTSTART;TZID=Europe/Helsinki:20211105T183000
DTEND;TZID=Europe/Helsinki:20211105T220000
DTSTAMP:20260420T041133
CREATED:20211025T062830Z
LAST-MODIFIED:20211025T062831Z
UID:1350-1636137000-1636149600@aktiefslip.nl
SUMMARY:Indoor Beach volleyball
DESCRIPTION:Hey akief slippers!Winter has started\, so we’re starting to miss doing nice summer sports. That’s why the Sportcie together with the Mastercie is organizing indoor beach volleyball for both the Bachelor and Master students of aktief slip! We’ll go Friday the 5th of November by public transport from bus station Wageningen to the Beach factory in Nijmegen. It is basically an indoor beach\, where we will play volleyball from 20:00 till 22:00! So sign up and bring some sports clothes (you can change there). More information about the schedule will follow after signing up. *members only*
URL:https://aktiefslip.nl/event/indoor-beach-volleyball/
END:VEVENT
BEGIN:VEVENT
DTSTART;TZID=Europe/Helsinki:20211103T163000
DTEND;TZID=Europe/Helsinki:20211103T183000
DTSTAMP:20260420T041133
CREATED:20211025T125410Z
LAST-MODIFIED:20211031T150618Z
UID:1371-1635957000-1635964200@aktiefslip.nl
SUMMARY:Back to Business Drink
DESCRIPTION:Back to Business DrinkPlace: Forum B0218 \n\n\n\nHey hey hey\,It is finally time\, Passief Pils is bringing you\, the one\, the only: Back to Business drink! After some time of corona rules not allowing alcohol on campus\, it is with joy that we can say that we can organise post-lecture drinks again. For those who don’t know\, these are just casual drinks after a long day of classes and hard work. For just 1.50 euros you have the possibility to have unlimited (!) drinks for the time being! So if you need to relieve some stress with an (alcoholic) drink you can do that with us! And the nice thing is: you don’t need to sign up beforehand! You can scan the qr-code at the entrance\, so you can decide last minute if you will join (which you should definitely do!) We hope to see you in forum room B0218!Yours truly\,Passief Pils
URL:https://aktiefslip.nl/event/post-lecture-drink/
END:VEVENT
BEGIN:VEVENT
DTSTART;TZID=Europe/Helsinki:20211102T193000
DTEND;TZID=Europe/Helsinki:20211102T220000
DTSTAMP:20260420T041133
CREATED:20211014T134013Z
LAST-MODIFIED:20211031T171831Z
UID:1286-1635881400-1635890400@aktiefslip.nl
SUMMARY:Ghost tour
DESCRIPTION:GHOST TOUR \n\n\n\n \n\n\n\nStarting in slots between 19.30-20.30/45 \n\n\n\n \n\n\n\nRegister latest: October 29th \n\n\n\nJoin in groups of 3-4 \n\n\n\n \n\n\n\nSpooky greetings dear Aktief Slippers\, \n\n\n\nHalloween is coming up?\, but are you ready for some spookiness?? Join us on the 2nd of November and be ready to be frightened?! The witching hour will start at 19.30??‍♀️. Please sign up here to reserve a spot (payment will be done later)…? If you dare? Looking forward to seeing you there!? \n\n\n\nAnd remember…….Akcie is coming for you??‍♀️??‍♀
URL:https://aktiefslip.nl/event/ghost-tour/
END:VEVENT
BEGIN:VEVENT
DTSTART;TZID=Europe/Helsinki:20211028T190000
DTEND;TZID=Europe/Helsinki:20211028T210000
DTSTAMP:20260420T041133
CREATED:20211020T160246Z
LAST-MODIFIED:20211020T160248Z
UID:1306-1635447600-1635454800@aktiefslip.nl
SUMMARY:Spooky Soup Session
DESCRIPTION:Dear Aktief Slippers\, Halloween is approaching and so is the Pumpkin season. Why not join the spooky soup session with a horror story reading?! Get in a scary mood by dressing up and bring your own cutlery\, bowl\, and cup to take advantage of free food and drinks. Cheers\, Foodcie \n\n\n\nSign-up sheet (until 27/10): https://tinyurl.com/abe43ny4
URL:https://aktiefslip.nl/event/spooky-soup-session/
END:VEVENT
BEGIN:VEVENT
DTSTART;TZID=Europe/Helsinki:20211009T080000
DTEND;TZID=Europe/Helsinki:20211009T170000
DTSTAMP:20260420T041133
CREATED:20210914T114718Z
LAST-MODIFIED:20210914T114721Z
UID:1100-1633766400-1633798800@aktiefslip.nl
SUMMARY:Veluwe loop
DESCRIPTION:Like to run? Or do you like nature? Maybe even both? Either way you should join us for the fantastic relay race the Veluweloop on the 9th of October! We’ll represent Aktief Slip in one or several teams of 12\, running from Wageningen to and through the beautiful Veluwe\, in total 90 km. After having enjoyed a full day of running\, you can join us for dinner and the afterparty! There are several different distances you can run\, ranging from 4k to 12k. We’re joining to have fun\, so all kinds and types of runners are welcome. You’ll only need three things to join: running shoes\, water bottle and a well-functioning bike. Aktief Slip covers the cost for members. Join us by signing up via this form by the 24th of September: https://forms.gle/69NvNHRZxef1Ju9r9.Stay healthy and keep on running\,the Batacie
URL:https://aktiefslip.nl/event/veluwe-loop/
END:VEVENT
BEGIN:VEVENT
DTSTART;TZID=Europe/Helsinki:20211008T180000
DTEND;TZID=Europe/Helsinki:20211010T120000
DTSTAMP:20260420T041133
CREATED:20210427T105733Z
LAST-MODIFIED:20210923T153941Z
UID:592-1633716000-1633867200@aktiefslip.nl
SUMMARY:EKO weekend
DESCRIPTION:EKO Weekend \n\n\n\nEvening of Friday 8 October\, all-day Saturday 9 October and morning of 10 October \n\n\n\nFor 1st year Bachelors of Environmental Sciences \n\n\n\nCost: ~€30 \n\n\n\nRegister latest on *_26 September (?)_* \n\n\n\nhttps://forms.gle/snzD2vH1rUhiHqkd7 \n\n\n\nThe biggest event of the beginning of your studies is around the corner. The EKO Weekend takes place annually for our lovely new comers to spend time with each other\, get to know their study mates\, and have loads of fun. This year with the amazing theme of 1001 Nights! ???? We have a fun team activity planned on Friday at Wageningen and then a bunch of activities on Saturday outside Wageningen\, including a overnight stay at an awesome place and end at Sunday morning. \n\n\n\nAll meals are included. Hurry and sign up\, for spaces are limited! \n\n\n\nHope to see you there.
URL:https://aktiefslip.nl/event/eko-weekend-3/
END:VEVENT
BEGIN:VEVENT
DTSTART;TZID=Europe/Helsinki:20211004T190000
DTEND;TZID=Europe/Helsinki:20211005T210000
DTSTAMP:20260420T041133
CREATED:20210927T070829Z
LAST-MODIFIED:20210927T070832Z
UID:1209-1633374000-1633467600@aktiefslip.nl
SUMMARY:ESG Pool Party
DESCRIPTION:Dear students of Environmental Sciences\, Here we go again! It is time to get your pool sticks and balls out\, because ESG is organizing a pool party on the 4th and 5th of October from 19 – 21h. During this evening\, several tables are free for you to compete with one another. So let’s see which study has the best poolers! Please sign up via the following link: https://forms.gle/JCF7o6YWtYLY2oUA9 before the 3rd of October at 12:00. See you at Poolcafe Infinity\, near the market in Wageningen! 
URL:https://aktiefslip.nl/event/esg-pool-party/
END:VEVENT
END:VCALENDAR