BEGIN:VCALENDAR
VERSION:2.0
PRODID:-//aktiefslip.nl - ECPv6.15.10//NONSGML v1.0//EN
CALSCALE:GREGORIAN
METHOD:PUBLISH
X-WR-CALNAME:aktiefslip.nl
X-ORIGINAL-URL:https://aktiefslip.nl
X-WR-CALDESC:Events for aktiefslip.nl
REFRESH-INTERVAL;VALUE=DURATION:PT1H
X-Robots-Tag:noindex
X-PUBLISHED-TTL:PT1H
BEGIN:VTIMEZONE
TZID:Europe/Helsinki
BEGIN:DAYLIGHT
TZOFFSETFROM:+0200
TZOFFSETTO:+0300
TZNAME:EEST
DTSTART:20200329T010000
END:DAYLIGHT
BEGIN:STANDARD
TZOFFSETFROM:+0300
TZOFFSETTO:+0200
TZNAME:EET
DTSTART:20201025T010000
END:STANDARD
BEGIN:DAYLIGHT
TZOFFSETFROM:+0200
TZOFFSETTO:+0300
TZNAME:EEST
DTSTART:20210328T010000
END:DAYLIGHT
BEGIN:STANDARD
TZOFFSETFROM:+0300
TZOFFSETTO:+0200
TZNAME:EET
DTSTART:20211031T010000
END:STANDARD
BEGIN:DAYLIGHT
TZOFFSETFROM:+0200
TZOFFSETTO:+0300
TZNAME:EEST
DTSTART:20220327T010000
END:DAYLIGHT
BEGIN:STANDARD
TZOFFSETFROM:+0300
TZOFFSETTO:+0200
TZNAME:EET
DTSTART:20221030T010000
END:STANDARD
END:VTIMEZONE
BEGIN:VEVENT
DTSTART;TZID=Europe/Helsinki:20210611T180000
DTEND;TZID=Europe/Helsinki:20210611T220000
DTSTAMP:20260422T011543
CREATED:20210427T105557Z
LAST-MODIFIED:20210605T083742Z
UID:587-1623434400-1623448800@aktiefslip.nl
SUMMARY:EKO 2020
DESCRIPTION:*?First years activity?*Register latest on 9th of June\, only 40 participants can join!The time has finally come: an activity just for first years students?! Make sure to join us and your fellow first years at arboretum for an apocalyptic activity?
URL:https://aktiefslip.nl/event/eko-strive-date-3/
END:VEVENT
BEGIN:VEVENT
DTSTART;TZID=Europe/Helsinki:20210608T193000
DTEND;TZID=Europe/Helsinki:20210608T213000
DTSTAMP:20260422T011543
CREATED:20210524T120231Z
LAST-MODIFIED:20210528T130356Z
UID:740-1623180600-1623187800@aktiefslip.nl
SUMMARY:AKCIE DISCO BINGO NIGHT
DESCRIPTION:Sign up latest on the 4th of June! \n\n\n\nDisco?? and bingo?\, who doesn’t love it? For only €1\,00 you get free drinks?/ snacks ? and the bingo cards! We make sure there are a lot of ✨AMAZING✨ prizes to win. And some mystery boxes ? ?
URL:https://aktiefslip.nl/event/akcie-disco-bingo-night/
END:VEVENT
BEGIN:VEVENT
DTSTART;TZID=Europe/Helsinki:20210525T165000
DTEND;TZID=Europe/Helsinki:20210525T183000
DTSTAMP:20260422T011543
CREATED:20210518T073357Z
LAST-MODIFIED:20210518T073400Z
UID:733-1621961400-1621967400@aktiefslip.nl
SUMMARY:Sportcie Activity
DESCRIPTION:The sportcie reserved a field at the bongerd for some good old sports like dodgeball\, ultimate frisbee and football ⚽. We’ll gather at the Bongerd in sportsclothes\, decide what to play and devide ourselves in teams. What more do I need to say. Sign up and join us for some casual sports!
URL:https://aktiefslip.nl/event/sportcie-activity/
END:VEVENT
BEGIN:VEVENT
DTSTART;TZID=Europe/Helsinki:20210520T190000
DTEND;TZID=Europe/Helsinki:20210520T200000
DTSTAMP:20260422T011543
CREATED:20210427T105557Z
LAST-MODIFIED:20210427T105557Z
UID:586-1621537200-1621540800@aktiefslip.nl
SUMMARY:Cantus by WUR student associations
DESCRIPTION:
URL:https://aktiefslip.nl/event/cantus-by-wur-student-associations-2/
END:VEVENT
BEGIN:VEVENT
DTSTART;TZID=Europe/Helsinki:20210512T190000
DTEND;TZID=Europe/Helsinki:20210512T210000
DTSTAMP:20260422T011543
CREATED:20210427T105557Z
LAST-MODIFIED:20210427T105557Z
UID:585-1620846000-1620853200@aktiefslip.nl
SUMMARY:[AKCIE] Fox/Treasure Hunt
DESCRIPTION:
URL:https://aktiefslip.nl/event/akcie-fox-treasure-hunt-2/
END:VEVENT
BEGIN:VEVENT
DTSTART;TZID=Europe/Helsinki:20210424T110000
DTEND;TZID=Europe/Helsinki:20210424T170000
DTSTAMP:20260422T011543
CREATED:20210427T105543Z
LAST-MODIFIED:20210427T105543Z
UID:583-1619262000-1619283600@aktiefslip.nl
SUMMARY:BATAVIERENRACE
DESCRIPTION:
URL:https://aktiefslip.nl/event/batavierenrace-2/
END:VEVENT
BEGIN:VEVENT
DTSTART;TZID=Europe/Helsinki:20210422T090000
DTEND;TZID=Europe/Helsinki:20210422T100000
DTSTAMP:20260422T011543
CREATED:20210427T105543Z
LAST-MODIFIED:20210427T105543Z
UID:582-1619082000-1619085600@aktiefslip.nl
SUMMARY:[SPORTCIE] Kings Day Games
DESCRIPTION:
URL:https://aktiefslip.nl/event/sportcie-kings-day-games-2/
END:VEVENT
BEGIN:VEVENT
DTSTART;TZID=Europe/Helsinki:20210415T180000
DTEND;TZID=Europe/Helsinki:20210415T190000
DTSTAMP:20260422T011543
CREATED:20210427T105543Z
LAST-MODIFIED:20210427T105543Z
UID:581-1618509600-1618513200@aktiefslip.nl
SUMMARY:ESG Activity
DESCRIPTION:
URL:https://aktiefslip.nl/event/esg-activity-2/
END:VEVENT
BEGIN:VEVENT
DTSTART;TZID=Europe/Helsinki:20210413T193000
DTEND;TZID=Europe/Helsinki:20210413T220000
DTSTAMP:20260422T011543
CREATED:20210427T105542Z
LAST-MODIFIED:20210427T105542Z
UID:580-1618342200-1618351200@aktiefslip.nl
SUMMARY:Board Change and GMM
DESCRIPTION:GMM and board change
URL:https://aktiefslip.nl/event/board-change-and-gmm-2/
END:VEVENT
BEGIN:VEVENT
DTSTART;TZID=Europe/Helsinki:20210407T090000
DTEND;TZID=Europe/Helsinki:20210407T100000
DTSTAMP:20260422T011543
CREATED:20210427T105407Z
LAST-MODIFIED:20210427T105407Z
UID:579-1617786000-1617789600@aktiefslip.nl
SUMMARY:DEADLINE - Register Batavierenrace
DESCRIPTION:
URL:https://aktiefslip.nl/event/deadline-register-batavierenrace-2/
END:VEVENT
BEGIN:VEVENT
DTSTART;TZID=Europe/Helsinki:20210402T000000
DTEND;TZID=Europe/Helsinki:20210403T000000
DTSTAMP:20260422T011543
CREATED:20210427T105407Z
LAST-MODIFIED:20210427T105407Z
UID:578-1617321600-1617408000@aktiefslip.nl
SUMMARY:DEADLINE - Register Eastern Hunt
DESCRIPTION:
URL:https://aktiefslip.nl/event/deadline-register-eastern-hunt-3/
END:VEVENT
BEGIN:VEVENT
DTSTART;TZID=Europe/Helsinki:20210331T190000
DTEND;TZID=Europe/Helsinki:20210331T210000
DTSTAMP:20260422T011543
CREATED:20210427T105407Z
LAST-MODIFIED:20210427T105407Z
UID:577-1617217200-1617224400@aktiefslip.nl
SUMMARY:Board Integration Event
DESCRIPTION:
URL:https://aktiefslip.nl/event/board-integration-event-2/
END:VEVENT
BEGIN:VEVENT
DTSTART;TZID=Europe/Helsinki:20210330T210000
DTEND;TZID=Europe/Helsinki:20210330T220000
DTSTAMP:20260422T011543
CREATED:20210427T105407Z
LAST-MODIFIED:20210427T105407Z
UID:576-1617138000-1617141600@aktiefslip.nl
SUMMARY:OT Speeddating
DESCRIPTION:
URL:https://aktiefslip.nl/event/ot-speeddating-2/
END:VEVENT
BEGIN:VEVENT
DTSTART;TZID=Europe/Helsinki:20210325T123000
DTEND;TZID=Europe/Helsinki:20210325T130000
DTSTAMP:20260422T011543
CREATED:20210427T105406Z
LAST-MODIFIED:20210427T105406Z
UID:575-1616675400-1616677200@aktiefslip.nl
SUMMARY:Lunchlecture VVM
DESCRIPTION:
URL:https://aktiefslip.nl/event/lunchlecture-vvm-2/
END:VEVENT
BEGIN:VEVENT
DTSTART;TZID=Europe/Helsinki:20210323T193000
DTEND;TZID=Europe/Helsinki:20210323T213000
DTSTAMP:20260422T011543
CREATED:20210427T105207Z
LAST-MODIFIED:20210427T105207Z
UID:574-1616527800-1616535000@aktiefslip.nl
SUMMARY:Extern Symposium
DESCRIPTION:
URL:https://aktiefslip.nl/event/extern-symposium-2/
END:VEVENT
BEGIN:VEVENT
DTSTART;TZID=Europe/Helsinki:20210319T160000
DTEND;TZID=Europe/Helsinki:20210319T160000
DTSTAMP:20260422T011543
CREATED:20210427T105207Z
LAST-MODIFIED:20210427T105207Z
UID:573-1616169600-1616169600@aktiefslip.nl
SUMMARY:[Suscie] Dreaming Session
DESCRIPTION:
URL:https://aktiefslip.nl/event/suscie-dreaming-session-2/
END:VEVENT
BEGIN:VEVENT
DTSTART;TZID=Europe/Helsinki:20210318T000000
DTEND;TZID=Europe/Helsinki:20210319T000000
DTSTAMP:20260422T011543
CREATED:20210427T105207Z
LAST-MODIFIED:20210427T105207Z
UID:572-1616025600-1616112000@aktiefslip.nl
SUMMARY:[Passief Pils] The Climate Cuizzz
DESCRIPTION:
URL:https://aktiefslip.nl/event/passief-pils-the-climate-cuizzz-3/
END:VEVENT
BEGIN:VEVENT
DTSTART;TZID=Europe/Helsinki:20210317T000000
DTEND;TZID=Europe/Helsinki:20210318T000000
DTSTAMP:20260422T011543
CREATED:20210427T105207Z
LAST-MODIFIED:20210427T105207Z
UID:571-1615939200-1616025600@aktiefslip.nl
SUMMARY:[Akcie] Treasure Hunt
DESCRIPTION:
URL:https://aktiefslip.nl/event/akcie-treasure-hunt-3/
END:VEVENT
BEGIN:VEVENT
DTSTART;TZID=Europe/Helsinki:20210316T000000
DTEND;TZID=Europe/Helsinki:20210317T000000
DTSTAMP:20260422T011543
CREATED:20210427T105207Z
LAST-MODIFIED:20210427T105207Z
UID:570-1615852800-1615939200@aktiefslip.nl
SUMMARY:DEADLINE - Register Dreaming Session
DESCRIPTION:
URL:https://aktiefslip.nl/event/deadline-register-dreaming-session-3/
END:VEVENT
BEGIN:VEVENT
DTSTART;TZID=Europe/Helsinki:20210315T120000
DTEND;TZID=Europe/Helsinki:20210315T140000
DTSTAMP:20260422T011543
CREATED:20210427T105104Z
LAST-MODIFIED:20210427T105104Z
UID:569-1615809600-1615816800@aktiefslip.nl
SUMMARY:[BOARD and GREENINK] Opening Day
DESCRIPTION:
URL:https://aktiefslip.nl/event/board-and-greenink-opening-day-2/
END:VEVENT
BEGIN:VEVENT
DTSTART;TZID=Europe/Helsinki:20210315T000000
DTEND;TZID=Europe/Helsinki:20210320T000000
DTSTAMP:20260422T011543
CREATED:20210427T105104Z
LAST-MODIFIED:20210427T105104Z
UID:567-1615766400-1616198400@aktiefslip.nl
SUMMARY:Environmental Week - Don't neglect the Arrhenius effect
DESCRIPTION:
URL:https://aktiefslip.nl/event/environmental-week-dont-neglect-the-arrhenius-effect-3/
END:VEVENT
BEGIN:VEVENT
DTSTART;TZID=Europe/Helsinki:20210315T000000
DTEND;TZID=Europe/Helsinki:20210316T000000
DTSTAMP:20260422T011543
CREATED:20210427T105104Z
LAST-MODIFIED:20210427T105104Z
UID:568-1615766400-1615852800@aktiefslip.nl
SUMMARY:DEADLINE - Register Climate Cuizz
DESCRIPTION:
URL:https://aktiefslip.nl/event/deadline-register-climate-cuizz-3/
END:VEVENT
BEGIN:VEVENT
DTSTART;TZID=Europe/Helsinki:20210310T000000
DTEND;TZID=Europe/Helsinki:20210311T000000
DTSTAMP:20260422T011543
CREATED:20210427T105104Z
LAST-MODIFIED:20210427T105104Z
UID:566-1615334400-1615420800@aktiefslip.nl
SUMMARY:DEADLINE - Akcie Puzzle Tour
DESCRIPTION:
URL:https://aktiefslip.nl/event/deadline-akcie-puzzle-tour-3/
END:VEVENT
BEGIN:VEVENT
DTSTART;TZID=Europe/Helsinki:20210307T000000
DTEND;TZID=Europe/Helsinki:20210308T000000
DTSTAMP:20260422T011543
CREATED:20210427T105104Z
LAST-MODIFIED:20210427T105104Z
UID:565-1615075200-1615161600@aktiefslip.nl
SUMMARY:DEADLINE - Cake Delivery
DESCRIPTION:
URL:https://aktiefslip.nl/event/deadline-cake-delivery-3/
END:VEVENT
BEGIN:VEVENT
DTSTART;TZID=Europe/Helsinki:20210307T000000
DTEND;TZID=Europe/Helsinki:20210308T000000
DTSTAMP:20260422T011543
CREATED:20210427T105049Z
LAST-MODIFIED:20210427T105049Z
UID:564-1615075200-1615161600@aktiefslip.nl
SUMMARY:[GreenInk] Deadline Winter Photo Contest
DESCRIPTION:
URL:https://aktiefslip.nl/event/greenink-deadline-winter-photo-contest-3/
END:VEVENT
BEGIN:VEVENT
DTSTART;TZID=Europe/Helsinki:20210306T000000
DTEND;TZID=Europe/Helsinki:20210307T000000
DTSTAMP:20260422T011543
CREATED:20210427T105049Z
LAST-MODIFIED:20210427T105049Z
UID:563-1614988800-1615075200@aktiefslip.nl
SUMMARY:LAST DAY OF ORDERING MERCH
DESCRIPTION:
URL:https://aktiefslip.nl/event/last-day-of-ordering-merch-3/
END:VEVENT
BEGIN:VEVENT
DTSTART;TZID=Europe/Helsinki:20210304T200000
DTEND;TZID=Europe/Helsinki:20210304T211500
DTSTAMP:20260422T011543
CREATED:20210427T105049Z
LAST-MODIFIED:20210427T105049Z
UID:562-1614888000-1614892500@aktiefslip.nl
SUMMARY:AKCIE - GeoGuessr Competition
DESCRIPTION:
URL:https://aktiefslip.nl/event/akcie-geoguessr-competition-2/
END:VEVENT
BEGIN:VEVENT
DTSTART;TZID=Europe/Helsinki:20210302T000000
DTEND;TZID=Europe/Helsinki:20210303T000000
DTSTAMP:20260422T011543
CREATED:20210427T105049Z
LAST-MODIFIED:20210427T105049Z
UID:561-1614643200-1614729600@aktiefslip.nl
SUMMARY:DEADLINE - Akcie GeoGuessr
DESCRIPTION:
URL:https://aktiefslip.nl/event/deadline-akcie-geoguessr-3/
END:VEVENT
BEGIN:VEVENT
DTSTART;TZID=Europe/Helsinki:20210301T190000
DTEND;TZID=Europe/Helsinki:20210301T200000
DTSTAMP:20260422T011543
CREATED:20210427T105049Z
LAST-MODIFIED:20210427T105049Z
UID:560-1614625200-1614628800@aktiefslip.nl
SUMMARY:[BOARD] Interest Evening
DESCRIPTION:
URL:https://aktiefslip.nl/event/board-interest-evening-2/
END:VEVENT
BEGIN:VEVENT
DTSTART;TZID=Europe/Helsinki:20210225T200000
DTEND;TZID=Europe/Helsinki:20210225T220000
DTSTAMP:20260422T011543
CREATED:20210427T105042Z
LAST-MODIFIED:20210427T105042Z
UID:559-1614283200-1614290400@aktiefslip.nl
SUMMARY:PASSIEF PILS - Poker Night
DESCRIPTION:
URL:https://aktiefslip.nl/event/passief-pils-poker-night-2/
END:VEVENT
END:VCALENDAR