BEGIN:VCALENDAR
VERSION:2.0
PRODID:-//aktiefslip.nl - ECPv6.15.10//NONSGML v1.0//EN
CALSCALE:GREGORIAN
METHOD:PUBLISH
X-WR-CALNAME:aktiefslip.nl
X-ORIGINAL-URL:https://aktiefslip.nl
X-WR-CALDESC:Events for aktiefslip.nl
REFRESH-INTERVAL;VALUE=DURATION:PT1H
X-Robots-Tag:noindex
X-PUBLISHED-TTL:PT1H
BEGIN:VTIMEZONE
TZID:Europe/Helsinki
BEGIN:DAYLIGHT
TZOFFSETFROM:+0200
TZOFFSETTO:+0300
TZNAME:EEST
DTSTART:20210328T010000
END:DAYLIGHT
BEGIN:STANDARD
TZOFFSETFROM:+0300
TZOFFSETTO:+0200
TZNAME:EET
DTSTART:20211031T010000
END:STANDARD
BEGIN:DAYLIGHT
TZOFFSETFROM:+0200
TZOFFSETTO:+0300
TZNAME:EEST
DTSTART:20220327T010000
END:DAYLIGHT
BEGIN:STANDARD
TZOFFSETFROM:+0300
TZOFFSETTO:+0200
TZNAME:EET
DTSTART:20221030T010000
END:STANDARD
BEGIN:DAYLIGHT
TZOFFSETFROM:+0200
TZOFFSETTO:+0300
TZNAME:EEST
DTSTART:20230326T010000
END:DAYLIGHT
BEGIN:STANDARD
TZOFFSETFROM:+0300
TZOFFSETTO:+0200
TZNAME:EET
DTSTART:20231029T010000
END:STANDARD
END:VTIMEZONE
BEGIN:VTIMEZONE
TZID:UTC
BEGIN:STANDARD
TZOFFSETFROM:+0000
TZOFFSETTO:+0000
TZNAME:UTC
DTSTART:20210101T000000
END:STANDARD
END:VTIMEZONE
BEGIN:VTIMEZONE
TZID:Europe/Amsterdam
BEGIN:DAYLIGHT
TZOFFSETFROM:+0100
TZOFFSETTO:+0200
TZNAME:CEST
DTSTART:20210328T010000
END:DAYLIGHT
BEGIN:STANDARD
TZOFFSETFROM:+0200
TZOFFSETTO:+0100
TZNAME:CET
DTSTART:20211031T010000
END:STANDARD
BEGIN:DAYLIGHT
TZOFFSETFROM:+0100
TZOFFSETTO:+0200
TZNAME:CEST
DTSTART:20220327T010000
END:DAYLIGHT
BEGIN:STANDARD
TZOFFSETFROM:+0200
TZOFFSETTO:+0100
TZNAME:CET
DTSTART:20221030T010000
END:STANDARD
BEGIN:DAYLIGHT
TZOFFSETFROM:+0100
TZOFFSETTO:+0200
TZNAME:CEST
DTSTART:20230326T010000
END:DAYLIGHT
BEGIN:STANDARD
TZOFFSETFROM:+0200
TZOFFSETTO:+0100
TZNAME:CET
DTSTART:20231029T010000
END:STANDARD
END:VTIMEZONE
BEGIN:VEVENT
DTSTART;TZID=Europe/Helsinki:20220326T203000
DTEND;TZID=Europe/Helsinki:20220326T213000
DTSTAMP:20260420T050237
CREATED:20220117T105328Z
LAST-MODIFIED:20220117T110215Z
UID:2447-1648326600-1648330200@aktiefslip.nl
SUMMARY:Earth Hour [World]
DESCRIPTION:Every year\, at 8:30 pm on the last Saturday of March\, millions of people across the world show their support for our planet\, raising awareness of nature loss and climate change – the two biggest threats facing our one home. How to participate? Turn off your electricity for an hour\, and get your candles out! Visit https://www.earthhour.org/ for more information.
URL:https://aktiefslip.nl/event/earth-hour/
END:VEVENT
BEGIN:VEVENT
DTSTART;TZID=Europe/Helsinki:20220325T193000
DTEND;TZID=Europe/Helsinki:20220325T213000
DTSTAMP:20260420T050237
CREATED:20211214T154518Z
LAST-MODIFIED:20220325T134706Z
UID:2224-1648236600-1648243800@aktiefslip.nl
SUMMARY:Glowsports tournament [Lustrum]
DESCRIPTION:End the first week in a FREE sportive way! On this special day we will apply our obtained knowledge from stargazing in an active way. Our indoor location will be totally dark and the only shining objects will be our equipment. The glowsports that we can play during this evening are football\, volleyball\, basketball and even frisbee and blackminton. The night will be long enough to play whatever you like. This Friday will depart from 19:00 at Busstation Wageningen. \n\n\n\nTo illuminate in the darkness\, there will be neon paint so that you yourself can shine like a northern star in the darkness. Make sure to get your free ticket through the website.
URL:https://aktiefslip.nl/event/glowsports-tournament/
END:VEVENT
BEGIN:VEVENT
DTSTART;TZID=Europe/Helsinki:20220324T220000
DTEND;TZID=Europe/Helsinki:20220325T030000
DTSTAMP:20260420T050237
CREATED:20211214T154035Z
LAST-MODIFIED:20220324T203032Z
UID:2222-1648159200-1648177200@aktiefslip.nl
SUMMARY:Open party at Bunker [Lustrum]
DESCRIPTION:Relief in Tel Aviv! Join us to dance in the Sands and honour this magical oasis by wearing a beach vibe outfit. At this open party\, everyone\, member and non-member\, is invited to celebrate our 55th birthday!With a ticket you’re secured of a spot\, but of course people without a ticket are also welcome! However\, we only have 276 spots\, so full = full!
URL:https://aktiefslip.nl/event/open-party-at-bunker/
END:VEVENT
BEGIN:VEVENT
DTSTART;TZID=UTC:20220323T190000
DTEND;TZID=UTC:20220323T200000
DTSTAMP:20260420T050237
CREATED:20220306T135100Z
LAST-MODIFIED:20220306T135500Z
UID:3490-1648062000-1648065600@aktiefslip.nl
SUMMARY:Dutch Speaking Circle
DESCRIPTION:Have you been taking social dutch 1\, 2? Maybe even 3? But are you still uncomfortable speaking with dutchies? Then join us at The Spot (ground floor or Orion) and practice your dutch with other beginners! Join the group chat for more up-to-date information.https://chat.whatsapp.com/B6nPuGmqb26FyeEEBCmigm
URL:https://aktiefslip.nl/event/dutch-speaking-circle-4/
END:VEVENT
BEGIN:VEVENT
DTSTART;TZID=Europe/Helsinki:20220321T200000
DTEND;TZID=Europe/Helsinki:20220321T200000
DTSTAMP:20260420T050237
CREATED:20211214T153723Z
LAST-MODIFIED:20220223T205415Z
UID:2218-1647892800-1647892800@aktiefslip.nl
SUMMARY:Lustrum opening with beer tasting at Café Loburg [Lustrum]
DESCRIPTION:The time has finally come\, the lustrum weeks are starting! Come and open the lustrum weeks together with the Lustrum committee and your study friends with a chill evening of beer tasting at café Loburg. The evening will consist of an opening presentation\, the reveal of the 11th almanac and a special selection of special beers.
URL:https://aktiefslip.nl/event/lustrum-opening-with-beer-tasting-at-cafe-loburg/
END:VEVENT
BEGIN:VEVENT
DTSTART;TZID=Europe/Helsinki:20220319T080000
DTEND;TZID=Europe/Helsinki:20220319T170000
DTSTAMP:20260420T050237
CREATED:20220117T110050Z
LAST-MODIFIED:20220117T110055Z
UID:2450-1647676800-1647709200@aktiefslip.nl
SUMMARY:Digital Cleanup Day [World]
DESCRIPTION:In the digital world\, similar to the environment\, there is a huge amount of trash.Unnecessary emails\, files\, apps\, duplicates of photos and videos are all digital waste.  \n\n\n\nThis digital trash creates digital pollution that continues to consume energy even when we have forgotten it. Each year the internet and its supporting systems produce 900 million tons of CO2! Some studies estimate that in a decade the internet network will consume 20 percent of the world’s total energy*.  \n\n\n\nIf we delete all unnecessary files\, apps\, photos and videos\, we are not just saving a huge amount of CO2 but we are also extending the life of our gadgets\, feel more balanced\, and we take control over our lives\, forge new digital habits\, and we will be more efficient and satisfied. Sounds like a win-win! \n\n\n\nJoin Aktief Slip on World Digital Cleanup Day and cut down on your carbon footprint!  \n\n\n\nFor more information\, visit https://www.digitalcleanupday.org/
URL:https://aktiefslip.nl/event/digital-cleanup-day-world/
END:VEVENT
BEGIN:VEVENT
DTSTART;TZID=UTC:20220316T190000
DTEND;TZID=UTC:20220316T200000
DTSTAMP:20260420T050237
CREATED:20220306T134959Z
LAST-MODIFIED:20220306T135410Z
UID:3488-1647457200-1647460800@aktiefslip.nl
SUMMARY:Dutch Speaking Circle
DESCRIPTION:Have you been taking social dutch 1\, 2? Maybe even 3? But are you still uncomfortable speaking with dutchies? Then join us at The Spot (ground floor or Orion) and practice your dutch with other beginners! Join the group chat for more up-to-date information.https://chat.whatsapp.com/B6nPuGmqb26FyeEEBCmigm
URL:https://aktiefslip.nl/event/dutch-speaking-circle-3/
END:VEVENT
BEGIN:VEVENT
DTSTART;TZID=UTC:20220315T193000
DTEND;TZID=UTC:20220315T220000
DTSTAMP:20260420T050237
CREATED:20220306T134730Z
LAST-MODIFIED:20220307T160459Z
UID:3485-1647372600-1647381600@aktiefslip.nl
SUMMARY:Board Game Night by Akcie
DESCRIPTION:(come and go as you please) \n\n\n\nForum B0313 \n\n\n\nHello Aktief Slippers\, \n\n\n\nAfter a stressful period 4 exam we deserve some time to relax again. Lucky for you Akcie is back! 🤠 \n\n\n\nWe will provide some games\, but please also bring your own favorites for others to tag along! 🎲♟️🎯Don’t forget to drag your friends into this! 👨‍👨‍👦‍👦 \n\n\n\nThe event is free 🤑 and the drinks and snacks are on us too! 🍿🍻 \n\n\n\nTickets not necessary\, but RSVP-ing is appreciated!  \n\n\n\nwww.aktiefslip.nl/events
URL:https://aktiefslip.nl/event/board-game-night-by-akcie/
END:VEVENT
BEGIN:VEVENT
DTSTART;TZID=Europe/Helsinki:20220311T203000
DTEND;TZID=Europe/Helsinki:20220311T235900
DTSTAMP:20260420T050237
CREATED:20211124T104706Z
LAST-MODIFIED:20220307T131718Z
UID:2130-1647030600-1647043140@aktiefslip.nl
SUMMARY:CANCELLED - Pubcrawl in Ede [Akcie]
DESCRIPTION:Costs: €1\,50 pp \n\n\n\nSign up individually! \n\n\n\nRegister latest: 9th of March \n\n\n\nWhatup Aktief Slippers!  \n\n\n\nThe dreadful exam week is almost upon us😐\, but fear not because after your struggles and studies the Akcie is here to lift your spirits😀! Because the student is a simple-minded creature we know that there is only one thing you will really long for after your exams: to zuip yourself the tering in 🍸🥳🍻. In other words it is time for a Pubcrawl! The KlokjesExpress🚲🚲 will go to Ede accompanied by some cheap beer and great people. So if you wish to hop from one place to another and celebrate your post-exam freedom join us in the metropolitan city of Ede🌇🎊.  \n\n\n\nBecause yet again students are incredibly predictable the tickets are very low-priced🧮📉. Sign up quickly for our ✨Cheap-Ass Cycling Adventure✨ because you do not want to miss it.
URL:https://aktiefslip.nl/event/pubcrawl-in-ede-arnhem/
END:VEVENT
BEGIN:VEVENT
DTSTART;TZID=UTC:20220308T180000
DTEND;TZID=UTC:20220308T203000
DTSTAMP:20260420T050237
CREATED:20220222T164412Z
LAST-MODIFIED:20220301T120625Z
UID:3019-1646762400-1646771400@aktiefslip.nl
SUMMARY:MCL Cohort Event: "Climate Proofing our Future" Guest Lecture by Ad Jeuken\, Deltares [Program Team]
DESCRIPTION:MCL Only\, Program Committee Organized Cohort Event @ Impulse\, OPEN TO ALL MCL STUDENTS \n\n\n\n \n\n\n\nHey MCL people!Long time since we connected with each other!Here’s a cool opportunity to see each other and attend a talk about “CLIMATE PROOFING OUR FUTURE” (in an international context) by Ad Jeuken (Deltares)\, Wageningen alumni. He is an expert in the field of climate change adaptation and water management. It is scheduled on 8th March @ 18:00 in Impulse. Entry is upon registration. \n\n\n\nThe talk is how to:• mitigate and adapt to climate change\,• bridge the gap between science we produce here in Wageningen to practice• modify infrastructure to deal with climate crisis• use climate modelling and spatial planningThe talk itself will be for 45 minutes but it will be followed by discussion with Ad\, the professors\, study advisors and of course students over dinner and drinks. \n\n\n\nNote: Please FILL IN ONLY ONE RESPONSE as the SEATS ARE LIMITED and the form will close automatically once the limit is reached! In case you can’t make it\, please edit the form by marking “no” in attendance column of the form. This is to make space for other people who can attend and more importantly to avoid food waste. \n\n\n\nReach out to me in case you need more information… \n\n\n\nLINK: https://docs.google.com/forms/d/e/1FAIpQLScMmFmuaNep4R-GDOpDFJY52idBCCcBHKF9PS4tB70GWRSgOA/viewform?usp=pp_url \n\n\n\nCheers!!
URL:https://aktiefslip.nl/event/mcl-cohort-event-guest-lecture-ad-jeurkens-deltares-program-team/
END:VEVENT
BEGIN:VEVENT
DTSTART;TZID=UTC:20220308T090000
DTEND;TZID=UTC:20220308T190000
DTSTAMP:20260420T050237
CREATED:20220301T122313Z
LAST-MODIFIED:20220301T122334Z
UID:3365-1646730000-1646766000@aktiefslip.nl
SUMMARY:Come Study with Aktief Slip [Board]
DESCRIPTION:Room B0432\, Forum \n\n\n\nAre you having a hard time focusing at home? Can’t find a study spot in Forum? We’ve got you covered! Come to Aktief Slip’s study room on Monday and Tuesday to prepare for your exams.   \n\n\n\nImportant Note: Yea boi we got no more food restrictions so you best bet there will be free coffee/tea and snacks free food is (still) my lifeee
URL:https://aktiefslip.nl/event/come-study-with-aktief-slip-board-4/
END:VEVENT
BEGIN:VEVENT
DTSTART;TZID=UTC:20220307T090000
DTEND;TZID=UTC:20220307T190000
DTSTAMP:20260420T050237
CREATED:20220301T122029Z
LAST-MODIFIED:20220301T122703Z
UID:3362-1646643600-1646679600@aktiefslip.nl
SUMMARY:Come Study with Aktief Slip [Board]
DESCRIPTION:Room B0432\, Forum \n\n\n\nAre you having a hard time focusing at home? Can’t find a study spot in Forum? We’ve got you covered! Come to Aktief Slip’s study room on Monday and Tuesday to prepare for your exams.   \n\n\n\nImportant Note: Yea boi we got no more food restrictions so you best bet there will be free coffee/tea and snacks free food is my lifeee
URL:https://aktiefslip.nl/event/come-study-with-aktief-slip-board-3/
END:VEVENT
BEGIN:VEVENT
DTSTART;TZID=Europe/Helsinki:20220304T000000
DTEND;TZID=Europe/Helsinki:20220304T235959
DTSTAMP:20260420T050237
CREATED:20220208T145423Z
LAST-MODIFIED:20220208T151141Z
UID:2601-1646352000-1646438399@aktiefslip.nl
SUMMARY:Aktief Slip Song Competition: Deadline [Board]
DESCRIPTION:Due to the release of Covid 2: Return of the Lockdown\, the board is postponing the deadline official competition for the Aktief Slip song/chant! Now you can submit your entries until Friday Week 3 of Period 4 (March 4).  \n\n\n\n \n\n\n\nHere is the full information once more\, in case you need a refresher:  \n\n\n\nGuidelines: \n\n\n\nThe song should be in EnglishIt should represent all Aktief Slip studies (BES\, MES\, MCL\, MUE)Submit at least the lyrics. Recordings/videos are not necessary but may help make your entry stand out (especially if the song needs to be sung in a specific way or have a specific dance)There is no set length\, but keep in mind the song should be easy for future members to memorize and sing!\n\n\n\nSubmission:  \n\n\n\nEntries should be submitted to aktief.slip@wur.nl with “Song Competition + Your Name(s)” on the subject line! \n\n\n\n \n\n\n\nDeadline:  \n\n\n\nMarch 4\, 2022. The winners will be decided via popular vote after this deadline and announced at a (hopefully) live event. \n\n\n\n \n\n\n\nPrize: TBA\, watch out for our social media!  \n\n\n\n \n\n\n\nNote: you CAN use pre-existing songs for the background music\, but you can also be entirely original if you prefer.
URL:https://aktiefslip.nl/event/aktief-slip-song-competition-deadline-board/
END:VEVENT
BEGIN:VEVENT
DTSTART;TZID=UTC:20220302T193000
DTEND;TZID=UTC:20220302T213000
DTSTAMP:20260420T050237
CREATED:20220221T111552Z
LAST-MODIFIED:20220221T115457Z
UID:2754-1646249400-1646256600@aktiefslip.nl
SUMMARY:Documentary Evening [Foodcie]
DESCRIPTION:Helloo fellow Aktief Slippers! Do you like cooking or eating? (Yes ofc) 🧑‍🍳 Have you ever wanted to know more about how to sustainably buy and eat food\, to make an impact on carbon emissions and improve you quality of life\, but never found a good documentary or the time to dig into the topic? 🥘🥗  On the 2nd of March at 19:30 the FoodCie is organizing a movie evening where you can fulfill your curiosity and enjoy a nice time with friends and studymates around a (hopefully life-changing) documentary of your choice 😋 Check your agenda\, book the date and see you there!! \n\n\n\nSign up before 28 February: https://forms.office.com/r/hyQYNnTJ7F
URL:https://aktiefslip.nl/event/documentary-evening-foodcie/
END:VEVENT
BEGIN:VEVENT
DTSTART;TZID=Europe/Helsinki:20220302T190000
DTEND;TZID=Europe/Helsinki:20220302T200000
DTSTAMP:20260420T050237
CREATED:20220210T185156Z
LAST-MODIFIED:20220210T185203Z
UID:2642-1646247600-1646251200@aktiefslip.nl
SUMMARY:Dutch Speaking Circle
DESCRIPTION:Have you been taking social dutch 1\, 2? Maybe even 3? But are you still uncomfortable speaking with dutchies? Then join us *at the spot* (ground floor or Orion) and practice your dutch with other beginners! Join the group chat for more up-to-date information.https://chat.whatsapp.com/B6nPuGmqb26FyeEEBCmigm
URL:https://aktiefslip.nl/event/dutch-speaking-circle-2/
END:VEVENT
BEGIN:VEVENT
DTSTART;TZID=UTC:20220301T190000
DTEND;TZID=UTC:20220301T203000
DTSTAMP:20260420T050237
CREATED:20220222T165813Z
LAST-MODIFIED:20220222T170837Z
UID:3021-1646161200-1646166600@aktiefslip.nl
SUMMARY:MCL/MES/MUE Preparation for your 2nd Year Master Meeting [Program Team]
DESCRIPTION:Information evening for 1st year master students  \n\n\n\nFor all first-year master students who want to know what their second-year master will look like\, how to find or choose thesis/internship and what needs to be arranged. This meeting consists of 3 presentations and of course there are ample possibilities to ask questions: \n\n\n\n19:00 – 19:20 – overview 2nd year master by study advisers Suzane Tuju and Annemarie Hage \n\n\n\n19:20 -19:40 –  2nd year student about Internship experience \n\n\n\n19:40 – 20:00 – 2nd year student about the thesis experience \n\n\n\n20:00 – Questions \n\n\n\n \n\n\n\nThe MS Teams Link to this meeting has been mailed to first year student by the Office BES-MES-MUE-MCL.
URL:https://aktiefslip.nl/event/mcl-mes-mue-preparation-for-your-2nd-year-master-meeting-program-team/
END:VEVENT
BEGIN:VEVENT
DTSTART;TZID=Europe/Helsinki:20220225T170000
DTEND;TZID=Europe/Helsinki:20220225T200000
DTSTAMP:20260420T050237
CREATED:20211214T135838Z
LAST-MODIFIED:20220219T145150Z
UID:2207-1645808400-1645819200@aktiefslip.nl
SUMMARY:Masters VrijMiBo @ the ICA [Mastercie]
DESCRIPTION:Join us at the International Club (next to Haarweg) for the Winter edition of the Mastercie VrijMiBo! Get some drinks and relax in the company of your fellow MSc students.  \n\n\n\n \n\n\n\nEntry is free to all MES\, MCL & MUE students. Borrel snacks will be provided.  \n\n\n\nMembers and non-members of Aktief Slip welcome!  \n\n\n\n \n\n\n\nSign up via the RSVP form below!  \n\n\n\nNote: As per current covid measures there will be a QR check at the door \n\n\n\nGoogle maps location: https://goo.gl/maps/MRHxUn1YFrn8wxtR7
URL:https://aktiefslip.nl/event/masters-vrijmibo/
END:VEVENT
BEGIN:VEVENT
DTSTART;TZID=Europe/Helsinki:20220223T190000
DTEND;TZID=Europe/Helsinki:20220223T200000
DTSTAMP:20260420T050237
CREATED:20220210T184807Z
LAST-MODIFIED:20220210T184838Z
UID:2638-1645642800-1645646400@aktiefslip.nl
SUMMARY:Dutch Speaking Circle
DESCRIPTION:Have you been taking social dutch 1\, 2? Maybe even 3? But are you still uncomfortable speaking with dutchies? Then join us *at the spot* (ground floor or Orion) and practice your dutch with other beginners! Join the group chat for more up-to-date information.https://chat.whatsapp.com/B6nPuGmqb26FyeEEBCmigm
URL:https://aktiefslip.nl/event/dutch-speaking-cirle/
END:VEVENT
BEGIN:VEVENT
DTSTART;TZID=Europe/Amsterdam:20220223T120000
DTEND;TZID=Europe/Amsterdam:20220223T133000
DTSTAMP:20260420T050237
CREATED:20220120T131440Z
LAST-MODIFIED:20220131T124707Z
UID:2471-1645617600-1645623000@aktiefslip.nl
SUMMARY:Committee Interest Market [Board]
DESCRIPTION:Forum B0217 \n\n\n\nAktief Slip wants YOU!As the association slowly comes out of corona hibernation\, more activities will come your way. These are organized by our committees\, which all need members! If you want to be a bit more involved in the association (most committees take around 1-2h a week max)\, or if you’re just curious about what committees the association has\, come to our committee interest market! We hope to see you there! -The board 
URL:https://aktiefslip.nl/event/committee-interest-market-board/
END:VEVENT
BEGIN:VEVENT
DTSTART;TZID=Europe/Helsinki:20220222T120000
DTEND;TZID=Europe/Helsinki:20220222T130000
DTSTAMP:20260420T050237
CREATED:20220117T130336Z
LAST-MODIFIED:20220218T164055Z
UID:2456-1645531200-1645534800@aktiefslip.nl
SUMMARY:Painting forgery workshop [Akcie]
DESCRIPTION:Time and date still subject \n\n\n\nTuesday 22 febr. \n\n\n\n1200-1300 \n\n\n\nForum B0512 \n\n\n\nCosts: 1 euro \n\n\n\nRegister latest: Sunday 20th feb \n\n\n\nTired of all the black-white knowledge from your couses? With Akcie you can bring some colour in your lifes!! 🎨 🖌️ We will host a casual panting workshop/contest for fun and relaxation. All supplies will be provided and you will be challenged to forge a famous painting! Best result will win an unique Akcie-trophy 💫 Please register\, as we have a maximum of 30 spots
URL:https://aktiefslip.nl/event/event-akcie/
END:VEVENT
BEGIN:VEVENT
DTSTART;TZID=Europe/Helsinki:20220219T180000
DTEND;TZID=Europe/Helsinki:20220219T210000
DTSTAMP:20260420T050237
CREATED:20211214T141822Z
LAST-MODIFIED:20220204T220320Z
UID:2209-1645293600-1645304400@aktiefslip.nl
SUMMARY:Winter Mentor Program: Potluck
DESCRIPTION:MES February Intake Mentor Groups \n\n\n\nDetails will be announced in mentor group chats
URL:https://aktiefslip.nl/event/winter-mentor-program-potluck/
END:VEVENT
BEGIN:VEVENT
DTSTART;TZID=Europe/Helsinki:20220219T100000
DTEND;TZID=Europe/Helsinki:20220219T160000
DTSTAMP:20260420T050237
CREATED:20211207T214604Z
LAST-MODIFIED:20220215T151322Z
UID:2182-1645264800-1645286400@aktiefslip.nl
SUMMARY:ESG Excursion
DESCRIPTION:ESG excursion to Radio KootwijkIn the heart of the Veluwe\, between the heath and sand dunes\, between traces of red deer and wild boars\, a radio broadcasting station got established in 1918. It’s not in operation anymore\, but the imposing building still stands in the middle of the open heath and Western Europe’s largest active sand dunes\, like a sphinx guarding the desert. The Environmental Sciences Group is hosting a guided excursion to this mystical place! On Saturday February 19th\, 10:00-16:00\, we will take the bus from campus. Bring €4 as an entry fee\, and discover the wonders of Radio Kootwijk!   \n\n\n\nhttps://docs.google.com/forms/d/e/1FAIpQLSdhtQzqGs9SP1kEQq4vyNs10pllg_eTTTMXf0h2JkSO9RNpbA/viewform
URL:https://aktiefslip.nl/event/esg-excursion/
END:VEVENT
BEGIN:VEVENT
DTSTART;TZID=Europe/Helsinki:20220217T200000
DTEND;TZID=Europe/Helsinki:20220217T210000
DTSTAMP:20260420T050237
CREATED:20211206T133723Z
LAST-MODIFIED:20220210T180430Z
UID:2177-1645128000-1645131600@aktiefslip.nl
SUMMARY:Evening lecture [Extern]
DESCRIPTION:Hi Aktief Slippers\, \n\n\n\nhave you ever wondered what happened to medical waste 💊 in the sewers and drinking waters💦? Then we have the perfect event for you! On the 17th of February in the evening\, the committee extern will organize a symposium 🏛️ about this topic. You can walk in from 19:45 and will start at 20:00\, until around 21:00🕰️. We hope to see you in Impulse\, the NcountR room. \n\n\n\n \n\n\n\nIf you want snacks\, please fill in this survey before Friday morning (11th). You can fill in this survey afterward but we will only be able to provide drinks after this date.
URL:https://aktiefslip.nl/event/evening-lecture-by-extern/
END:VEVENT
BEGIN:VEVENT
DTSTART;TZID=Europe/Helsinki:20220216T190000
DTEND;TZID=Europe/Helsinki:20220216T210000
DTSTAMP:20260420T050237
CREATED:20211218T163029Z
LAST-MODIFIED:20220104T123651Z
UID:2252-1645038000-1645045200@aktiefslip.nl
SUMMARY:Board Interest Borel [Board]
DESCRIPTION:Are you secretly dreaming of becoming a board member? Or are you looking for a fun way to boost your CV? Or just wondering what the board does besides always being in the Hok?On February 16th the Aktief Slip board is organizing a Board Interest evening\, during which you can ask all your questions and have the chance to get to know the current board a bit better! The event starts at 19:00. The only thing you have to do is sign up through this link: https://forms.office.com/Pages/ResponsePage.aspx?id=5TfRJx92wU2viNJkMKuxj9j8Dnnz9TVCkVkEAMejcSVURDRMSVdGVUQ1RVlCNFJOWFdWTFo3TEJXRi4u \n\n\n\nWe can’t wait to see you then!Ps. Joining this evening doesn’t bind you to anything\, the worst thing that can happen is that you are have a fun evening 😉
URL:https://aktiefslip.nl/event/board-interest-borel-board/
END:VEVENT
BEGIN:VEVENT
DTSTART;TZID=Europe/Helsinki:20220216T180000
DTEND;TZID=Europe/Helsinki:20220216T190000
DTSTAMP:20260420T050237
CREATED:20220210T184709Z
LAST-MODIFIED:20220210T184716Z
UID:2636-1645034400-1645038000@aktiefslip.nl
SUMMARY:Dutch Speaking Circle
DESCRIPTION:Have you been taking social dutch 1\, 2? Maybe even 3? But are you still uncomfortable speaking with dutchies? Then join us *at the spot* (ground floor or Orion) and practice your dutch with other beginners! Join the group chat for more up-to-date information.https://chat.whatsapp.com/B6nPuGmqb26FyeEEBCmigm
URL:https://aktiefslip.nl/event/dutch-speaking-circle/
END:VEVENT
BEGIN:VEVENT
DTSTART;TZID=Europe/Helsinki:20220215T203000
DTEND;TZID=Europe/Helsinki:20220215T220000
DTSTAMP:20260420T050237
CREATED:20220206T224520Z
LAST-MODIFIED:20220207T160003Z
UID:2573-1644957000-1644962400@aktiefslip.nl
SUMMARY:Valentine Squash [Sportcie]
DESCRIPTION:Are you wondering what to do after St. Valentine’s Day and want to try out a different type of date? Then\, we have good news because Sportcie is organizing a Valentine-themed squash tournament on 15th February from 20:30 until 22:00 at the Bongerd. You just need to fill the questionnaire below to be matched with a partner. You will first play together and then decide who is going to the knockouts of the tournament. There are limited spots\, so don’t hesitate and reserve a place in this exciting event to have the chance to win a prize for you and your partner. If you have a racquet\, please bring it😉 \n\n\n\nHope to see you there!
URL:https://aktiefslip.nl/event/valentine-squash-sportcie/
END:VEVENT
BEGIN:VEVENT
DTSTART;TZID=Europe/Helsinki:20220208T153000
DTEND;TZID=Europe/Helsinki:20220208T173000
DTSTAMP:20260420T050237
CREATED:20211214T142844Z
LAST-MODIFIED:20220204T220122Z
UID:2211-1644334200-1644341400@aktiefslip.nl
SUMMARY:Winter Mentor Program: Mentor Group Games
DESCRIPTION:MES February Intake Mentor Groups \n\n\n\nForum\, Rooms B0211\, B0217\, and B0218 (2nd floor) \n\n\n\nAll new MES students welcome even if not registered to the AID
URL:https://aktiefslip.nl/event/winter-mentor-program-event/
END:VEVENT
BEGIN:VEVENT
DTSTART;TZID=Europe/Helsinki:20220207T140000
DTEND;TZID=Europe/Helsinki:20220207T170000
DTSTAMP:20260420T050237
CREATED:20211214T143309Z
LAST-MODIFIED:20220204T215837Z
UID:2213-1644242400-1644253200@aktiefslip.nl
SUMMARY:Winter Mentor Program: Study Day
DESCRIPTION:MES February Intake Mentor Groups \n\n\n\nForum\, Rooms B0512+B0516 (5th floor)  \n\n\n\nMentors will be in the forum building ground floor to help new students find their way.
URL:https://aktiefslip.nl/event/winter-mentor-program-study-day/
END:VEVENT
BEGIN:VEVENT
DTSTART;TZID=Europe/Helsinki:20220126T090000
DTEND;TZID=Europe/Helsinki:20220126T190000
DTSTAMP:20260420T050237
CREATED:20220120T133812Z
LAST-MODIFIED:20220120T153707Z
UID:2476-1643187600-1643223600@aktiefslip.nl
SUMMARY:Come Study with Aktief Slip [Board]
DESCRIPTION:Room B0435 ForumHaving a hard time focusing at home? Can’t find a study spot in Forum? We’ve got you covered! Come to Aktief Slip’s study room on Monday and Wednesday to prepare for your exams. Disclaimer: Keep in mind that Forum’s corona measure will have to be observed. So you will have to stay seated\, you can not eat in the study room\, and masks will have to be worn at all times.
URL:https://aktiefslip.nl/event/come-study-with-aktief-slip-board-2/
END:VEVENT
BEGIN:VEVENT
DTSTART;TZID=Europe/Helsinki:20220124T090000
DTEND;TZID=Europe/Helsinki:20220124T190000
DTSTAMP:20260420T050237
CREATED:20220120T133440Z
LAST-MODIFIED:20220120T153607Z
UID:2474-1643014800-1643050800@aktiefslip.nl
SUMMARY:Come Study with Aktief Slip [Board]
DESCRIPTION:Room B0404 ForumAre you having a hard time focusing at home? Can’t find a study spot in Forum? We’ve got you covered! Come to Aktief Slip’s study room on Monday and Wednesday to prepare for your exams. Disclaimer: Keep in mind that Forum’s corona measure will have to be observed. So you will have to stay seated\, you can not eat in the study room\, and masks will have to be worn at all times.
URL:https://aktiefslip.nl/event/come-study-with-aktief-slip-board/
END:VEVENT
END:VCALENDAR