BEGIN:VCALENDAR
VERSION:2.0
PRODID:-//aktiefslip.nl - ECPv6.15.10//NONSGML v1.0//EN
CALSCALE:GREGORIAN
METHOD:PUBLISH
X-WR-CALNAME:aktiefslip.nl
X-ORIGINAL-URL:https://aktiefslip.nl
X-WR-CALDESC:Events for aktiefslip.nl
REFRESH-INTERVAL;VALUE=DURATION:PT1H
X-Robots-Tag:noindex
X-PUBLISHED-TTL:PT1H
BEGIN:VTIMEZONE
TZID:Europe/Helsinki
BEGIN:DAYLIGHT
TZOFFSETFROM:+0200
TZOFFSETTO:+0300
TZNAME:EEST
DTSTART:20210328T010000
END:DAYLIGHT
BEGIN:STANDARD
TZOFFSETFROM:+0300
TZOFFSETTO:+0200
TZNAME:EET
DTSTART:20211031T010000
END:STANDARD
BEGIN:DAYLIGHT
TZOFFSETFROM:+0200
TZOFFSETTO:+0300
TZNAME:EEST
DTSTART:20220327T010000
END:DAYLIGHT
BEGIN:STANDARD
TZOFFSETFROM:+0300
TZOFFSETTO:+0200
TZNAME:EET
DTSTART:20221030T010000
END:STANDARD
BEGIN:DAYLIGHT
TZOFFSETFROM:+0200
TZOFFSETTO:+0300
TZNAME:EEST
DTSTART:20230326T010000
END:DAYLIGHT
BEGIN:STANDARD
TZOFFSETFROM:+0300
TZOFFSETTO:+0200
TZNAME:EET
DTSTART:20231029T010000
END:STANDARD
END:VTIMEZONE
BEGIN:VTIMEZONE
TZID:UTC
BEGIN:STANDARD
TZOFFSETFROM:+0000
TZOFFSETTO:+0000
TZNAME:UTC
DTSTART:20210101T000000
END:STANDARD
END:VTIMEZONE
BEGIN:VEVENT
DTSTART;TZID=Europe/Helsinki:20220622T190000
DTEND;TZID=Europe/Helsinki:20220622T220000
DTSTAMP:20260420T030411
CREATED:20220620T122440Z
LAST-MODIFIED:20220620T122510Z
UID:5752-1655924400-1655935200@aktiefslip.nl
SUMMARY:"Where do you stand?" Debate Event [AktiefSlipxSocrates]
DESCRIPTION:Good morning everyone! We are happy to invite you to an event born as collaboration between Aktief Slip and the WUR Socrates. After choosing a statement of environmental relevance\, you will either pick a side or stay in the “neutral zone”. The game is all about winning people over by showing off your knowledge (if lacking\, persuasion skills-) about veganism\, the Paris Agreement\, electric cars… OR pointing out the faults in your friends’ arguments. \n\n\n\n \n\n\n\nCome on Wednesday 22nd\, at 19 in Forum B0309 to (properly) argue against your friends! Break and snacks assured 😉 \n\n\n\nSign up link: https://forms.gle/8utj2KGH5vU1bubQ6
URL:https://aktiefslip.nl/event/where-do-you-stand-debate-event-socrates-collab/
ATTACH;FMTTYPE=image/png:https://aktiefslip.nl/wp-content/uploads/2022/06/where-do-you-stand-1.png
END:VEVENT
BEGIN:VEVENT
DTSTART;TZID=Europe/Helsinki:20220621T123000
DTEND;TZID=Europe/Helsinki:20220621T133000
DTSTAMP:20260420T030411
CREATED:20220523T193010Z
LAST-MODIFIED:20220611T173913Z
UID:5574-1655814600-1655818200@aktiefslip.nl
SUMMARY:FREE LUNCH: Board Interest 2022-2023
DESCRIPTION:Dear Aktief Slippers\, \n\n\n\nThe board change might feel like yesterday\, but another change 🔄 is already  \n\n\n\nDear Aktief Slippers\,The board change might feel like yesterday\, but another change 🔄 is already happening in November. Since period 1 of the next study year will be very busy with all kinds of activities 🪩💃\, we are hosting a board interest lunch 🥐🌯🍽 already before summer break\, on June 21st. If you want to spice up your CV\, know more of what the board does on a daily basis\, available functions\, and the corresponding tasks\, Sign/up via the link below! \n\n\n\n \n\n\nSign-up: https://forms.office.com/r/fu635NLfvj \n\n\n\n\n\n\n\n\nWith love\, Board 2022
URL:https://aktiefslip.nl/event/board-interest-drinks-2022-2023/
ATTACH;FMTTYPE=image/png:https://aktiefslip.nl/wp-content/uploads/2022/05/Board-interest-borrel-2.png
END:VEVENT
BEGIN:VEVENT
DTSTART;TZID=Europe/Helsinki:20220617T170000
DTEND;TZID=Europe/Helsinki:20220619T170000
DTSTAMP:20260420T030411
CREATED:20220124T150653Z
LAST-MODIFIED:20220516T193614Z
UID:2496-1655485200-1655658000@aktiefslip.nl
SUMMARY:Aktief Slip Weekend in Lanaken [Weekendcie]
DESCRIPTION:After two long COVID years the time is finally there: the Weekendcie is organizing a trip again! On the weekend of 17th of June until the 19th we will go to the picturesque village of Lanaken\, lying next to the river Meuse! It is barely outside of the Netherlands so we can technically this a trip abroad! We will make our home for those days in Pietersheim\, a nice forested area with playgrounds\, a petting zoo\, and the possibility for lovely hikes. If you feel like that is a little bit too childish\, we have something a bit more grown-up in mind as well! But to know that you have to join the weekend first! 😉 \n\n\n\n \n\n\n\nTo get everybody already in the mood\, we have a small playlist (which will be extended over the coming time): https://open.spotify.com/playlist/1veWCJ4OS7TwQYqyTFk7Fl?si=d9b85372aa00408e \n\n\n\nThe weekend to Lanaken will be full of fun\, relaxation\, integration\, and interesting activities. So\, if you want to join your fellow Aktief Slippers\, make sure to sign up via the link below! Spread the word! \n\n\n\n\nhttps://forms.office.com/Pages/ResponsePage.aspx?id=5TfRJx92wU2viNJkMKuxj-6bxYfnAHdHjxaQPsqenBdUN1BKNFk5ODFYT0hVODNQR0ZXM1dDRjFaNi4u
URL:https://aktiefslip.nl/event/aktief-slip-weekend-in-lanaken-weekendcie/
CATEGORIES:Trip
END:VEVENT
BEGIN:VEVENT
DTSTART;TZID=Europe/Helsinki:20220616T121500
DTEND;TZID=Europe/Helsinki:20220616T133000
DTSTAMP:20260420T030411
CREATED:20220610T145952Z
LAST-MODIFIED:20220613T124653Z
UID:5689-1655381700-1655386200@aktiefslip.nl
SUMMARY:Picking garden [Mastercie]
DESCRIPTION:Hi master students from MUE/MES/MCL\, \n\n\n\nWant to enjoy a tour of the lovely picking garden “De Bosrand” in Wageningen in the lunch break of your busy study schedule? On Thursday\, June 16th during the lunch break\, the Master Committee organises an excursion to this flourishing picking garden located on the picturesque Wageningse Eng. Sign up for free entrance to the garden and also enjoy a free tour of the picking garden by the owner herself. Entrance also includes a budget of 2\,50 euros per person for picking fruits\, vegetables\, or herbs after the tour. Sign up for free via the Aktief Slip website (event calendar). Be quick\, because there are only 25 tickets in total! \n\n\n\n12:15h gather at Forum and cycle to picking garden together \n\n\n\n12:30-13:30h at picking garden De Bosrand\, Wageningen \n\n\n\nFor all MUE\, MES and MCL students\, also non-members of Aktief Slip \n\n\n\nHope to see you then! \n\n\n\nMasterCie
URL:https://aktiefslip.nl/event/picking-garden-mastercie/
END:VEVENT
BEGIN:VEVENT
DTSTART;TZID=Europe/Helsinki:20220615T190000
DTEND;TZID=Europe/Helsinki:20220615T220000
DTSTAMP:20260420T030411
CREATED:20220516T192736Z
LAST-MODIFIED:20220531T114028Z
UID:5287-1655319600-1655330400@aktiefslip.nl
SUMMARY:Committee Thanks Borrel
DESCRIPTION:When: 19:00\, 15th of June\, WednesdayWhere: Dijkgrass (the park next to Dijkgraaf) – subject to change if weather is unpleasantWho: Aktief Slip committee members \n\n\n\n \n\n\n\nWhat: Board provides the drinks (beer\, wine\, juice\, etc.) and each committee should provide a dish for the borrel. Food should be by default vegetarian\, with the dietary restrictions and preferences of at least your own committee members in mind. We are also asking you to bring a list of ingredients of the dish on paper to have it next to it!
URL:https://aktiefslip.nl/event/aktief-slip-and-genius-loci-akcie/
END:VEVENT
BEGIN:VEVENT
DTSTART;TZID=Europe/Helsinki:20220614T220000
DTEND;TZID=Europe/Helsinki:20220615T030000
DTSTAMP:20260420T030411
CREATED:20220523T124539Z
LAST-MODIFIED:20220523T124547Z
UID:5554-1655244000-1655262000@aktiefslip.nl
SUMMARY:'Around the World' Party
DESCRIPTION:Around the world party🇧🇪🗽🕌⛩ \n\n\n\nTuesday 14th of June\, 22h – 3h \n\n\n\n@ International Club \n\n\n\n \n\n\n\nJoin us on the 14th of June for an amazing around the world party 🇫🇮🇭🇺🇮🇳🇳🇱🇳🇴! Together with other study associations Genius Loci\, Sylvatica & Nitocra it’s going to be an amazing night! Dress up as beautiful as possible for the theme\, as the best costume gets a prize 🏆. \n\n\n\nWe can’t wait\, hope to see you there🥳🎉!
URL:https://aktiefslip.nl/event/around-the-world-party/
CATEGORIES:Party
END:VEVENT
BEGIN:VEVENT
DTSTART;TZID=Europe/Helsinki:20220608T173000
DTEND;TZID=Europe/Helsinki:20220608T230000
DTSTAMP:20260420T030411
CREATED:20220201T143025Z
LAST-MODIFIED:20220604T083659Z
UID:2518-1654709400-1654729200@aktiefslip.nl
SUMMARY:End of Year BBQ [Akcie + Foodcie]
DESCRIPTION:End of the year BBQ party🥦 \n\n\n\nWednesday 8 June\, from 17:30 onwards \n\n\n\n@Campus \n\n\n\n \n\n\n\nFree for members 🤑 \n\n\n\n \n\n\n\nHi there hungry Slippers😋! It’s already almost the end of the year\, and we have organised an amazing end of the year BBQ party for this! As good #WURlifers 🌱\, all food is either vegetarian or vegan 🍅! Don’t forget to bring your own drink 🍷. \n\n\n\nSign up quickly before the 3rd\, as there is only limited space and sign up is required.
URL:https://aktiefslip.nl/event/end-of-year-bbq-akcie-foodcie/
CATEGORIES:Free Food
END:VEVENT
BEGIN:VEVENT
DTSTART;TZID=Europe/Helsinki:20220607T193000
DTEND;TZID=Europe/Helsinki:20220607T223000
DTSTAMP:20260420T030411
CREATED:20220524T153022Z
LAST-MODIFIED:20220524T153029Z
UID:5597-1654630200-1654641000@aktiefslip.nl
SUMMARY:Masters Presentation
DESCRIPTION:The programme team would like to invite all BES students for a Masters’s presentation evening. Master Students from 6 different programs and with different specialisations will tell you their experiences and answer all your questions! Free snacks and drinks are provided! 🍪🥂Schedule\, in rooms B0217 & B0218 (Forum):19h30 – MES and MAM20h – MCL and MUE20h30 – MBS and MDRSigning up is not mandatory but preferred\, find the link below! 🌱https://forms.office.com/r/ZUPCESeUJ5
URL:https://aktiefslip.nl/event/masters-presentation/
ATTACH;FMTTYPE=image/png:https://aktiefslip.nl/wp-content/uploads/2022/05/thumbnail_Masters-1.png
END:VEVENT
BEGIN:VEVENT
DTSTART;TZID=Europe/Helsinki:20220606T123000
DTEND;TZID=Europe/Helsinki:20220606T133000
DTSTAMP:20260420T030411
CREATED:20220606T154407Z
LAST-MODIFIED:20220606T154414Z
UID:5683-1654518600-1654522200@aktiefslip.nl
SUMMARY:Picking Garden Tour [Mastercie]
DESCRIPTION:Promo will be uploaded shortly.
URL:https://aktiefslip.nl/event/picking-garden-tour-mastercie/
END:VEVENT
BEGIN:VEVENT
DTSTART;TZID=Europe/Helsinki:20220601T200000
DTEND;TZID=Europe/Helsinki:20220601T213000
DTSTAMP:20260420T030411
CREATED:20220523T123226Z
LAST-MODIFIED:20220524T153543Z
UID:5545-1654113600-1654119000@aktiefslip.nl
SUMMARY:Archery Tag [Sportcie]
DESCRIPTION:Want to test out your skills with a bow and arrow 🏹? Come join us on June 1st from 20:00 ~ 21:30 at an archery shooting range called De Blaauwe Arena. We will depart together from Forum at 19:30. Limited spaces are available so get your tickets quick for just €2.50!
URL:https://aktiefslip.nl/event/archery-tag-sportcie/
CATEGORIES:Game
END:VEVENT
BEGIN:VEVENT
DTSTART;TZID=Europe/Helsinki:20220601T080000
DTEND;TZID=Europe/Helsinki:20220601T170000
DTSTAMP:20260420T030411
CREATED:20220114T174911Z
LAST-MODIFIED:20220527T110720Z
UID:2439-1654070400-1654102800@aktiefslip.nl
SUMMARY:ESG company day
DESCRIPTION:Hi there!On the 1st of June\, the Environmental Sciences Group🌱 (Aktief Slip\, Genius Loci\, Nitocra\, Pyrus and Sylvatica) study associations will organize a company day💼 for all students.It will start around 11 until 18\, with a market filled with company stands\, presentations and workshops. You can talk with companies\, learn more about your future work possibilities and network👔. Plus\, it is also free 💸!Hope to you there!
URL:https://aktiefslip.nl/event/esg-company-market/
CATEGORIES:Education
ATTACH;FMTTYPE=image/jpeg:https://aktiefslip.nl/wp-content/uploads/2022/01/ESG-company-day-jpg.jpg
END:VEVENT
BEGIN:VEVENT
DTSTART;TZID=Europe/Helsinki:20220525T203000
DTEND;TZID=Europe/Helsinki:20220525T235900
DTSTAMP:20260420T030411
CREATED:20211209T120114Z
LAST-MODIFIED:20220523T121246Z
UID:2185-1653510600-1653523140@aktiefslip.nl
SUMMARY:Environmental Sciences Gala [Galacie]
DESCRIPTION:Environmental Sciences Gala by Aktief Slip \n\n\n\nWednesday the 25th of May \n\n\n\nFrom 20:30 until 02:00 \n\n\n\nLocation is the WICC Hotel in Wageningen \n\n\n\nCost: €25 per ticket\, €1\,50 discount for Aktief Slip Members \n\n\n\nTickets available at: tinyurl.com/ycknbf98   \n\n\n\nWe would like to cordially invite you to the Environmental Sciences Gala. On the 25th of May\, enjoy a glamorous night of festivities at the WICC Hotel in Wageningen. The Gala is open to all BES\, MES\, MUE\, MCL students\, alumni and your plus-ones. During the evening enjoy live performances of musical artists. \n\n\n\nTicket includes access to the event\, a welcome drink\, and some bites during the evening. A professional photographer will be present to take pictures of this unforgettable evening.
URL:https://aktiefslip.nl/event/aktief-slip-gala/
END:VEVENT
BEGIN:VEVENT
DTSTART;TZID=Europe/Helsinki:20220519T190000
DTEND;TZID=Europe/Helsinki:20220519T230000
DTSTAMP:20260420T030411
CREATED:20220213T172100Z
LAST-MODIFIED:20220518T081737Z
UID:2653-1652986800-1653001200@aktiefslip.nl
SUMMARY:CANCELLED Inflatable obstacle course battle & party
DESCRIPTION:Inflatable obstacle course battle & party! [Aktief Slip/Di-Et-Tri/Mercurius/Ipso Facto]Who will be the fastest on the inflatable obstacle course? Let’s battle together with Aktief Slip\, Di-Et-Tri\, Ipso Facto and Mercurius to find out! Together with a team of people from your own study association\, you will race for the prize and to get your study association the title of the fastest one. To cool down and refuel after the race\, you can enjoy free drinks and snacks! Besides the obstacle course\, the activity will also exist some other games and activities. In all\, it will be a fun way to spend your afternoon/evening with friends from your own association and you get to know new people!
URL:https://aktiefslip.nl/event/storm-track-with-di-et-tri-mercurius-ipso-facto/
CATEGORIES:Party
END:VEVENT
BEGIN:VEVENT
DTSTART;TZID=Europe/Helsinki:20220517T200000
DTEND;TZID=Europe/Helsinki:20220517T213000
DTSTAMP:20260420T030411
CREATED:20220315T210359Z
LAST-MODIFIED:20220510T105402Z
UID:3787-1652817600-1652823000@aktiefslip.nl
SUMMARY:Pre-gala Dance Workshop [Galacie]
DESCRIPTION:Are you excited for the upcoming gala yet? To fully prepare you\, the Galacie hosts a partner-dance workshop for you and your dates! 👠🎩 Teachers from WubDa will teach us two different dances in 1.5 hours. So get your groove on and sign up for this workshop! 🎼 \n\n\n\n[[[You sign up solo for this event. Of course\, you can have your date sign up as well\, but you do not need a partner to sign up. You can always find someone at the event itself.As a member\, you do not have to have a gala ticket to come to this event\, although this event is focused around the gala of course. As a non-member\, you are only allowed to join the workshop if you will be coming to the gala]]]
URL:https://aktiefslip.nl/event/pre-gala-event/
ATTACH;FMTTYPE=image/png:https://aktiefslip.nl/wp-content/uploads/2022/03/Pre-gala-event.png
END:VEVENT
BEGIN:VEVENT
DTSTART;TZID=Europe/Helsinki:20220511T190000
DTEND;TZID=Europe/Helsinki:20220511T210000
DTSTAMP:20260420T030411
CREATED:20220316T091331Z
LAST-MODIFIED:20220506T140032Z
UID:3794-1652295600-1652302800@aktiefslip.nl
SUMMARY:Vegan Cake Baking Competition [Foodcie]
DESCRIPTION:The Annual Vegan Cake Competition: \n\n\n\nWednesday 11th May \n\n\n\n19:00 to 20:30 \n\n\n\nLocation: TBD \n\n\n\nCosts: FREE \n\n\n\nRegister Latest on 9th May \n\n\n\nSign-up: https://forms.office.com/r/YTC9AjutQf \n\n\n\n \n\n\n\n\n\n\n\nVegans often miss out on the delicious deserts that we all love and eat\, and vegan cakes are often sidelined by society\, considered not as good as non-began versions. You know that is not true. Show everyone that you can make an exquisite cake using only vegan ingredients\, and compete with others for an amazing prize\, at the biggest Foodie event yet. 🎂 You can either come only as an eater and rater or bring a cake and get a chance to show off your skills and win the grand prize. Expenses will be reimbursed. The event is open to non-member. If you are a non-member who also does not bring a cake\, the price is €1.50. See you there.
URL:https://aktiefslip.nl/event/cake-baking-competition/
END:VEVENT
BEGIN:VEVENT
DTSTART;TZID=Europe/Helsinki:20220511T123000
DTEND;TZID=Europe/Helsinki:20220511T134500
DTSTAMP:20260420T030411
CREATED:20220502T082140Z
LAST-MODIFIED:20220506T135728Z
UID:5016-1652272200-1652276700@aktiefslip.nl
SUMMARY:Frisbee with free icecream [Sportcie]
DESCRIPTION:Dear Aktief Slippers\,  \n\n\n\nI scream\, you scream\, we all scream for free ice cream!! During the lunch break on Wednesday the 11th of May\, Sportcie will organise a frisbee event. @Field next to Orion starting at 12:30 till 13:45\, we will play both casual frisbee\, and ultimate frisbee. Do not start this period off too stressed and enjoy some frisbee and ice cream in (hopefully) lovely weather! \n\n\n\nSee you there the 11th – Sportcie 
URL:https://aktiefslip.nl/event/frisbee-with-free-icecream-sportcie/
END:VEVENT
BEGIN:VEVENT
DTSTART;TZID=Europe/Helsinki:20220510T190000
DTEND;TZID=Europe/Helsinki:20220510T220000
DTSTAMP:20260420T030411
CREATED:20220123T205221Z
LAST-MODIFIED:20220510T123528Z
UID:2493-1652209200-1652220000@aktiefslip.nl
SUMMARY:ESG Symposium
DESCRIPTION:Symposium: the Green City   \n\n\n\nGreen and resilient cities: from plan to practice   \n\n\n\nWhat will cities look like in the future? How can we protect our cities from the effects from climate change\, and make it resilient? What are the practical and technical measures we can take? These and many more questions will be answered during the Environmental Sciences Group Symposium! For all members of Aktief Slip\, Genius Loci\, Nitocra\, Pyrus and Sylvatica: the environmental sciences group is hosting a symposium on May 10th\, 19:00 in Theater Junushoff! So mark down the date\, and we’ll see you guys there!!  \n\n\n\n \n\n\n\n \n\n\n\nSign up: https://docs.google.com/forms/d/e/1FAIpQLSfWk3duTlnzRv4rLYa46fBrTNpJquiDsgoa2O8VMp_xGaWnMg/viewform  
URL:https://aktiefslip.nl/event/esg-symposium/
END:VEVENT
BEGIN:VEVENT
DTSTART;TZID=Europe/Helsinki:20220502T090000
DTEND;TZID=Europe/Helsinki:20220502T190000
DTSTAMP:20260420T030411
CREATED:20220426T113205Z
LAST-MODIFIED:20220426T113213Z
UID:4849-1651482000-1651518000@aktiefslip.nl
SUMMARY:Study Room (Day 2)
DESCRIPTION:Are you having a hard time focusing at home? Can’t find a study spot in Forum? We’ve got you covered! Come to Aktief Slip’s study room on Friday 29th and Monday 2nd to prepare for your exams and enjoy some snacks!
URL:https://aktiefslip.nl/event/study-room-day-2/
END:VEVENT
BEGIN:VEVENT
DTSTART;TZID=Europe/Helsinki:20220429T090000
DTEND;TZID=Europe/Helsinki:20220429T190000
DTSTAMP:20260420T030411
CREATED:20220426T112745Z
LAST-MODIFIED:20220426T112752Z
UID:4845-1651222800-1651258800@aktiefslip.nl
SUMMARY:Study Room (Day 1)
DESCRIPTION:Are you having a hard time focusing at home? Can’t find a study spot in Forum? We’ve got you covered! Come to Aktief Slip’s study room on Friday 29th and Monday 2nd to prepare for your exams and enjoy some snacks!
URL:https://aktiefslip.nl/event/study-room-day-1/
END:VEVENT
BEGIN:VEVENT
DTSTART;TZID=Europe/Helsinki:20220429T080000
DTEND;TZID=Europe/Helsinki:20220430T170000
DTSTAMP:20260420T030411
CREATED:20211209T162135Z
LAST-MODIFIED:20220421T121049Z
UID:2190-1651219200-1651338000@aktiefslip.nl
SUMMARY:Batavierenrace [Batacie]
DESCRIPTION:time still subject to change
URL:https://aktiefslip.nl/event/batavierenrace-3/
END:VEVENT
BEGIN:VEVENT
DTSTART;TZID=Europe/Helsinki:20220426T083000
DTEND;TZID=Europe/Helsinki:20220426T170000
DTSTAMP:20260420T030411
CREATED:20211124T104935Z
LAST-MODIFIED:20220421T120954Z
UID:2133-1650961800-1650992400@aktiefslip.nl
SUMMARY:Efteling Trip [Akcie]
DESCRIPTION:On the 26th of April the AkCie is organising a trip to the Efteling🎢🎡\, the biggest amusement park in the Benelux🇧🇪🇳🇱🇱🇺!!! This park is filled with wonderful tales and rip-roaring rollercoasters and promises a day of fun. 🎠⛲️🏯🏰🐲🦄The rollercoaster loving Akcie
URL:https://aktiefslip.nl/event/efteling-trip/
END:VEVENT
BEGIN:VEVENT
DTSTART;TZID=Europe/Helsinki:20220421T190000
DTEND;TZID=Europe/Helsinki:20220421T213000
DTSTAMP:20260420T030411
CREATED:20220407T140033Z
LAST-MODIFIED:20220414T134115Z
UID:4347-1650567600-1650576600@aktiefslip.nl
SUMMARY:Career Event BES\, MES\, MCL\, MUE [Program Team]
DESCRIPTION:Open to All Students! \n\n\n\nThe program team would like to invite all BES\, MES\, MCL\, and MUE students for a career event. Talk to alumni & get some drinks afterwards. \n\n\n\nLocation: Forum C0221 + C0222 \n\n\n\nNo sign up required \n\n\n\nFill in your questions in advance here: https://forms.office.com/r/7bnUM1beiV
URL:https://aktiefslip.nl/event/career-event-bes-mes-mcl-mue-program-team/
END:VEVENT
BEGIN:VEVENT
DTSTART;TZID=UTC:20220420T212000
DTEND;TZID=UTC:20220420T230000
DTSTAMP:20260420T030411
CREATED:20220309T124340Z
LAST-MODIFIED:20220403T112856Z
UID:3557-1650489600-1650495600@aktiefslip.nl
SUMMARY:Cinema Night by Akcie
DESCRIPTION:@Heerenstraat Theater \n\n\n\nCosts: €2\,50 \n\n\n\nExcited about the upcoming Fantastic Beasts movie? 🕷️🦄🐲 So are we! 🧙🏽‍♂️🧙🏻‍♀️  You can know sign up to join our event at the cinema 📽️🍿\, to together watch the 3rd part of the series: “The Secrets of Dumbledore”!  \n\n\n\nGrab your tickets soon\, for a cinema evening for just 2eu50!
URL:https://aktiefslip.nl/event/3557/
END:VEVENT
BEGIN:VEVENT
DTSTART;TZID=UTC:20220420T190000
DTEND;TZID=UTC:20220420T200000
DTSTAMP:20260420T030411
CREATED:20220306T135907Z
LAST-MODIFIED:20220412T094601Z
UID:3498-1650481200-1650484800@aktiefslip.nl
SUMMARY:Dutch Speaking Circle
DESCRIPTION:Have you been taking social dutch 1\, 2? Maybe even 3? But are you still uncomfortable speaking with dutchies? Then join us at The Spot (ground floor or Orion) and practice your dutch with other beginners! Join the group chat for more up-to-date information.https://chat.whatsapp.com/B6nPuGmqb26FyeEEBCmigm
URL:https://aktiefslip.nl/event/dutch-speaking-circle-8/
CATEGORIES:Dutch Speaking Circle
END:VEVENT
BEGIN:VEVENT
DTSTART;TZID=UTC:20220419T190000
DTEND;TZID=UTC:20220419T220000
DTSTAMP:20260420T030411
CREATED:20220224T165159Z
LAST-MODIFIED:20220403T123428Z
UID:3200-1650394800-1650405600@aktiefslip.nl
SUMMARY:Excursion to trampoline park in Veendedaal [by Sportcie]
DESCRIPTION:Dear aktief slippers\,Have you always wanted to show your coolest flips and tricks on the trampoline to your fellow students? Or do you just wanna have a great time with them? Come join the sportcie on April 19th when we go to trampoline park the Maxx in Veenendaal! We will depart from Forum at 19:00 and jumping will be from 20:00-21:00. Costs will be 3 euro’s. Hope to see you there😉
URL:https://aktiefslip.nl/event/excursion-to-trampoline-park-in-veendedaal-by-sportcie/
END:VEVENT
BEGIN:VEVENT
DTSTART;TZID=Europe/Helsinki:20220413T220000
DTEND;TZID=Europe/Helsinki:20220414T030000
DTSTAMP:20260420T030411
CREATED:20220311T094808Z
LAST-MODIFIED:20220412T094949Z
UID:3593-1649887200-1649905200@aktiefslip.nl
SUMMARY:Board Change Party
DESCRIPTION:💃Time to party🕺 \n\n\n\n13th of April\, 22:00-03:00 at de Bunker (Dijkgraaf 6) \n\n\n\nTheme: 80s party \n\n\n\nCosts: free entry + first 50 liters of beer free for Aktief Slip members🍻On the 13th of April\, there will be an 80s party with the genre’s anthems🎉 to celebrate the new board of Aktief Slip. Come in your awesome 80s blouses👚\, tracksuits\, or surprise everyone with an original outfit🦺.Hope to see you there!!
URL:https://aktiefslip.nl/event/board-change-party-3/
CATEGORIES:Party
END:VEVENT
BEGIN:VEVENT
DTSTART;TZID=UTC:20220413T190000
DTEND;TZID=UTC:20220413T200000
DTSTAMP:20260420T030411
CREATED:20220306T135805Z
LAST-MODIFIED:20220306T135811Z
UID:3496-1649876400-1649880000@aktiefslip.nl
SUMMARY:Dutch Speaking Circle
DESCRIPTION:Have you been taking social dutch 1\, 2? Maybe even 3? But are you still uncomfortable speaking with dutchies? Then join us at The Spot (ground floor or Orion) and practice your dutch with other beginners! Join the group chat for more up-to-date information.https://chat.whatsapp.com/B6nPuGmqb26FyeEEBCmigm
URL:https://aktiefslip.nl/event/dutch-speaking-circle-7/
END:VEVENT
BEGIN:VEVENT
DTSTART;TZID=Europe/Helsinki:20220412T193000
DTEND;TZID=Europe/Helsinki:20220412T220000
DTSTAMP:20260420T030411
CREATED:20211214T152105Z
LAST-MODIFIED:20211214T152109Z
UID:2215-1649791800-1649800800@aktiefslip.nl
SUMMARY:GMM Aktief Slip
DESCRIPTION:Time still subject to change
URL:https://aktiefslip.nl/event/gmm-aktief-slip/
END:VEVENT
BEGIN:VEVENT
DTSTART;TZID=UTC:20220406T190000
DTEND;TZID=UTC:20220406T200000
DTSTAMP:20260420T030411
CREATED:20220306T135315Z
LAST-MODIFIED:20220306T135322Z
UID:3494-1649271600-1649275200@aktiefslip.nl
SUMMARY:Dutch Speaking Circle
DESCRIPTION:Have you been taking social dutch 1\, 2? Maybe even 3? But are you still uncomfortable speaking with dutchies? Then join us at The Spot (ground floor or Orion) and practice your dutch with other beginners! Join the group chat for more up-to-date information.https://chat.whatsapp.com/B6nPuGmqb26FyeEEBCmigm
URL:https://aktiefslip.nl/event/dutch-speaking-circle-6/
END:VEVENT
BEGIN:VEVENT
DTSTART;TZID=Europe/Helsinki:20220406T163000
DTEND;TZID=Europe/Helsinki:20220406T180000
DTSTAMP:20260420T030411
CREATED:20220403T065517Z
LAST-MODIFIED:20220405T121816Z
UID:4288-1649262600-1649268000@aktiefslip.nl
SUMMARY:Free post-lecture Womibo [Passief Pils]
DESCRIPTION:Hey there slippers! Done with having lectures about microbiology or whatever course you’re following currently? Or just wanna have a nice after”borrel” post lustrum time? Come join us at the Passief Pils “Gratis” womibo! This post-lecture drink start at 16:30 in forum and it’s completely free (as long as there are enough drinks of course). Hope to see you there!
URL:https://aktiefslip.nl/event/free-post-lecture-womibo-passief-pils/
END:VEVENT
END:VCALENDAR