BEGIN:VCALENDAR
VERSION:2.0
PRODID:-//aktiefslip.nl - ECPv6.15.10//NONSGML v1.0//EN
CALSCALE:GREGORIAN
METHOD:PUBLISH
X-ORIGINAL-URL:https://aktiefslip.nl
X-WR-CALDESC:Events for aktiefslip.nl
REFRESH-INTERVAL;VALUE=DURATION:PT1H
X-Robots-Tag:noindex
X-PUBLISHED-TTL:PT1H
BEGIN:VTIMEZONE
TZID:Europe/Amsterdam
BEGIN:DAYLIGHT
TZOFFSETFROM:+0100
TZOFFSETTO:+0200
TZNAME:CEST
DTSTART:20250330T010000
END:DAYLIGHT
BEGIN:STANDARD
TZOFFSETFROM:+0200
TZOFFSETTO:+0100
TZNAME:CET
DTSTART:20251026T010000
END:STANDARD
BEGIN:DAYLIGHT
TZOFFSETFROM:+0100
TZOFFSETTO:+0200
TZNAME:CEST
DTSTART:20260329T010000
END:DAYLIGHT
BEGIN:STANDARD
TZOFFSETFROM:+0200
TZOFFSETTO:+0100
TZNAME:CET
DTSTART:20261025T010000
END:STANDARD
BEGIN:DAYLIGHT
TZOFFSETFROM:+0100
TZOFFSETTO:+0200
TZNAME:CEST
DTSTART:20270328T010000
END:DAYLIGHT
BEGIN:STANDARD
TZOFFSETFROM:+0200
TZOFFSETTO:+0100
TZNAME:CET
DTSTART:20271031T010000
END:STANDARD
END:VTIMEZONE
BEGIN:VEVENT
DTSTART;TZID=Europe/Amsterdam:20260417T200000
DTEND;TZID=Europe/Amsterdam:20260417T200000
DTSTAMP:20260420T145824
CREATED:20260416T111951Z
LAST-MODIFIED:20260416T111954Z
UID:27659-1776456000-1776456000@aktiefslip.nl
SUMMARY:Gala Ticket Sale Opening 17/04 20.00
DESCRIPTION:TICKET SALE FRIDAY AT 20:00!!! \n\n\n\nWhen: 12th of MayTime: 20:30Where: International Club Association \n\n\n\nThe gala committees of Aktief Slip and Nitocra cordially invite all members to a witchy masquerade ball on the 12th of May. Put on your best outfit\, mask and maybe a flying broom to come join us for a lovely night of music\, drinks and Spanish tapas.Limited tickets are available until the 4th so reserve your spot now!https://aktiefslip.nl/events/ \n\n\n\nLove Aktief Slip and Nitocra
URL:https://aktiefslip.nl/event/gala-ticket-sale-opening-17-04-20-00/
ATTACH;FMTTYPE=image/png:https://aktiefslip.nl/wp-content/uploads/2026/04/pic-for-galacie-1.png
END:VEVENT
END:VCALENDAR