BEGIN:VCALENDAR
VERSION:2.0
PRODID:-//aktiefslip.nl - ECPv6.15.10//NONSGML v1.0//EN
CALSCALE:GREGORIAN
METHOD:PUBLISH
X-WR-CALNAME:aktiefslip.nl
X-ORIGINAL-URL:https://aktiefslip.nl
X-WR-CALDESC:Events for aktiefslip.nl
REFRESH-INTERVAL;VALUE=DURATION:PT1H
X-Robots-Tag:noindex
X-PUBLISHED-TTL:PT1H
BEGIN:VTIMEZONE
TZID:Europe/Amsterdam
BEGIN:DAYLIGHT
TZOFFSETFROM:+0100
TZOFFSETTO:+0200
TZNAME:CEST
DTSTART:20250330T010000
END:DAYLIGHT
BEGIN:STANDARD
TZOFFSETFROM:+0200
TZOFFSETTO:+0100
TZNAME:CET
DTSTART:20251026T010000
END:STANDARD
BEGIN:DAYLIGHT
TZOFFSETFROM:+0100
TZOFFSETTO:+0200
TZNAME:CEST
DTSTART:20260329T010000
END:DAYLIGHT
BEGIN:STANDARD
TZOFFSETFROM:+0200
TZOFFSETTO:+0100
TZNAME:CET
DTSTART:20261025T010000
END:STANDARD
BEGIN:DAYLIGHT
TZOFFSETFROM:+0100
TZOFFSETTO:+0200
TZNAME:CEST
DTSTART:20270328T010000
END:DAYLIGHT
BEGIN:STANDARD
TZOFFSETFROM:+0200
TZOFFSETTO:+0100
TZNAME:CET
DTSTART:20271031T010000
END:STANDARD
END:VTIMEZONE
BEGIN:VEVENT
DTSTART;TZID=Europe/Amsterdam:20260407T110000
DTEND;TZID=Europe/Amsterdam:20260407T233000
DTSTAMP:20260420T015246
CREATED:20260302T154706Z
LAST-MODIFIED:20260406T111656Z
UID:27432-1775559600-1775604600@aktiefslip.nl
SUMMARY:Board Change Party
DESCRIPTION:Hey Aktief Slippers! \n\n\n\nAre you ready for the cheeeziesttt 🧀🧀🧀cobo ever? Well\, make sure to get your rattiest 🐀🐁\, squeakiest 🐭\, cheesiest outfits and come to the bunker at 23:00 and show off how ratty you truly are! Make sure to come and support the new board of Aktief Slip! \n\n\n\nKind Regards\,The 118th and 119th Board of Aktief Slip
URL:https://aktiefslip.nl/event/board-change-party-6/
ATTACH;FMTTYPE=image/png:https://aktiefslip.nl/wp-content/uploads/2026/03/Screenshot-2026-03-24-at-1.24.35-PM_Hafsah-Ali.png
END:VEVENT
BEGIN:VEVENT
DTSTART;TZID=Europe/Amsterdam:20260407T190000
DTEND;TZID=Europe/Amsterdam:20260407T223000
DTSTAMP:20260420T015246
CREATED:20260302T154628Z
LAST-MODIFIED:20260406T111957Z
UID:27430-1775588400-1775601000@aktiefslip.nl
SUMMARY:General Members Meeting [Board]
DESCRIPTION:Aktief Slip General Members MeetingWhen: 7th of April Where: Forum B0435 Time: 19:00-22:30 \n\n\n\nHey\, Aktief Slippers! It’s time to come together for the General Members’ Meeting on the 7th of April. This is your chance to: – Vote on new board members – Vote on committees \n\n\n\nYour input is valuable for the survival of this association and we’d love to see as many of you there as possible! Mark your calendars and be part of the discussion. \n\n\n\nSee you there!LoveBoard 118
URL:https://aktiefslip.nl/event/general-members-meeting-board-2/
ATTACH;FMTTYPE=image/png:https://aktiefslip.nl/wp-content/uploads/2026/03/Screenshot-2026-03-24-at-1.20.24-PM_Hafsah-Ali.png
END:VEVENT
END:VCALENDAR