BEGIN:VCALENDAR
VERSION:2.0
PRODID:-//aktiefslip.nl - ECPv6.15.10//NONSGML v1.0//EN
CALSCALE:GREGORIAN
METHOD:PUBLISH
X-ORIGINAL-URL:https://aktiefslip.nl
X-WR-CALDESC:Events for aktiefslip.nl
REFRESH-INTERVAL;VALUE=DURATION:PT1H
X-Robots-Tag:noindex
X-PUBLISHED-TTL:PT1H
BEGIN:VTIMEZONE
TZID:Europe/Amsterdam
BEGIN:DAYLIGHT
TZOFFSETFROM:+0100
TZOFFSETTO:+0200
TZNAME:CEST
DTSTART:20250330T010000
END:DAYLIGHT
BEGIN:STANDARD
TZOFFSETFROM:+0200
TZOFFSETTO:+0100
TZNAME:CET
DTSTART:20251026T010000
END:STANDARD
BEGIN:DAYLIGHT
TZOFFSETFROM:+0100
TZOFFSETTO:+0200
TZNAME:CEST
DTSTART:20260329T010000
END:DAYLIGHT
BEGIN:STANDARD
TZOFFSETFROM:+0200
TZOFFSETTO:+0100
TZNAME:CET
DTSTART:20261025T010000
END:STANDARD
BEGIN:DAYLIGHT
TZOFFSETFROM:+0100
TZOFFSETTO:+0200
TZNAME:CEST
DTSTART:20270328T010000
END:DAYLIGHT
BEGIN:STANDARD
TZOFFSETFROM:+0200
TZOFFSETTO:+0100
TZNAME:CET
DTSTART:20271031T010000
END:STANDARD
END:VTIMEZONE
BEGIN:VEVENT
DTSTART;TZID=Europe/Amsterdam:20260324T200000
DTEND;TZID=Europe/Amsterdam:20260324T223000
DTSTAMP:20260419T151049
CREATED:20260312T170946Z
LAST-MODIFIED:20260323T132446Z
UID:27458-1774382400-1774391400@aktiefslip.nl
SUMMARY:Beer Cantus [Akcie]
DESCRIPTION:Date: march 24th\, 2026Time: 20:00Location: KSV Fransiscus\, Stadsbrink 373 \n\n\n\nWhat’s up slippers👋\,Do you remember 2016\, back when life was simple and you were happy😔? Do you want to go back to that simple and happy time?Then come join us in our beer cantus\, in collaboration with Nicolas Appert and Di-Et-Tri! The theme is ‘2026 is the new 2016’\, and we want to travel back to the time of Justin Bieber and Shawn Mendes🎶.If you want to sing your heart out🎤\, drink a shit-ton of beer🍺 and feel good again😁\, we invite you to join us on the 24th of March at KSV\, for a night of fun😜!See you there!
URL:https://aktiefslip.nl/event/beer-cantus-akcie/
ATTACH;FMTTYPE=image/png:https://aktiefslip.nl/wp-content/uploads/2026/03/Beer-Cantus-poster_Raphaelle-Vroemen.png
END:VEVENT
END:VCALENDAR