BEGIN:VCALENDAR
VERSION:2.0
PRODID:-//aktiefslip.nl - ECPv6.15.10//NONSGML v1.0//EN
CALSCALE:GREGORIAN
METHOD:PUBLISH
X-ORIGINAL-URL:https://aktiefslip.nl
X-WR-CALDESC:Events for aktiefslip.nl
REFRESH-INTERVAL;VALUE=DURATION:PT1H
X-Robots-Tag:noindex
X-PUBLISHED-TTL:PT1H
BEGIN:VTIMEZONE
TZID:Europe/Amsterdam
BEGIN:DAYLIGHT
TZOFFSETFROM:+0100
TZOFFSETTO:+0200
TZNAME:CEST
DTSTART:20250330T010000
END:DAYLIGHT
BEGIN:STANDARD
TZOFFSETFROM:+0200
TZOFFSETTO:+0100
TZNAME:CET
DTSTART:20251026T010000
END:STANDARD
BEGIN:DAYLIGHT
TZOFFSETFROM:+0100
TZOFFSETTO:+0200
TZNAME:CEST
DTSTART:20260329T010000
END:DAYLIGHT
BEGIN:STANDARD
TZOFFSETFROM:+0200
TZOFFSETTO:+0100
TZNAME:CET
DTSTART:20261025T010000
END:STANDARD
BEGIN:DAYLIGHT
TZOFFSETFROM:+0100
TZOFFSETTO:+0200
TZNAME:CEST
DTSTART:20270328T010000
END:DAYLIGHT
BEGIN:STANDARD
TZOFFSETFROM:+0200
TZOFFSETTO:+0100
TZNAME:CET
DTSTART:20271031T010000
END:STANDARD
END:VTIMEZONE
BEGIN:VEVENT
DTSTART;TZID=Europe/Amsterdam:20260323T190000
DTEND;TZID=Europe/Amsterdam:20260323T213000
DTSTAMP:20260419T151049
CREATED:20260318T112246Z
LAST-MODIFIED:20260318T112251Z
UID:27496-1774292400-1774301400@aktiefslip.nl
SUMMARY:Movie Night [Educacie]
DESCRIPTION:Hey smarties! \n\n\n\nIn the glimmer of recent International Woman’s Day ✨ Educatie invites you for a La Source des femmes film screening 📽️ It’s a great opportunity to relax with friends and enjoy free snacks with a good conversation about an intriguing way to protest used by the women. \n\n\n\nCome and wind down with us on Wednesday 11th of March from 19:00-21.30pm at Forum.
URL:https://aktiefslip.nl/event/movie-night-educacie/
ATTACH;FMTTYPE=image/png:https://aktiefslip.nl/wp-content/uploads/2026/03/La-Source-des-Femmes-4-tbd_Hannah-Boer-de.png
END:VEVENT
END:VCALENDAR