BEGIN:VCALENDAR
VERSION:2.0
PRODID:-//aktiefslip.nl - ECPv6.15.10//NONSGML v1.0//EN
CALSCALE:GREGORIAN
METHOD:PUBLISH
X-WR-CALNAME:aktiefslip.nl
X-ORIGINAL-URL:https://aktiefslip.nl
X-WR-CALDESC:Events for aktiefslip.nl
REFRESH-INTERVAL;VALUE=DURATION:PT1H
X-Robots-Tag:noindex
X-PUBLISHED-TTL:PT1H
BEGIN:VTIMEZONE
TZID:Europe/Amsterdam
BEGIN:DAYLIGHT
TZOFFSETFROM:+0100
TZOFFSETTO:+0200
TZNAME:CEST
DTSTART:20250330T010000
END:DAYLIGHT
BEGIN:STANDARD
TZOFFSETFROM:+0200
TZOFFSETTO:+0100
TZNAME:CET
DTSTART:20251026T010000
END:STANDARD
BEGIN:DAYLIGHT
TZOFFSETFROM:+0100
TZOFFSETTO:+0200
TZNAME:CEST
DTSTART:20260329T010000
END:DAYLIGHT
BEGIN:STANDARD
TZOFFSETFROM:+0200
TZOFFSETTO:+0100
TZNAME:CET
DTSTART:20261025T010000
END:STANDARD
BEGIN:DAYLIGHT
TZOFFSETFROM:+0100
TZOFFSETTO:+0200
TZNAME:CEST
DTSTART:20270328T010000
END:DAYLIGHT
BEGIN:STANDARD
TZOFFSETFROM:+0200
TZOFFSETTO:+0100
TZNAME:CET
DTSTART:20271031T010000
END:STANDARD
END:VTIMEZONE
BEGIN:VEVENT
DTSTART;TZID=Europe/Amsterdam:20260216T080000
DTEND;TZID=Europe/Amsterdam:20260220T170000
DTSTAMP:20260420T110129
CREATED:20260116T133029Z
LAST-MODIFIED:20260125T211019Z
UID:27234-1771228800-1771606800@aktiefslip.nl
SUMMARY:Environmental Week
DESCRIPTION:👋🦌🩴❗ \n\n\n\nIt is that time of the year again! Very soon\, we will be celebrating the birthday of our beloved association with our annual Environmental Week 🎉🎂.This year\, the theme of the week will be …🥁🥁🥁 “Life of a Barbie Girl\,” where we will put a special focus on the plastic life cycle. In the coming week\, we will be revealing the events awaiting you every single day of that iconic week. Our committee members are putting their hearts and souls into creating a panoply of activities for you — from informational to silly\, but always a blast!Join us\, fellow environmental scientists\, between 16th to 20th of February to learn\, educate\, and enjoy. \n\n\n\nWith love\, the CXVIII board of Aktief Slip <3
URL:https://aktiefslip.nl/event/environmental-week-4/
ATTACH;FMTTYPE=image/jpeg:https://aktiefslip.nl/wp-content/uploads/2026/01/WhatsApp-Image-2026-01-25-at-17.09.29.jpeg
END:VEVENT
BEGIN:VEVENT
DTSTART;TZID=Europe/Amsterdam:20260216T130000
DTEND;TZID=Europe/Amsterdam:20260216T140000
DTSTAMP:20260420T110129
CREATED:20260202T231840Z
LAST-MODIFIED:20260209T120524Z
UID:27266-1771246800-1771250400@aktiefslip.nl
SUMMARY:Lunch Lecture [Educacie]
DESCRIPTION:Its finally time🎉🎉!!! \n\n\n\nOn the 16th of February we willl celebrate the start of the environmental week\, with a lunch lecture along side our special guest Gert Jan van Dommelen\, the cochair of EndPlasticSoup the global Rotary ESRAG task force to end plastic pollution. During the educative presentation you will get to learn about the adverse effects of plastics on human health and earth systems. We will dive deep into why we know so little about it and the many different research currently being conducted in the matter. Finally the presentation will take a look at what we as environmental scientists have already achieved. The lecture will be held during lunch time on a location not yet known. \n\n\n\nSo why dont you join us in this unique deep dive into the world of plastic pollution. \n\n\n\nWith kind regards\,Educacie
URL:https://aktiefslip.nl/event/lunch-lecture-educacie-3/
ATTACH;FMTTYPE=image/png:https://aktiefslip.nl/wp-content/uploads/2026/02/Presented-by-Akcie-1.png
END:VEVENT
BEGIN:VEVENT
DTSTART;TZID=Europe/Amsterdam:20260216T190000
DTEND;TZID=Europe/Amsterdam:20260216T210000
DTSTAMP:20260420T110129
CREATED:20260209T121419Z
LAST-MODIFIED:20260215T191129Z
UID:27296-1771268400-1771275600@aktiefslip.nl
SUMMARY:Murder Mystery [Akcie]
DESCRIPTION:Dear Investigators\, \n\n\n\nThe emperors pet turtle has been found dead. He was brutally murdered\, and we need YOU to help us solve the case. On February 16th\, at 19:00\, the suspects will be interviewed. Be there\, and help us solve this murder. \n\n\n\nWe are counting on you \n\n\n\n– Akcie
URL:https://aktiefslip.nl/event/murder-mystery-akcie/
ATTACH;FMTTYPE=image/png:https://aktiefslip.nl/wp-content/uploads/2026/02/Presented-by-Akcie-2.png
END:VEVENT
END:VCALENDAR