BEGIN:VCALENDAR
VERSION:2.0
PRODID:-//aktiefslip.nl - ECPv6.15.10//NONSGML v1.0//EN
CALSCALE:GREGORIAN
METHOD:PUBLISH
X-WR-CALNAME:aktiefslip.nl
X-ORIGINAL-URL:https://aktiefslip.nl
X-WR-CALDESC:Events for aktiefslip.nl
REFRESH-INTERVAL;VALUE=DURATION:PT1H
X-Robots-Tag:noindex
X-PUBLISHED-TTL:PT1H
BEGIN:VTIMEZONE
TZID:Europe/Amsterdam
BEGIN:DAYLIGHT
TZOFFSETFROM:+0100
TZOFFSETTO:+0200
TZNAME:CEST
DTSTART:20250330T010000
END:DAYLIGHT
BEGIN:STANDARD
TZOFFSETFROM:+0200
TZOFFSETTO:+0100
TZNAME:CET
DTSTART:20251026T010000
END:STANDARD
BEGIN:DAYLIGHT
TZOFFSETFROM:+0100
TZOFFSETTO:+0200
TZNAME:CEST
DTSTART:20260329T010000
END:DAYLIGHT
BEGIN:STANDARD
TZOFFSETFROM:+0200
TZOFFSETTO:+0100
TZNAME:CET
DTSTART:20261025T010000
END:STANDARD
BEGIN:DAYLIGHT
TZOFFSETFROM:+0100
TZOFFSETTO:+0200
TZNAME:CEST
DTSTART:20270328T010000
END:DAYLIGHT
BEGIN:STANDARD
TZOFFSETFROM:+0200
TZOFFSETTO:+0100
TZNAME:CET
DTSTART:20271031T010000
END:STANDARD
END:VTIMEZONE
BEGIN:VEVENT
DTSTART;TZID=Europe/Amsterdam:20260209T130000
DTEND;TZID=Europe/Amsterdam:20260213T140000
DTSTAMP:20260420T054747
CREATED:20260202T230752Z
LAST-MODIFIED:20260202T230756Z
UID:27258-1770642000-1770991200@aktiefslip.nl
SUMMARY:Hok Open Days for Master Students [Board]
DESCRIPTION:Hello New Masters! \n\n\n\nLooking for a comfy place to chill during lunch time? We got you covered. Aktief Slip’s very own HOK\, located in Forum\, first floor\, has everything you need! It’s open to members and always accessible during lunchtime 🕛 \n\n\n\nThe HOK is the perfect place to relax between classes\, meet fellow students\, or just take a breather. Expect comfy couches\, a workspace\, and even a Wii 🎮 for some well-deserved fun. \n\n\n\nCurious to see it for yourself? Master’s students are warmly invited to drop by and check it out—we might even have some free snacks 🍪🥤 waiting for you 😉
URL:https://aktiefslip.nl/event/hok-open-days-for-master-students-board/
ATTACH;FMTTYPE=image/png:https://aktiefslip.nl/wp-content/uploads/2026/02/Screenshot-2026-02-01-at-9.09.02-AM_Hafsah-Ali.png
END:VEVENT
END:VCALENDAR