BEGIN:VCALENDAR
VERSION:2.0
PRODID:-//aktiefslip.nl - ECPv6.15.10//NONSGML v1.0//EN
CALSCALE:GREGORIAN
METHOD:PUBLISH
X-ORIGINAL-URL:https://aktiefslip.nl
X-WR-CALDESC:Events for aktiefslip.nl
REFRESH-INTERVAL;VALUE=DURATION:PT1H
X-Robots-Tag:noindex
X-PUBLISHED-TTL:PT1H
BEGIN:VTIMEZONE
TZID:Europe/Amsterdam
BEGIN:DAYLIGHT
TZOFFSETFROM:+0100
TZOFFSETTO:+0200
TZNAME:CEST
DTSTART:20250330T010000
END:DAYLIGHT
BEGIN:STANDARD
TZOFFSETFROM:+0200
TZOFFSETTO:+0100
TZNAME:CET
DTSTART:20251026T010000
END:STANDARD
BEGIN:DAYLIGHT
TZOFFSETFROM:+0100
TZOFFSETTO:+0200
TZNAME:CEST
DTSTART:20260329T010000
END:DAYLIGHT
BEGIN:STANDARD
TZOFFSETFROM:+0200
TZOFFSETTO:+0100
TZNAME:CET
DTSTART:20261025T010000
END:STANDARD
BEGIN:DAYLIGHT
TZOFFSETFROM:+0100
TZOFFSETTO:+0200
TZNAME:CEST
DTSTART:20270328T010000
END:DAYLIGHT
BEGIN:STANDARD
TZOFFSETFROM:+0200
TZOFFSETTO:+0100
TZNAME:CET
DTSTART:20271031T010000
END:STANDARD
END:VTIMEZONE
BEGIN:VEVENT
DTSTART;TZID=Europe/Amsterdam:20260122T200000
DTEND;TZID=Europe/Amsterdam:20260122T230000
DTSTAMP:20260419T224705
CREATED:20260105T060954Z
LAST-MODIFIED:20260116T131531Z
UID:27129-1769112000-1769122800@aktiefslip.nl
SUMMARY:Movie Night [PaPi]
DESCRIPTION:Do you want to take a break from this high pace period📚?Then join us on the 22nd of January for a chill movie night that is entirely FREE!🎥 The movie will start at 8 o’clock and there will be free food and drinks😋 and for those up for it there will be an option for a small drinking game based on the movie🍻 so bring a blanket and come cozy up🤗 \n\n\n\nPlease join the group chat to RSVP\, the movie and location will also be announced in there! \n\n\n\nhttps://chat.whatsapp.com/Djt7iMQnDnGHymOz9fcOE7
URL:https://aktiefslip.nl/event/twilight-night-papi/
ATTACH;FMTTYPE=image/png:https://aktiefslip.nl/wp-content/uploads/2026/01/movie-night_Feline-Boer-de.png
END:VEVENT
END:VCALENDAR