BEGIN:VCALENDAR
VERSION:2.0
PRODID:-//aktiefslip.nl - ECPv6.15.10//NONSGML v1.0//EN
CALSCALE:GREGORIAN
METHOD:PUBLISH
X-WR-CALNAME:aktiefslip.nl
X-ORIGINAL-URL:https://aktiefslip.nl
X-WR-CALDESC:Events for aktiefslip.nl
REFRESH-INTERVAL;VALUE=DURATION:PT1H
X-Robots-Tag:noindex
X-PUBLISHED-TTL:PT1H
BEGIN:VTIMEZONE
TZID:Europe/Amsterdam
BEGIN:DAYLIGHT
TZOFFSETFROM:+0100
TZOFFSETTO:+0200
TZNAME:CEST
DTSTART:20250330T010000
END:DAYLIGHT
BEGIN:STANDARD
TZOFFSETFROM:+0200
TZOFFSETTO:+0100
TZNAME:CET
DTSTART:20251026T010000
END:STANDARD
BEGIN:DAYLIGHT
TZOFFSETFROM:+0100
TZOFFSETTO:+0200
TZNAME:CEST
DTSTART:20260329T010000
END:DAYLIGHT
BEGIN:STANDARD
TZOFFSETFROM:+0200
TZOFFSETTO:+0100
TZNAME:CET
DTSTART:20261025T010000
END:STANDARD
BEGIN:DAYLIGHT
TZOFFSETFROM:+0100
TZOFFSETTO:+0200
TZNAME:CEST
DTSTART:20270328T010000
END:DAYLIGHT
BEGIN:STANDARD
TZOFFSETFROM:+0200
TZOFFSETTO:+0100
TZNAME:CET
DTSTART:20271031T010000
END:STANDARD
END:VTIMEZONE
BEGIN:VEVENT
DTSTART;TZID=Europe/Amsterdam:20260119T080000
DTEND;TZID=Europe/Amsterdam:20260119T170000
DTSTAMP:20260419T212027
CREATED:20260116T133353Z
LAST-MODIFIED:20260116T133435Z
UID:27236-1768809600-1768842000@aktiefslip.nl
SUMMARY:Join Hitchhikecie by Akcie
DESCRIPTION:Join Hitchhikecie! \n\n\n\nEvery year Aktief Slip plans out a hitchhiking event in P5 – going to a mysterious place as fast as you can! If you wanna help plan out this amazing event email hafsah.ali@wur.nl for more info!
URL:https://aktiefslip.nl/event/join-hitchhikecie-by-akcie/
ATTACH;FMTTYPE=image/png:https://aktiefslip.nl/wp-content/uploads/2026/01/Copy-of-Pancakes-at-the-Rhine_Hafsah-Ali.png
END:VEVENT
END:VCALENDAR