BEGIN:VCALENDAR
VERSION:2.0
PRODID:-//aktiefslip.nl - ECPv6.15.10//NONSGML v1.0//EN
CALSCALE:GREGORIAN
METHOD:PUBLISH
X-ORIGINAL-URL:https://aktiefslip.nl
X-WR-CALDESC:Events for aktiefslip.nl
REFRESH-INTERVAL;VALUE=DURATION:PT1H
X-Robots-Tag:noindex
X-PUBLISHED-TTL:PT1H
BEGIN:VTIMEZONE
TZID:Europe/Amsterdam
BEGIN:DAYLIGHT
TZOFFSETFROM:+0100
TZOFFSETTO:+0200
TZNAME:CEST
DTSTART:20250330T010000
END:DAYLIGHT
BEGIN:STANDARD
TZOFFSETFROM:+0200
TZOFFSETTO:+0100
TZNAME:CET
DTSTART:20251026T010000
END:STANDARD
BEGIN:DAYLIGHT
TZOFFSETFROM:+0100
TZOFFSETTO:+0200
TZNAME:CEST
DTSTART:20260329T010000
END:DAYLIGHT
BEGIN:STANDARD
TZOFFSETFROM:+0200
TZOFFSETTO:+0100
TZNAME:CET
DTSTART:20261025T010000
END:STANDARD
BEGIN:DAYLIGHT
TZOFFSETFROM:+0100
TZOFFSETTO:+0200
TZNAME:CEST
DTSTART:20270328T010000
END:DAYLIGHT
BEGIN:STANDARD
TZOFFSETFROM:+0200
TZOFFSETTO:+0100
TZNAME:CET
DTSTART:20271031T010000
END:STANDARD
END:VTIMEZONE
BEGIN:VEVENT
DTSTART;TZID=Europe/Amsterdam:20260114T190000
DTEND;TZID=Europe/Amsterdam:20260114T210000
DTSTAMP:20260419T224707
CREATED:20260105T060259Z
LAST-MODIFIED:20260105T060309Z
UID:27125-1768417200-1768424400@aktiefslip.nl
SUMMARY:Book Club [Educacie]
DESCRIPTION:Dear slipjes\, \n\n\n\n \n\n\n\nLater this month in our third period we will be discussing the first book of this year which is A winter in Mallorca. \n\n\n\nIn the winter of 1838 the world famous feminist writer George Sands was caught in an affair and fled with her boyfriend Chopin to Mallorca to enjoy nature there. When on the island she wrote a winter on Mallorca. This book is an autobiographical travelogue and revenge piece about Mallorca. And dives into its nature\, architecture and mainly the culture. If this sounds interesting to you which it should please message me and I will assign a chapter to you and give you a link to the book. During the book club we will all explain what happened in our assigned chapter and give our thoughts on it. \n\n\n\n \n\n\n\nSee you January the 14th at the Marijkeweg 20\, \n\n\n\n \n\n\n\nWith kind regards <3\, \n\n\n\n \n\n\n\neducacie
URL:https://aktiefslip.nl/event/book-club-educacie-12/
ATTACH;FMTTYPE=image/jpeg:https://aktiefslip.nl/wp-content/uploads/2026/01/WhatsApp-Image-2026-01-05-at-06.58.10.jpeg
END:VEVENT
END:VCALENDAR