BEGIN:VCALENDAR
VERSION:2.0
PRODID:-//aktiefslip.nl - ECPv6.15.10//NONSGML v1.0//EN
CALSCALE:GREGORIAN
METHOD:PUBLISH
X-ORIGINAL-URL:https://aktiefslip.nl
X-WR-CALDESC:Events for aktiefslip.nl
REFRESH-INTERVAL;VALUE=DURATION:PT1H
X-Robots-Tag:noindex
X-PUBLISHED-TTL:PT1H
BEGIN:VTIMEZONE
TZID:Europe/Amsterdam
BEGIN:DAYLIGHT
TZOFFSETFROM:+0100
TZOFFSETTO:+0200
TZNAME:CEST
DTSTART:20250330T010000
END:DAYLIGHT
BEGIN:STANDARD
TZOFFSETFROM:+0200
TZOFFSETTO:+0100
TZNAME:CET
DTSTART:20251026T010000
END:STANDARD
BEGIN:DAYLIGHT
TZOFFSETFROM:+0100
TZOFFSETTO:+0200
TZNAME:CEST
DTSTART:20260329T010000
END:DAYLIGHT
BEGIN:STANDARD
TZOFFSETFROM:+0200
TZOFFSETTO:+0100
TZNAME:CET
DTSTART:20261025T010000
END:STANDARD
BEGIN:DAYLIGHT
TZOFFSETFROM:+0100
TZOFFSETTO:+0200
TZNAME:CEST
DTSTART:20270328T010000
END:DAYLIGHT
BEGIN:STANDARD
TZOFFSETFROM:+0200
TZOFFSETTO:+0100
TZNAME:CET
DTSTART:20271031T010000
END:STANDARD
END:VTIMEZONE
BEGIN:VEVENT
DTSTART;TZID=Europe/Amsterdam:20260110T080000
DTEND;TZID=Europe/Amsterdam:20260110T170000
DTSTAMP:20260419T224709
CREATED:20260105T061159Z
LAST-MODIFIED:20260109T204305Z
UID:27131-1768032000-1768064400@aktiefslip.nl
SUMMARY:Dip in the Rhine [Akcie]
DESCRIPTION:🗓️: Sunday 11 January🕙: 10:30📍: Meet at busstation \n\n\n\nHello dear slippers\,Do you want to take full advantage of the cold winter months🌨️? Boy have we got the event for you:Join us for a mid-winter dip in the Rhine🥶! Push your boundaries and test your resolve 💪! We will meet up at the Wageningen beach\, at the concrete tower for a quick dip. The perfect opportunity to start your day\, while also gaining points for the battle of the committees💯! Be sure to wear lots of layers🧣 over a swimsuit\, and maybe even bring a blanket. Snacks and hot drinks provided☕! \n\n\n\nWe can’t wait to see you there 🧊!
URL:https://aktiefslip.nl/event/dip-in-the-rhine-akcie/
ATTACH;FMTTYPE=image/png:https://aktiefslip.nl/wp-content/uploads/2026/01/AkCie-presents-1_Raphaelle-Vroemen.png
END:VEVENT
END:VCALENDAR