BEGIN:VCALENDAR
VERSION:2.0
PRODID:-//aktiefslip.nl - ECPv6.15.10//NONSGML v1.0//EN
CALSCALE:GREGORIAN
METHOD:PUBLISH
X-ORIGINAL-URL:https://aktiefslip.nl
X-WR-CALDESC:Events for aktiefslip.nl
REFRESH-INTERVAL;VALUE=DURATION:PT1H
X-Robots-Tag:noindex
X-PUBLISHED-TTL:PT1H
BEGIN:VTIMEZONE
TZID:Europe/Amsterdam
BEGIN:DAYLIGHT
TZOFFSETFROM:+0100
TZOFFSETTO:+0200
TZNAME:CEST
DTSTART:20250330T010000
END:DAYLIGHT
BEGIN:STANDARD
TZOFFSETFROM:+0200
TZOFFSETTO:+0100
TZNAME:CET
DTSTART:20251026T010000
END:STANDARD
BEGIN:DAYLIGHT
TZOFFSETFROM:+0100
TZOFFSETTO:+0200
TZNAME:CEST
DTSTART:20260329T010000
END:DAYLIGHT
BEGIN:STANDARD
TZOFFSETFROM:+0200
TZOFFSETTO:+0100
TZNAME:CET
DTSTART:20261025T010000
END:STANDARD
BEGIN:DAYLIGHT
TZOFFSETFROM:+0100
TZOFFSETTO:+0200
TZNAME:CEST
DTSTART:20270328T010000
END:DAYLIGHT
BEGIN:STANDARD
TZOFFSETFROM:+0200
TZOFFSETTO:+0100
TZNAME:CET
DTSTART:20271031T010000
END:STANDARD
END:VTIMEZONE
BEGIN:VEVENT
DTSTART;TZID=Europe/Amsterdam:20260108T184500
DTEND;TZID=Europe/Amsterdam:20260108T200000
DTSTAMP:20260419T224710
CREATED:20251027T183816Z
LAST-MODIFIED:20260106T085720Z
UID:26846-1767897900-1767902400@aktiefslip.nl
SUMMARY:Ice Skating [SportCie]
DESCRIPTION:Dear aktief slipper\,Enjoying the cold days ❄️⛄️ or just trying to get readjusted after the break? We have the perfect activity for you: the 8th of January we are going ice skating! The price for this event is €5.5 and we have limited spots so go get your tickets on the website before they sell out! That day we will gather outside Forum at 18:45 and bike to the skating rink. We hope to see you there!
URL:https://aktiefslip.nl/event/ice-skating-sportcie-3/
ATTACH;FMTTYPE=image/png:https://aktiefslip.nl/wp-content/uploads/2025/10/Ice-Skate-promo_Tristan-Jong-de.png
END:VEVENT
END:VCALENDAR