BEGIN:VCALENDAR
VERSION:2.0
PRODID:-//aktiefslip.nl - ECPv6.15.10//NONSGML v1.0//EN
CALSCALE:GREGORIAN
METHOD:PUBLISH
X-ORIGINAL-URL:https://aktiefslip.nl
X-WR-CALDESC:Events for aktiefslip.nl
REFRESH-INTERVAL;VALUE=DURATION:PT1H
X-Robots-Tag:noindex
X-PUBLISHED-TTL:PT1H
BEGIN:VTIMEZONE
TZID:Europe/Amsterdam
BEGIN:DAYLIGHT
TZOFFSETFROM:+0100
TZOFFSETTO:+0200
TZNAME:CEST
DTSTART:20240331T010000
END:DAYLIGHT
BEGIN:STANDARD
TZOFFSETFROM:+0200
TZOFFSETTO:+0100
TZNAME:CET
DTSTART:20241027T010000
END:STANDARD
BEGIN:DAYLIGHT
TZOFFSETFROM:+0100
TZOFFSETTO:+0200
TZNAME:CEST
DTSTART:20250330T010000
END:DAYLIGHT
BEGIN:STANDARD
TZOFFSETFROM:+0200
TZOFFSETTO:+0100
TZNAME:CET
DTSTART:20251026T010000
END:STANDARD
BEGIN:DAYLIGHT
TZOFFSETFROM:+0100
TZOFFSETTO:+0200
TZNAME:CEST
DTSTART:20260329T010000
END:DAYLIGHT
BEGIN:STANDARD
TZOFFSETFROM:+0200
TZOFFSETTO:+0100
TZNAME:CET
DTSTART:20261025T010000
END:STANDARD
END:VTIMEZONE
BEGIN:VEVENT
DTSTART;TZID=Europe/Amsterdam:20251208T090000
DTEND;TZID=Europe/Amsterdam:20251212T180000
DTSTAMP:20260419T200528
CREATED:20251127T164251Z
LAST-MODIFIED:20251127T164335Z
UID:27031-1765184400-1765562400@aktiefslip.nl
SUMMARY:Study Room [Board]
DESCRIPTION:Hey cuties\, \n\n\n\nIs the library getting too crowded? Struggling to find the perfect spot to focus\, or simply want a quieter place to study with friends? We’ve got your back !!!! Study rooms are available for all BES\, MES\, MUE and MCL students. Come whenever you want from 9 to 6 on Monday\, Tuesday\, Wednesday\, Thursday and Friday. Whether you need a place to focus or take a break with friends\, you don’t have to worry anymore! We also have plenty of snacks\, coffee and tea to keep you energized. So\, relax and come study with us. \n\n\n\nWhen: December 8th to December 12thTime: 09:00 – 18:00Where: Forum B0313Free\, open event !!! \n\n\n\nWith loveAktief Slip board
URL:https://aktiefslip.nl/event/study-room-board/
ATTACH;FMTTYPE=image/png:https://aktiefslip.nl/wp-content/uploads/2025/11/study-room-pic_Lola-Patterson-Cass.png
END:VEVENT
BEGIN:VEVENT
DTSTART;TZID=Europe/Amsterdam:20251210T190000
DTEND;TZID=Europe/Amsterdam:20251210T200000
DTSTAMP:20260419T200528
CREATED:20251127T163206Z
LAST-MODIFIED:20251127T163217Z
UID:27021-1765393200-1765396800@aktiefslip.nl
SUMMARY:General Members Meeting [Board]
DESCRIPTION:It’s that time again! Join us for the Aktief Slip General Members Meeting (GMM) — an essential moment where we come together as a community to shape the future of our association.📅 Date: [December 10th 2025] 🕒 Time: [19:00-20:00] 📍 Location: [Forum B0103]This GMM will focus on two major topics: 📘 The Charter – Let’s walk through the core foundation of our association and ensure it truly reflects who we are today. ⚖️ Updated Regulations – We’ll present and discuss proposed updates to our rules and policies. Your feedback and vote are key to making sure the changes serve all members.Come and give your input on making our association!
URL:https://aktiefslip.nl/event/general-members-meeting-board/
ATTACH;FMTTYPE=image/png:https://aktiefslip.nl/wp-content/uploads/2025/11/GMM-December-10th-2025_Hafsah-Ali.png
END:VEVENT
END:VCALENDAR