BEGIN:VCALENDAR
VERSION:2.0
PRODID:-//aktiefslip.nl - ECPv6.15.10//NONSGML v1.0//EN
CALSCALE:GREGORIAN
METHOD:PUBLISH
X-WR-CALNAME:aktiefslip.nl
X-ORIGINAL-URL:https://aktiefslip.nl
X-WR-CALDESC:Events for aktiefslip.nl
REFRESH-INTERVAL;VALUE=DURATION:PT1H
X-Robots-Tag:noindex
X-PUBLISHED-TTL:PT1H
BEGIN:VTIMEZONE
TZID:Europe/Amsterdam
BEGIN:DAYLIGHT
TZOFFSETFROM:+0100
TZOFFSETTO:+0200
TZNAME:CEST
DTSTART:20240331T010000
END:DAYLIGHT
BEGIN:STANDARD
TZOFFSETFROM:+0200
TZOFFSETTO:+0100
TZNAME:CET
DTSTART:20241027T010000
END:STANDARD
BEGIN:DAYLIGHT
TZOFFSETFROM:+0100
TZOFFSETTO:+0200
TZNAME:CEST
DTSTART:20250330T010000
END:DAYLIGHT
BEGIN:STANDARD
TZOFFSETFROM:+0200
TZOFFSETTO:+0100
TZNAME:CET
DTSTART:20251026T010000
END:STANDARD
BEGIN:DAYLIGHT
TZOFFSETFROM:+0100
TZOFFSETTO:+0200
TZNAME:CEST
DTSTART:20260329T010000
END:DAYLIGHT
BEGIN:STANDARD
TZOFFSETFROM:+0200
TZOFFSETTO:+0100
TZNAME:CET
DTSTART:20261025T010000
END:STANDARD
END:VTIMEZONE
BEGIN:VEVENT
DTSTART;TZID=Europe/Amsterdam:20251125T200000
DTEND;TZID=Europe/Amsterdam:20251125T223000
DTSTAMP:20260419T183904
CREATED:20251103T195518Z
LAST-MODIFIED:20251125T141415Z
UID:26876-1764100800-1764109800@aktiefslip.nl
SUMMARY:Wine tasting [PaPi x Nitocra]
DESCRIPTION:📅 Date: 25th of November⏰ Time: 20:00📍 Location: Forum B0404💰 Price: €5 \n\n\n\nDear Nitocrans and Aktief Slippers\, \n\n\n\nAre you interested in meeting new nice people from another study association\, while having a fancy drink🥂? Then come join the love child of PaPi and Nitocra’s SensaCie: A wine tasting event with 6 different wines 🍷 (sparkling\, white\, rosé\, red\, port) per person and learn about their backstories! ✨ Because we want to indulge you with good quality wines\, we ask for a contribution of €5\,- and there are limited spots\, so make sure you sign up fast. With delicious wines\, interesting stories and even better company this promises to be a fun night! 🍾
URL:https://aktiefslip.nl/event/wine-tasting-papi-x-nitocra/
ATTACH;FMTTYPE=image/png:https://aktiefslip.nl/wp-content/uploads/2025/11/25th-of-November_Mark-Pasman.png
END:VEVENT
END:VCALENDAR