BEGIN:VCALENDAR
VERSION:2.0
PRODID:-//aktiefslip.nl - ECPv6.15.10//NONSGML v1.0//EN
CALSCALE:GREGORIAN
METHOD:PUBLISH
X-ORIGINAL-URL:https://aktiefslip.nl
X-WR-CALDESC:Events for aktiefslip.nl
REFRESH-INTERVAL;VALUE=DURATION:PT1H
X-Robots-Tag:noindex
X-PUBLISHED-TTL:PT1H
BEGIN:VTIMEZONE
TZID:Europe/Amsterdam
BEGIN:DAYLIGHT
TZOFFSETFROM:+0100
TZOFFSETTO:+0200
TZNAME:CEST
DTSTART:20240331T010000
END:DAYLIGHT
BEGIN:STANDARD
TZOFFSETFROM:+0200
TZOFFSETTO:+0100
TZNAME:CET
DTSTART:20241027T010000
END:STANDARD
BEGIN:DAYLIGHT
TZOFFSETFROM:+0100
TZOFFSETTO:+0200
TZNAME:CEST
DTSTART:20250330T010000
END:DAYLIGHT
BEGIN:STANDARD
TZOFFSETFROM:+0200
TZOFFSETTO:+0100
TZNAME:CET
DTSTART:20251026T010000
END:STANDARD
BEGIN:DAYLIGHT
TZOFFSETFROM:+0100
TZOFFSETTO:+0200
TZNAME:CEST
DTSTART:20260329T010000
END:DAYLIGHT
BEGIN:STANDARD
TZOFFSETFROM:+0200
TZOFFSETTO:+0100
TZNAME:CET
DTSTART:20261025T010000
END:STANDARD
END:VTIMEZONE
BEGIN:VEVENT
DTSTART;TZID=Europe/Amsterdam:20251113T131500
DTEND;TZID=Europe/Amsterdam:20251113T140000
DTSTAMP:20260419T183953
CREATED:20251030T224614Z
LAST-MODIFIED:20251030T224748Z
UID:26855-1763039700-1763042400@aktiefslip.nl
SUMMARY:Galacie open meeting
DESCRIPTION:When: 13th November 13:15 to 14:00Where: Forum B0329Every two years Aktief Slip throws a glamourous gala for all members and some special plus ones. This year our gala committee ‘galacie’ is out of its dormant period and ready to plan the gala of 2026. If you are interested in gaining some organizational\, communicational and planning skills or simply enjoy throwing fabulous parties\, check out our first meeting on the 13th of November. This is an open meeting for anyone who is sure\, or for those who have doubts; to meet the old galacie members and see what it’s all about.If you are interested in joining but cannot make it to this meeting\, please contact intern.aktiefslip@wur.nl. Hope to see you soon!!!!!!
URL:https://aktiefslip.nl/event/galacie-open-meeting/
ATTACH;FMTTYPE=image/png:https://aktiefslip.nl/wp-content/uploads/2025/10/promo-galacie_Lola-Patterson-Cass.png
END:VEVENT
BEGIN:VEVENT
DTSTART;TZID=Europe/Amsterdam:20251113T200000
DTEND;TZID=Europe/Amsterdam:20251113T223000
DTSTAMP:20260419T183953
CREATED:20251010T134945Z
LAST-MODIFIED:20251107T134204Z
UID:26791-1763064000-1763073000@aktiefslip.nl
SUMMARY:Jam Session [CharityCie]
DESCRIPTION:Jam session – Fundraiser event for Buddy to Buddy Wageningen⭐️⭐️Join us next Thursday 13th November anytime from 20:00-22:30 for an immersive jam session🎶🌝 Are you a musician? Bring your instrument and jam along! Or are you more of a listener and music appreciator? Come listen and support your local artists🌀💫 We’ll be selling Gluhwein\, (vegan) hot chocolate and more beverages to warm your soul\, and raise money for Buddy to Buddy Wageningen- so don’t forget to bring your own cup! This organisation helps connect newcomers who had to leave their country of origin to fellow citizens based on equivalence and shared interests. We chose to fundraiser for Buddy to Buddy due to their inspiring projects aiming to create a more equal and inclusive Wageningen community💚 So come along\, bring your instruments or good spirits and see you in the Droevendaal Common Barrak!!Note- everyone is welcome\, whether you are a student or not 🙂
URL:https://aktiefslip.nl/event/jam-session-charitycie/
ATTACH;FMTTYPE=image/jpeg:https://aktiefslip.nl/wp-content/uploads/2025/10/IMG_0170_Ines-Farah.jpeg
END:VEVENT
END:VCALENDAR