BEGIN:VCALENDAR
VERSION:2.0
PRODID:-//aktiefslip.nl - ECPv6.15.10//NONSGML v1.0//EN
CALSCALE:GREGORIAN
METHOD:PUBLISH
X-WR-CALNAME:aktiefslip.nl
X-ORIGINAL-URL:https://aktiefslip.nl
X-WR-CALDESC:Events for aktiefslip.nl
REFRESH-INTERVAL;VALUE=DURATION:PT1H
X-Robots-Tag:noindex
X-PUBLISHED-TTL:PT1H
BEGIN:VTIMEZONE
TZID:Europe/Amsterdam
BEGIN:DAYLIGHT
TZOFFSETFROM:+0100
TZOFFSETTO:+0200
TZNAME:CEST
DTSTART:20240331T010000
END:DAYLIGHT
BEGIN:STANDARD
TZOFFSETFROM:+0200
TZOFFSETTO:+0100
TZNAME:CET
DTSTART:20241027T010000
END:STANDARD
BEGIN:DAYLIGHT
TZOFFSETFROM:+0100
TZOFFSETTO:+0200
TZNAME:CEST
DTSTART:20250330T010000
END:DAYLIGHT
BEGIN:STANDARD
TZOFFSETFROM:+0200
TZOFFSETTO:+0100
TZNAME:CET
DTSTART:20251026T010000
END:STANDARD
BEGIN:DAYLIGHT
TZOFFSETFROM:+0100
TZOFFSETTO:+0200
TZNAME:CEST
DTSTART:20260329T010000
END:DAYLIGHT
BEGIN:STANDARD
TZOFFSETFROM:+0200
TZOFFSETTO:+0100
TZNAME:CET
DTSTART:20261025T010000
END:STANDARD
END:VTIMEZONE
BEGIN:VEVENT
DTSTART;TZID=Europe/Amsterdam:20251111T170000
DTEND;TZID=Europe/Amsterdam:20251111T183000
DTSTAMP:20260419T183902
CREATED:20251027T183640Z
LAST-MODIFIED:20251110T110424Z
UID:26844-1762880400-1762885800@aktiefslip.nl
SUMMARY:BasketBall Clinic [SportCie]
DESCRIPTION:Basketball Clinic with SBA Sphinx🏀 \n\n\n\nReady to shoot some hoops? 🧡Join us on Tuesday 11th of November\, from 17:00 to 18:30 at de Bongerd Hall 4 for an exciting basketball clinic led by Sphinx\, the basketball association of Wageningen! \n\n\n\nYou’ll learn some basics of basketball and then put them into action in fun games🙌No experience needed! Whether you’re a total beginner or a hoops enthusiast\, everyone’s welcome! \n\n\n\nCome play\, learn and have fun with us! 🏆(Make sure to sign-up on the website)
URL:https://aktiefslip.nl/event/basketball-clinic-sportcie/
ATTACH;FMTTYPE=image/png:https://aktiefslip.nl/wp-content/uploads/2025/10/BasketBall-Clinic_20251028_232232_0000_Coline-Renardy.png
END:VEVENT
END:VCALENDAR