BEGIN:VCALENDAR
VERSION:2.0
PRODID:-//aktiefslip.nl - ECPv6.15.10//NONSGML v1.0//EN
CALSCALE:GREGORIAN
METHOD:PUBLISH
X-ORIGINAL-URL:https://aktiefslip.nl
X-WR-CALDESC:Events for aktiefslip.nl
REFRESH-INTERVAL;VALUE=DURATION:PT1H
X-Robots-Tag:noindex
X-PUBLISHED-TTL:PT1H
BEGIN:VTIMEZONE
TZID:Europe/Amsterdam
BEGIN:DAYLIGHT
TZOFFSETFROM:+0100
TZOFFSETTO:+0200
TZNAME:CEST
DTSTART:20240331T010000
END:DAYLIGHT
BEGIN:STANDARD
TZOFFSETFROM:+0200
TZOFFSETTO:+0100
TZNAME:CET
DTSTART:20241027T010000
END:STANDARD
BEGIN:DAYLIGHT
TZOFFSETFROM:+0100
TZOFFSETTO:+0200
TZNAME:CEST
DTSTART:20250330T010000
END:DAYLIGHT
BEGIN:STANDARD
TZOFFSETFROM:+0200
TZOFFSETTO:+0100
TZNAME:CET
DTSTART:20251026T010000
END:STANDARD
BEGIN:DAYLIGHT
TZOFFSETFROM:+0100
TZOFFSETTO:+0200
TZNAME:CEST
DTSTART:20260329T010000
END:DAYLIGHT
BEGIN:STANDARD
TZOFFSETFROM:+0200
TZOFFSETTO:+0100
TZNAME:CET
DTSTART:20261025T010000
END:STANDARD
END:VTIMEZONE
BEGIN:VEVENT
DTSTART;TZID=Europe/Amsterdam:20251011T080000
DTEND;TZID=Europe/Amsterdam:20251011T170000
DTSTAMP:20260419T171650
CREATED:20250713T152309Z
LAST-MODIFIED:20250915T112928Z
UID:17191-1760169600-1760202000@aktiefslip.nl
SUMMARY:Veluweloop [BataCie]
DESCRIPTION:Veluweloop 2025 – 43rd edition \n\n\n\n📆 11 October 2025 8:00 AM – 6:00 PM \n\n\n\n📍 Wageningen and surroundings \n\n\n\nDear Aktief slippers\, \n\n\n\nOn Saturday October 11th the 43rd Veluweloop will take place🏃🏃‍This is a 12 person relay race with distances ranging from 4 to 12 km. It will both start and finish on our WUR-campus and go through the Veluwe\, our closest and largest nature reserve. 🌿.We will also take part in this student relay event with an Aktief Slip team!💪🏽😤 Whether you are a dedicated runner or you just want to try a running competition for the first time\, this day is a nice exercise for all. The costs will be approximately €8 pp. \n\n\n\nSo let’s get active and sign up via the link below! Register latest on September 26th 11:59 PM: https://forms.office.com/e/xAj01s4Wb2
URL:https://aktiefslip.nl/event/veluwloop-batacie/
ATTACH;FMTTYPE=image/png:https://aktiefslip.nl/wp-content/uploads/2025/07/Green-Illustrative-Run-with-the-Rising-Sun-Po_Justin-Bruns.png
END:VEVENT
END:VCALENDAR