BEGIN:VCALENDAR
VERSION:2.0
PRODID:-//aktiefslip.nl - ECPv6.15.10//NONSGML v1.0//EN
CALSCALE:GREGORIAN
METHOD:PUBLISH
X-ORIGINAL-URL:https://aktiefslip.nl
X-WR-CALDESC:Events for aktiefslip.nl
REFRESH-INTERVAL;VALUE=DURATION:PT1H
X-Robots-Tag:noindex
X-PUBLISHED-TTL:PT1H
BEGIN:VTIMEZONE
TZID:Europe/Amsterdam
BEGIN:DAYLIGHT
TZOFFSETFROM:+0100
TZOFFSETTO:+0200
TZNAME:CEST
DTSTART:20240331T010000
END:DAYLIGHT
BEGIN:STANDARD
TZOFFSETFROM:+0200
TZOFFSETTO:+0100
TZNAME:CET
DTSTART:20241027T010000
END:STANDARD
BEGIN:DAYLIGHT
TZOFFSETFROM:+0100
TZOFFSETTO:+0200
TZNAME:CEST
DTSTART:20250330T010000
END:DAYLIGHT
BEGIN:STANDARD
TZOFFSETFROM:+0200
TZOFFSETTO:+0100
TZNAME:CET
DTSTART:20251026T010000
END:STANDARD
BEGIN:DAYLIGHT
TZOFFSETFROM:+0100
TZOFFSETTO:+0200
TZNAME:CEST
DTSTART:20260329T010000
END:DAYLIGHT
BEGIN:STANDARD
TZOFFSETFROM:+0200
TZOFFSETTO:+0100
TZNAME:CET
DTSTART:20261025T010000
END:STANDARD
END:VTIMEZONE
BEGIN:VEVENT
DTSTART;TZID=Europe/Amsterdam:20251002T131500
DTEND;TZID=Europe/Amsterdam:20251010T140000
DTSTAMP:20260419T160548
CREATED:20250813T215122Z
LAST-MODIFIED:20250929T152625Z
UID:17231-1759410900-1760104800@aktiefslip.nl
SUMMARY:Committee Open Meetings
DESCRIPTION:👀 Ever wondered how our events come to life? \n\n\n\n \n\n\n\nNow’s your chance to find out! Committees usually meet every two weeks\, and this time they’re opening their doors to curious members like you. Whether you’re thinking of joining a committee🤔 or just want to see how events are organized\, this is the perfect opportunity to see what it’s all about! \n\n\n\n \n\n\n\nEvery day\, two committees will be meeting (sadly you can’t attend both). Don’t worry\, attending doesn’t mean you’re committing to anything\, it’s just a chill way to learn more about the process. \n\n\n\n \n\n\n\nMake sure to check the schedule 🗓 and room info📍!
URL:https://aktiefslip.nl/event/committee-open-meetings/
ATTACH;FMTTYPE=image/png:https://aktiefslip.nl/wp-content/uploads/2025/08/1_Coline-Renardy.png
END:VEVENT
BEGIN:VEVENT
DTSTART;TZID=Europe/Amsterdam:20251003T080000
DTEND;TZID=Europe/Amsterdam:20251005T170000
DTSTAMP:20260419T160548
CREATED:20250617T102136Z
LAST-MODIFIED:20250901T143646Z
UID:17146-1759478400-1759683600@aktiefslip.nl
SUMMARY:EKO Weekend 
DESCRIPTION:🌿 EKO Weekend 2025 – Walk the Plank!🏴‍☠ \n\n\n\n \n\n\n\nAhoy First Years\, \n\n\n\n \n\n\n\nWant to get to know your fellow Environmental Scientists while having an unforgettable weekend away? This is your chance! \n\n\n\n \n\n\n\nJoin us for the legendary EKO Weekend\, a fun-filled trip packed with games\, outdoor activities\, and surprises — all while exploring a beautiful part of the Netherlands at our secret location!🗺 \n\n\n\n \n\n\n\n🗓 When: Friday evening\, 3 October – Sunday\, 5 October💶 Cost: No more than €20 (includes accommodation\, activities\, and meals)📍 Where: A surprise location (trust us — it’s worth the wait!) \n\n\n\n \n\n\n\nMake sure to sign up before 25 September and get ready for a weekend of laughs\, new friends\, and great memories. \n\n\n\n \n\n\n\nHope to see you there!🌱 The EKO Committee
URL:https://aktiefslip.nl/event/eko-weekend-4/
ATTACH;FMTTYPE=image/png:https://aktiefslip.nl/wp-content/uploads/2025/06/EKO-weekend-1_Emi-Khayat.png
END:VEVENT
END:VCALENDAR