BEGIN:VCALENDAR
VERSION:2.0
PRODID:-//aktiefslip.nl - ECPv6.15.10//NONSGML v1.0//EN
CALSCALE:GREGORIAN
METHOD:PUBLISH
X-ORIGINAL-URL:https://aktiefslip.nl
X-WR-CALDESC:Events for aktiefslip.nl
REFRESH-INTERVAL;VALUE=DURATION:PT1H
X-Robots-Tag:noindex
X-PUBLISHED-TTL:PT1H
BEGIN:VTIMEZONE
TZID:Europe/Amsterdam
BEGIN:DAYLIGHT
TZOFFSETFROM:+0100
TZOFFSETTO:+0200
TZNAME:CEST
DTSTART:20240331T010000
END:DAYLIGHT
BEGIN:STANDARD
TZOFFSETFROM:+0200
TZOFFSETTO:+0100
TZNAME:CET
DTSTART:20241027T010000
END:STANDARD
BEGIN:DAYLIGHT
TZOFFSETFROM:+0100
TZOFFSETTO:+0200
TZNAME:CEST
DTSTART:20250330T010000
END:DAYLIGHT
BEGIN:STANDARD
TZOFFSETFROM:+0200
TZOFFSETTO:+0100
TZNAME:CET
DTSTART:20251026T010000
END:STANDARD
BEGIN:DAYLIGHT
TZOFFSETFROM:+0100
TZOFFSETTO:+0200
TZNAME:CEST
DTSTART:20260329T010000
END:DAYLIGHT
BEGIN:STANDARD
TZOFFSETFROM:+0200
TZOFFSETTO:+0100
TZNAME:CET
DTSTART:20261025T010000
END:STANDARD
END:VTIMEZONE
BEGIN:VEVENT
DTSTART;TZID=Europe/Amsterdam:20250930T183000
DTEND;TZID=Europe/Amsterdam:20250930T220000
DTSTAMP:20260419T160605
CREATED:20250617T102014Z
LAST-MODIFIED:20250813T213239Z
UID:17142-1759257000-1759269600@aktiefslip.nl
SUMMARY:FGMM 
DESCRIPTION:Tuesday\, September 30thRoom: TBDTime: 18:30-22:00 \n\n\n\nAs the financial year comes to a close\, it is time to allocate the new budget! 💸 Come the the annual FGMM (Financial general members’ meeting) to get an overview of the last bookyear and the allocation of budget for the new bookyear. Free drinks and snacks provided. Come have your voice heard regarding Aktief Slip’s finances or just come to be informed. See you there!
URL:https://aktiefslip.nl/event/fgmm-3/
ATTACH;FMTTYPE=image/jpeg:https://aktiefslip.nl/wp-content/uploads/2025/06/SAVE_20250731_162331_Vilem-Cech.jpg
END:VEVENT
END:VCALENDAR