BEGIN:VCALENDAR
VERSION:2.0
PRODID:-//aktiefslip.nl - ECPv6.15.10//NONSGML v1.0//EN
CALSCALE:GREGORIAN
METHOD:PUBLISH
X-WR-CALNAME:aktiefslip.nl
X-ORIGINAL-URL:https://aktiefslip.nl
X-WR-CALDESC:Events for aktiefslip.nl
REFRESH-INTERVAL;VALUE=DURATION:PT1H
X-Robots-Tag:noindex
X-PUBLISHED-TTL:PT1H
BEGIN:VTIMEZONE
TZID:Europe/Amsterdam
BEGIN:DAYLIGHT
TZOFFSETFROM:+0100
TZOFFSETTO:+0200
TZNAME:CEST
DTSTART:20240331T010000
END:DAYLIGHT
BEGIN:STANDARD
TZOFFSETFROM:+0200
TZOFFSETTO:+0100
TZNAME:CET
DTSTART:20241027T010000
END:STANDARD
BEGIN:DAYLIGHT
TZOFFSETFROM:+0100
TZOFFSETTO:+0200
TZNAME:CEST
DTSTART:20250330T010000
END:DAYLIGHT
BEGIN:STANDARD
TZOFFSETFROM:+0200
TZOFFSETTO:+0100
TZNAME:CET
DTSTART:20251026T010000
END:STANDARD
BEGIN:DAYLIGHT
TZOFFSETFROM:+0100
TZOFFSETTO:+0200
TZNAME:CEST
DTSTART:20260329T010000
END:DAYLIGHT
BEGIN:STANDARD
TZOFFSETFROM:+0200
TZOFFSETTO:+0100
TZNAME:CET
DTSTART:20261025T010000
END:STANDARD
END:VTIMEZONE
BEGIN:VEVENT
DTSTART;TZID=Europe/Amsterdam:20250924T170000
DTEND;TZID=Europe/Amsterdam:20250924T203000
DTSTAMP:20260419T160551
CREATED:20250617T101938Z
LAST-MODIFIED:20250922T201508Z
UID:17140-1758733200-1758745800@aktiefslip.nl
SUMMARY:Master MUN [Educacie x Mastercie x WURMUN] 
DESCRIPTION:🌿 Debate Evening 🌿Curious about how Indigenous voices shape global climate action?Join us for a MUN-style debate on the role of Indigenous peoples in environmental policy. Step into the shoes of international delegates\, exchange perspectives\, and explore how traditional knowledge meets modern challenges. \n\n\n\n📍 Location TBD📅 September 24th\, 17:00 – 20:30✨ Open to anyone – whether you’re a seasoned debater or just curious! \n\n\n\nSign up now!https://forms.gle/9HyKdE9FEwvdTgmMA
URL:https://aktiefslip.nl/event/master-mun-educacie-x-mastercie-x-wurmun/
ATTACH;FMTTYPE=image/png:https://aktiefslip.nl/wp-content/uploads/2025/06/Yellow-Illustrated-Debates-Presentation-940_Twan-Ooink-1.png
END:VEVENT
END:VCALENDAR