BEGIN:VCALENDAR
VERSION:2.0
PRODID:-//aktiefslip.nl - ECPv6.15.10//NONSGML v1.0//EN
CALSCALE:GREGORIAN
METHOD:PUBLISH
X-ORIGINAL-URL:https://aktiefslip.nl
X-WR-CALDESC:Events for aktiefslip.nl
REFRESH-INTERVAL;VALUE=DURATION:PT1H
X-Robots-Tag:noindex
X-PUBLISHED-TTL:PT1H
BEGIN:VTIMEZONE
TZID:Europe/Amsterdam
BEGIN:DAYLIGHT
TZOFFSETFROM:+0100
TZOFFSETTO:+0200
TZNAME:CEST
DTSTART:20240331T010000
END:DAYLIGHT
BEGIN:STANDARD
TZOFFSETFROM:+0200
TZOFFSETTO:+0100
TZNAME:CET
DTSTART:20241027T010000
END:STANDARD
BEGIN:DAYLIGHT
TZOFFSETFROM:+0100
TZOFFSETTO:+0200
TZNAME:CEST
DTSTART:20250330T010000
END:DAYLIGHT
BEGIN:STANDARD
TZOFFSETFROM:+0200
TZOFFSETTO:+0100
TZNAME:CET
DTSTART:20251026T010000
END:STANDARD
BEGIN:DAYLIGHT
TZOFFSETFROM:+0100
TZOFFSETTO:+0200
TZNAME:CEST
DTSTART:20260329T010000
END:DAYLIGHT
BEGIN:STANDARD
TZOFFSETFROM:+0200
TZOFFSETTO:+0100
TZNAME:CET
DTSTART:20261025T010000
END:STANDARD
END:VTIMEZONE
BEGIN:VEVENT
DTSTART;TZID=Europe/Amsterdam:20250923T160000
DTEND;TZID=Europe/Amsterdam:20250923T190000
DTSTAMP:20260419T160604
CREATED:20250626T135245Z
LAST-MODIFIED:20250901T143811Z
UID:17180-1758643200-1758654000@aktiefslip.nl
SUMMARY:Beach Volleyball [SportCie]
DESCRIPTION:Hey Aktief Slippers! Get ready for the first Sportcie event of the year🎉 . The 23rd of September from 16:00 to 19:00 we’ll gather outside the Bongerd for an afternoon of beach volleyball🏐🏖️ . Doesn’t matter if you are a pro or you just want to try out this fun sport\, all skill levels are welcomed! So\, bring your friends to play with and against them. We’ll also have some snacks for you to enjoy during and after the games🧃🍧. See you there!!
URL:https://aktiefslip.nl/event/beach-volleyball-2/
ATTACH;FMTTYPE=image/jpeg:https://aktiefslip.nl/wp-content/uploads/2025/06/WhatsApp-Image-2025-08-19-at-15.17.44_a5060672.jpg
END:VEVENT
END:VCALENDAR