BEGIN:VCALENDAR
VERSION:2.0
PRODID:-//aktiefslip.nl - ECPv6.15.10//NONSGML v1.0//EN
CALSCALE:GREGORIAN
METHOD:PUBLISH
X-ORIGINAL-URL:https://aktiefslip.nl
X-WR-CALDESC:Events for aktiefslip.nl
REFRESH-INTERVAL;VALUE=DURATION:PT1H
X-Robots-Tag:noindex
X-PUBLISHED-TTL:PT1H
BEGIN:VTIMEZONE
TZID:Europe/Amsterdam
BEGIN:DAYLIGHT
TZOFFSETFROM:+0100
TZOFFSETTO:+0200
TZNAME:CEST
DTSTART:20240331T010000
END:DAYLIGHT
BEGIN:STANDARD
TZOFFSETFROM:+0200
TZOFFSETTO:+0100
TZNAME:CET
DTSTART:20241027T010000
END:STANDARD
BEGIN:DAYLIGHT
TZOFFSETFROM:+0100
TZOFFSETTO:+0200
TZNAME:CEST
DTSTART:20250330T010000
END:DAYLIGHT
BEGIN:STANDARD
TZOFFSETFROM:+0200
TZOFFSETTO:+0100
TZNAME:CET
DTSTART:20251026T010000
END:STANDARD
BEGIN:DAYLIGHT
TZOFFSETFROM:+0100
TZOFFSETTO:+0200
TZNAME:CEST
DTSTART:20260329T010000
END:DAYLIGHT
BEGIN:STANDARD
TZOFFSETFROM:+0200
TZOFFSETTO:+0100
TZNAME:CET
DTSTART:20261025T010000
END:STANDARD
END:VTIMEZONE
BEGIN:VEVENT
DTSTART;TZID=Europe/Amsterdam:20250915T131500
DTEND;TZID=Europe/Amsterdam:20250919T140000
DTSTAMP:20260419T160604
CREATED:20250813T215752Z
LAST-MODIFIED:20250814T142601Z
UID:17238-1757942100-1758290400@aktiefslip.nl
SUMMARY:Master Hok Visits [Board]
DESCRIPTION:Did you know Aktief Slip has an awesome office\, called the HOK? Located in Forum on the first floor\, it’s available to all members and always open during lunchtime 🕛 \n\n\n\n \n\n\n\nThe HOK is the perfect spot to chill\, meet new people or just relax between classes. We’ve got comfy coaches\, a desk\, and even a Wii 🎮 for some fun ! \n\n\n\n \n\n\n\nWant to check it out? Master students are invited to stop by during Week 3 of September (preferably MES on Monday\, MUE on Tuesday and MCL on Wednesday). We’ll also have free snacks waiting for you🍪🥤
URL:https://aktiefslip.nl/event/master-hok-visits-board/
ATTACH;FMTTYPE=image/png:https://aktiefslip.nl/wp-content/uploads/2025/08/Master-Hok-visits_Coline-Renardy.png
END:VEVENT
END:VCALENDAR