BEGIN:VCALENDAR
VERSION:2.0
PRODID:-//aktiefslip.nl - ECPv6.15.10//NONSGML v1.0//EN
CALSCALE:GREGORIAN
METHOD:PUBLISH
X-WR-CALNAME:aktiefslip.nl
X-ORIGINAL-URL:https://aktiefslip.nl
X-WR-CALDESC:Events for aktiefslip.nl
REFRESH-INTERVAL;VALUE=DURATION:PT1H
X-Robots-Tag:noindex
X-PUBLISHED-TTL:PT1H
BEGIN:VTIMEZONE
TZID:Europe/Amsterdam
BEGIN:DAYLIGHT
TZOFFSETFROM:+0100
TZOFFSETTO:+0200
TZNAME:CEST
DTSTART:20240331T010000
END:DAYLIGHT
BEGIN:STANDARD
TZOFFSETFROM:+0200
TZOFFSETTO:+0100
TZNAME:CET
DTSTART:20241027T010000
END:STANDARD
BEGIN:DAYLIGHT
TZOFFSETFROM:+0100
TZOFFSETTO:+0200
TZNAME:CEST
DTSTART:20250330T010000
END:DAYLIGHT
BEGIN:STANDARD
TZOFFSETFROM:+0200
TZOFFSETTO:+0100
TZNAME:CET
DTSTART:20251026T010000
END:STANDARD
BEGIN:DAYLIGHT
TZOFFSETFROM:+0100
TZOFFSETTO:+0200
TZNAME:CEST
DTSTART:20260329T010000
END:DAYLIGHT
BEGIN:STANDARD
TZOFFSETFROM:+0200
TZOFFSETTO:+0100
TZNAME:CET
DTSTART:20261025T010000
END:STANDARD
END:VTIMEZONE
BEGIN:VEVENT
DTSTART;TZID=Europe/Amsterdam:20250908T131500
DTEND;TZID=Europe/Amsterdam:20250912T140000
DTSTAMP:20260419T160551
CREATED:20250813T215555Z
LAST-MODIFIED:20250813T215557Z
UID:17235-1757337300-1757685600@aktiefslip.nl
SUMMARY:BES Hok Visits [Board]
DESCRIPTION:Did you know Aktief Slip has an awesome office\, called the HOK? Located in Forum on the first floor\, it’s available to all members and always open during lunchtime 🕛 \n\n\n\nThe HOK is the perfect spot to chill\, meet new people or just relax between classes. We’ve got comfy coaches\, a desk\, and even a Wii 🎮 for some fun ! \n\n\n\nWant to check it out? BES students are invited to stop by during Week 2 of September\, where we’ll have free snacks waiting for you 🍪🥤!
URL:https://aktiefslip.nl/event/bes-hok-visits-board/
ATTACH;FMTTYPE=image/png:https://aktiefslip.nl/wp-content/uploads/2025/08/BES-Hok-visits_Coline-Renardy.png
END:VEVENT
BEGIN:VEVENT
DTSTART;TZID=Europe/Amsterdam:20250910T220000
DTEND;TZID=Europe/Amsterdam:20250911T030000
DTSTAMP:20260419T160551
CREATED:20250617T101635Z
LAST-MODIFIED:20250814T085843Z
UID:17134-1757541600-1757559600@aktiefslip.nl
SUMMARY:Beginning of the year Party [Board] 
DESCRIPTION:🗓 10 September\, 22:00–03:00📍 De Bunker🎭 Iconic Duos — partner up & dress as an iconic pair \n\n\n\n \n\n\n\nHello Aktief Slippers! \n\n\n\nIts that time to start another year off with a bang. This year\, we invite you all to Aktief Slip’s very own beginning of the year party. The theme for this years party is… “ICONIC DUO.” \n\n\n\n \n\n\n\nSo grab a friend\, pick an iconic duo\, and own the night. Think Mario & Luigi\, Sherlock & Watson\, Beyoncé & Jay-Z—surprise us with your spin. Two costumes\, one legend. \n\n\n\n \n\n\n\nPut the date in your agenda and see you on the floor! 🫶🍀 Aktief Slip 🍀
URL:https://aktiefslip.nl/event/beginning-of-the-year-party-board/
ATTACH;FMTTYPE=image/png:https://aktiefslip.nl/wp-content/uploads/2025/06/Beginning-of-the-year-party-promo.png
END:VEVENT
END:VCALENDAR